BEGIN:VCALENDAR
VERSION:2.0
PRODID:-//Kauaʻi Connect - ECPv6.15.20//NONSGML v1.0//EN
CALSCALE:GREGORIAN
METHOD:PUBLISH
X-WR-CALNAME:Kauaʻi Connect
X-ORIGINAL-URL:https://kauaiconnect.com
X-WR-CALDESC:Events for Kauaʻi Connect
REFRESH-INTERVAL;VALUE=DURATION:PT1H
X-Robots-Tag:noindex
X-PUBLISHED-TTL:PT1H
BEGIN:VTIMEZONE
TZID:Pacific/Honolulu
BEGIN:STANDARD
TZOFFSETFROM:-1000
TZOFFSETTO:-1000
TZNAME:HST
DTSTART:20240101T000000
END:STANDARD
END:VTIMEZONE
BEGIN:VTIMEZONE
TZID:UTC
BEGIN:STANDARD
TZOFFSETFROM:+0000
TZOFFSETTO:+0000
TZNAME:UTC
DTSTART:20240101T000000
END:STANDARD
END:VTIMEZONE
BEGIN:VEVENT
DTSTART;TZID=Pacific/Honolulu:20251030T183000
DTEND;TZID=Pacific/Honolulu:20251030T203000
DTSTAMP:20260421T131947
CREATED:20250801T191950Z
LAST-MODIFIED:20251030T062450Z
UID:10001682-1761849000-1761856200@kauaiconnect.com
SUMMARY:Comedy Magic Show
DESCRIPTION:Thursday Nights starting July 31st-Sptember 4th 2025 \nPre-show Pupu’s & Cocktails 630pm-7pm \nShow 7-815pm \nFor two decades Steve Spill & Bozena starred in Santa Monica’s Magicopolis Show\, doing 200 live comedy magic shows per year for theater crowds\, families\, and visiting globetrotters\, and were loved by dozens of celebrities such as Neil Patrick Harris\, Adam Sandler\, Sting\, Howie Mandel\, Chris Rock\, Elton John to name a few who repeatedly brought guests to their shows. And now\, they have brought themselves and their show to their new permanent home\, Kauai. \nAdult smart and family friendly\, not a kiddie show\, best for ages 8 and older.
URL:https://kauaiconnect.com/event/comedy-magic-show-14/
LOCATION:The Cabana Bar & Grill\, 2290 Poipu Rd\, Koloa\, HI 96756\, Koloa\, 96756
CATEGORIES:Island Happenings
ATTACH;FMTTYPE=image/jpeg:https://kauaiconnect.com/wp-content/uploads/updated-comedy-magic-4174Ed.jpg
ORGANIZER;CN="Steve Spill":MAILTO:thecabanakauai@gmail.com
GEO:21.8789497;-159.4562182
X-APPLE-STRUCTURED-LOCATION;VALUE=URI;X-ADDRESS=The Cabana Bar & Grill 2290 Poipu Rd Koloa HI 96756 Koloa 96756;X-APPLE-RADIUS=500;X-TITLE=2290 Poipu Rd\, Koloa\, HI 96756:geo:-159.4562182,21.8789497
END:VEVENT
BEGIN:VEVENT
DTSTART;TZID=Pacific/Honolulu:20251031T000000
DTEND;TZID=Pacific/Honolulu:20251031T000000
DTSTAMP:20260421T131947
CREATED:20250928T235252Z
LAST-MODIFIED:20251031T070840Z
UID:10001773-1761868800-1761868800@kauaiconnect.com
SUMMARY:Kaua‘i Made presents Kaua‘i Products Fair
DESCRIPTION:Kaua‘i Made Craft Fair at Sheraton Kaua‘i Coconut Beach Resort \nOpen to the public • Live music & local artisans \nJoin us on the Coconut Coast for an evening of island-made goods—handcrafted items —set to live music. Meet the makers\, talk story\, and take home a piece of Kaua‘i creativity. \nWhen: Last Fridays\, 4:00–7:30 PMWhere: Sheraton Kaua‘i Coconut Beach Resort\, Kapa‘a
URL:https://kauaiconnect.com/event/kauai-made-presents-kauai-products-fair-3/
LOCATION:Kauai Sheraton Coconut Beach\, 650 Aleka Loop\, Kapaa\, HI\, 96746\, United States
CATEGORIES:Island Happenings
ATTACH;FMTTYPE=image/png:https://kauaiconnect.com/wp-content/uploads/Sheraton-Last-Fridays-of-the-Month-WENY3o.png
ORGANIZER;CN="Kauai Made":MAILTO:kauaimade@kauai.gov
GEO:22.0567237;-159.32307
X-APPLE-STRUCTURED-LOCATION;VALUE=URI;X-ADDRESS=Kauai Sheraton Coconut Beach 650 Aleka Loop Kapaa HI 96746 United States;X-APPLE-RADIUS=500;X-TITLE=650 Aleka Loop:geo:-159.32307,22.0567237
END:VEVENT
BEGIN:VEVENT
DTSTART;TZID=Pacific/Honolulu:20251031T150000
DTEND;TZID=Pacific/Honolulu:20251031T190000
DTSTAMP:20260421T131947
CREATED:20250918T225309Z
LAST-MODIFIED:20251031T070849Z
UID:10001751-1761922800-1761937200@kauaiconnect.com
SUMMARY:Kauai Beach Resort Kauai Made Craft Fair Fridays
DESCRIPTION:🌺 Kaua‘i Beach Resort Craft FairJoin us every Friday at the beautiful Kaua‘i Beach Resort for our weekly Craft Fair. \nDiscover unique handmade items\, local crafts\, jewelry\, art\, and island-inspired treasures created by talented Kaua‘i artisans. It’s the perfect place to find gifts\, keepsakes\, or something special just for you—all while supporting our local makers. \n🗓️ Every Friday📍 Kaua‘i Beach Resort \nCome shop\, connect\, and experience the creativity of Kaua‘i! 🌴✨
URL:https://kauaiconnect.com/event/kauai-beach-resort-kauai-made-craft-fair-fridays-7/
LOCATION:Outrigger Kaua’i Beach Resort & Spa\, 4331 Kauai Beach Dr.\, Lihue\, HI\, 96766\, United States
CATEGORIES:Island Happenings
ATTACH;FMTTYPE=image/jpeg:https://kauaiconnect.com/wp-content/uploads/25-0264-KBR-Kauai-Made-Weekly-Craft-Fair-2-No-Date-V-BKbq0g.jpg
ORGANIZER;CN="Kauai Made":MAILTO:kauaimade@kauai.gov
GEO:22.0099781;-159.3371893
X-APPLE-STRUCTURED-LOCATION;VALUE=URI;X-ADDRESS=Outrigger Kaua’i Beach Resort & Spa 4331 Kauai Beach Dr. Lihue HI 96766 United States;X-APPLE-RADIUS=500;X-TITLE=4331 Kauai Beach Dr.:geo:-159.3371893,22.0099781
END:VEVENT
BEGIN:VEVENT
DTSTART;TZID=Pacific/Honolulu:20251031T180000
DTEND;TZID=Pacific/Honolulu:20251031T200000
DTSTAMP:20260421T131947
CREATED:20250902T213811Z
LAST-MODIFIED:20251031T070841Z
UID:10001720-1761933600-1761940800@kauaiconnect.com
SUMMARY:Harvest Festival for the family
DESCRIPTION:We invite families to come to our Harvest Festival as an alternate to trick o treating on Halloween night.  Our festival will have food\, games\, prizes\, candy and a maze!  Join us on Friday\, October 31st from 6 to 8 pm @ 3370 Poipu Road\, Koloa.
URL:https://kauaiconnect.com/event/harvest-festival-for-the-family/
LOCATION:Koloa Missionary Church\, Poipu Road 3370\, Koloa\, HI\, 96756\, United States
CATEGORIES:Island Happenings
ATTACH;FMTTYPE=image/jpeg:https://kauaiconnect.com/wp-content/uploads/Harvest-Festival-smaller-7NkCzw.jpg
ORGANIZER;CN="Koloa Missionary Church":MAILTO:jmiyamoto@outlook.com
GEO:21.9017438;-159.4661173
X-APPLE-STRUCTURED-LOCATION;VALUE=URI;X-ADDRESS=Koloa Missionary Church Poipu Road 3370 Koloa HI 96756 United States;X-APPLE-RADIUS=500;X-TITLE=Poipu Road 3370:geo:-159.4661173,21.9017438
END:VEVENT
BEGIN:VEVENT
DTSTART;TZID=Pacific/Honolulu:20251031T180000
DTEND;TZID=Pacific/Honolulu:20251031T220000
DTSTAMP:20260421T131947
CREATED:20251021T021045Z
LAST-MODIFIED:20251031T070841Z
UID:10001797-1761933600-1761948000@kauaiconnect.com
SUMMARY:Haunted Tracks & Treats: A SPOOK-TACULAR HALLOWEEN EVENT!
DESCRIPTION:A family-friendly night to support our historic Kaipu train! \nJoin us for an evening of fun featuring festive trunks full of treats\, delicious pupu’s by Keoki’s Paradise\, and a haunted train ride through Grove Farm’s historic tracks. Costumes are encouraged\, fun guaranteed! \nTrunk or Treat:  6:00PM-7:00PM \nTrain Rides: 6:45PM-until pau! \nSuggested Donations: All proceeds support the preservation of Kaipu\, our beloved historic train and tracks! Donations accepted on site via cash or card. \n$20 – Trunk or Treat + Heavy Pupu’s \n$25 – Haunted Halloween Train Ride only \n$40 – All-In Boo Bundle: Trunk or Treat\, Heavy Pupu’s & Train Ride
URL:https://kauaiconnect.com/event/haunted-tracks-treats-a-spook-tacular-halloween-event/
LOCATION:Grove Farm Museum\, 4050 Nawiliwili Road\, Lihue\, 96766
CATEGORIES:Celebration,Featured Events,Island Happenings
ATTACH;FMTTYPE=image/jpeg:https://kauaiconnect.com/wp-content/uploads/large-GroveFarm-Halloween2025-1080x1350-1-rsZfRL.jpg
GEO:21.9678485;-159.3684304
X-APPLE-STRUCTURED-LOCATION;VALUE=URI;X-ADDRESS=Grove Farm Museum 4050 Nawiliwili Road Lihue 96766;X-APPLE-RADIUS=500;X-TITLE=4050 Nawiliwili Road:geo:-159.3684304,21.9678485
END:VEVENT
BEGIN:VEVENT
DTSTART;TZID=UTC:20251031T183000
DTEND;TZID=UTC:20251031T203000
DTSTAMP:20260421T131947
CREATED:20250802T213426Z
LAST-MODIFIED:20251031T015926Z
UID:10001683-1761935400-1761942600@kauaiconnect.com
SUMMARY:Kanikapila
DESCRIPTION:Celebrate Aloha Friday with live music performances by local Kaua’i bands and artists.
URL:https://kauaiconnect.com/event/kanikapila-71/
LOCATION:Hawaii
CATEGORIES:Ongoing Events
END:VEVENT
BEGIN:VEVENT
DTSTART;TZID=Pacific/Honolulu:20251101T090000
DTEND;TZID=Pacific/Honolulu:20251101T160000
DTSTAMP:20260421T131947
CREATED:20240804T010408Z
LAST-MODIFIED:20251101T071525Z
UID:10000513-1761987600-1762012800@kauaiconnect.com
SUMMARY:2025 Eo e Emalani
DESCRIPTION:The 37th Annual Emalani Festival takes place on Saturday\, November 1\, 2025\, in Kōke‘e\, Kaua‘i\, from 9:00 AM to 4:00 PM. \nTents featuring lei-making\, exhibits\, and food will surround the performance and seating area\, creating an immersive cultural experience. Hawaiian music begins at 9:00 AM\, setting the stage for the day’s festivities. \nAt the heart of the festival is the arrival of Queen Emma\, her attendant\, and her guide\, Kaluahi\, on horseback at 10:00 AM. Protocol ceremonies will pay homage to the Queen\, with performances dedicated to her throughout the day. In a special moment\, the Queen may offer a dance of her own. Sponsors and guests are invited to witness this historical event\, authentic Hawaiian protocol\, and genuine Hawaiian cuisine. \nThe event remains free to attend\, but VIP packages will be available on the Eō e Emalani website https://www.eventeny.com/events/ticket/?id=23479. VIP tickets are designed to encourage attendees to use the shuttle service\, reducing traffic\, parking congestion\, and the overall carbon footprint in Kōke‘e. \nVIP Tickets Include:\n\nShuttle service from Kekaha Neighborhood Center (Park and Ride)\nVIP covered seating (bench seating under cover\, fronting the performance area)\nVIP meal (catered by Hālau Ka Pā Hula O Hinano)\nFestival shirt\n\nSupported by the Hawai‘i Tourism Authority through the Community Enrichment Program.
URL:https://kauaiconnect.com/event/2024-eo-e-emalani/
LOCATION:Kokee State Park\, Koke'e\, HI\, 96716\, United States
CATEGORIES:Celebration,Featured Events,Island Happenings
ATTACH;FMTTYPE=image/jpeg:https://kauaiconnect.com/wp-content/uploads/EOE-Queens-entry-AWgEHX.jpg
ORGANIZER;CN="Historic Waimea Theater and Cultural Arts Center":MAILTO:historicwaimeatheater@gmail.com
END:VEVENT
END:VCALENDAR