BEGIN:VCALENDAR
VERSION:2.0
PRODID:-//Kauaʻi Connect - ECPv6.15.20//NONSGML v1.0//EN
CALSCALE:GREGORIAN
METHOD:PUBLISH
X-ORIGINAL-URL:https://kauaiconnect.com
X-WR-CALDESC:Events for Kauaʻi Connect
REFRESH-INTERVAL;VALUE=DURATION:PT1H
X-Robots-Tag:noindex
X-PUBLISHED-TTL:PT1H
BEGIN:VTIMEZONE
TZID:Pacific/Honolulu
BEGIN:STANDARD
TZOFFSETFROM:-1000
TZOFFSETTO:-1000
TZNAME:HST
DTSTART:20240101T000000
END:STANDARD
END:VTIMEZONE
BEGIN:VTIMEZONE
TZID:UTC
BEGIN:STANDARD
TZOFFSETFROM:+0000
TZOFFSETTO:+0000
TZNAME:UTC
DTSTART:20240101T000000
END:STANDARD
END:VTIMEZONE
BEGIN:VEVENT
DTSTART;TZID=Pacific/Honolulu:20250913T120000
DTEND;TZID=Pacific/Honolulu:20251024T180000
DTSTAMP:20260420T115507
CREATED:20250905T215624Z
LAST-MODIFIED:20250913T224013Z
UID:10001721-1757764800-1761328800@kauaiconnect.com
SUMMARY:Art Kauai 2025
DESCRIPTION:Celebrate 40+ years of creativity at Kaua‘i’s premier juried art exhibition! Art Kaua‘i 2025 brings together the island’s most talented artists\, showcasing painting\, sculpture\, photography\, fiber\, ceramics\, and more. Each year\, a guest juror selects the works on view and awards top honors\, making this exhibition a highlight of Hawai‘i’s contemporary art calendar. \nHosted by the Kaua‘i Society of Artists (KSA)\, the show offers visitors a chance to experience the depth and diversity of our island’s visual arts community—whether you’re an art collector\, casual admirer\, or just looking for inspiration. Don’t miss this annual celebration of creativity and culture!
URL:https://kauaiconnect.com/event/art-kauai-2025/
LOCATION:Kauai Society of Artists\, 2600 Kaumualii Hwy #3\, Lihue\, 96766
CATEGORIES:Island Happenings
ATTACH;FMTTYPE=image/jpeg:https://kauaiconnect.com/wp-content/uploads/Art-Kauai-2025-Final-Instagram-Post-45-2-iBkX7T.jpg
ORGANIZER;CN="Kaua&#8217%3Bi Society of Artists":MAILTO:artinkauai@gmail.com
GEO:21.969756;-159.3786872
X-APPLE-STRUCTURED-LOCATION;VALUE=URI;X-ADDRESS=Kauai Society of Artists 2600 Kaumualii Hwy #3 Lihue 96766;X-APPLE-RADIUS=500;X-TITLE=2600 Kaumualii Hwy #3:geo:-159.3786872,21.969756
END:VEVENT
BEGIN:VEVENT
DTSTART;TZID=Pacific/Honolulu:20250921T090000
DTEND;TZID=Pacific/Honolulu:20250921T130000
DTSTAMP:20260420T115507
CREATED:20250623T213442Z
LAST-MODIFIED:20250915T225245Z
UID:10001612-1758445200-1758459600@kauaiconnect.com
SUMMARY:Beach House Craft Fair
DESCRIPTION:A beautiful setting on Kauai’s southside\, just outside the Beach House Restaurant in Poipu! More than 40 vendors offering quality handcrafted items including a wide variety of Kauai Keepsakes\, Clothing\, Jewelry\, Photographs\, Paintings\, Snacks\, and much more!! There is something for everyone!
URL:https://kauaiconnect.com/event/beach-house-craft-fair-30/
LOCATION:Beach House Restaurant\, 5022 Lawai Rd.\, Koloa\, 96756
CATEGORIES:Island Happenings
ATTACH;FMTTYPE=image/jpeg:https://kauaiconnect.com/wp-content/uploads/Beach-House-Craft-fair-image-7-nsurUo.jpg
ORGANIZER;CN="Jeannine Marin/Edwin Vea":MAILTO:mailto:jeannine@thebeachhousekauai.com
GEO:21.8811715;-159.4754205
X-APPLE-STRUCTURED-LOCATION;VALUE=URI;X-ADDRESS=Beach House Restaurant 5022 Lawai Rd. Koloa 96756;X-APPLE-RADIUS=500;X-TITLE=5022 Lawai Rd.:geo:-159.4754205,21.8811715
END:VEVENT
BEGIN:VEVENT
DTSTART;TZID=Pacific/Honolulu:20250921T180000
DTEND;TZID=Pacific/Honolulu:20250921T210000
DTSTAMP:20260420T115507
CREATED:20250731T191944Z
LAST-MODIFIED:20250921T232230Z
UID:10001678-1758477600-1758488400@kauaiconnect.com
SUMMARY:Kauai Concert Series
DESCRIPTION:Arts Kauai presents an evening of music featuring Ken Emerson and Eli Smart.  \nKen is a Grammy winning songwriter and one of the most highly regarded slack key and steel guitarists living today. Ken was featured on Donald Fagen’s (Steely Dan) Grammy award winning Morph the Cat. His many additional touring/recording credits include Jackson Browne\, Boz Scaggs\, Charlie Musselwhite\, Taj Mahal\, Todd Rundgren\, Ramblin’ Jack Elliot\, and Elvin Bishop. \nEli Smart creates music coined “Aloha Soul”—a style that fuses the spirit of Hawaii with the grit of British soul music. Smart\, who studied at the Paul McCartney-founded Liverpool Institute for Performing Arts\, pairs the vibrant sounds Hawaiian lap steel guitar with the dark\, captivating sounds of the bass. The result is a groovy sound that references the styles of the Beatles and Tame Impala. \nKen Emerson:     https://www.youtube.com/@slackken/playlists    \nEli Smart: https://www.youtube.com/@EliSmart/featured \nTickets: https://www.zeffy.com/ticketing/kauai-songwriters-concert-series
URL:https://kauaiconnect.com/event/kauai-concert-series/
LOCATION:Kauai Community College  Performing Arts Center\, 3-1901 Kaumualii Hwy\, Lihue\, HI\, 96766\, United States
CATEGORIES:Island Happenings
ATTACH;FMTTYPE=image/jpeg:https://kauaiconnect.com/wp-content/uploads/KSCS-8.5x11-1-zrsgiz.jpg
ORGANIZER;CN="Arts Kauai%2C DBA Kauai Songwriters":MAILTO:terry@artskauai.org
GEO:21.9649125;-159.4213563
X-APPLE-STRUCTURED-LOCATION;VALUE=URI;X-ADDRESS=Kauai Community College  Performing Arts Center 3-1901 Kaumualii Hwy Lihue HI 96766 United States;X-APPLE-RADIUS=500;X-TITLE=3-1901 Kaumualii Hwy:geo:-159.4213563,21.9649125
END:VEVENT
BEGIN:VEVENT
DTSTART;TZID=Pacific/Honolulu:20250925T183000
DTEND;TZID=Pacific/Honolulu:20250925T203000
DTSTAMP:20260420T115508
CREATED:20250701T170430Z
LAST-MODIFIED:20250925T233900Z
UID:10001636-1758825000-1758832200@kauaiconnect.com
SUMMARY:Comedy Magic Show
DESCRIPTION:Thursday Nights starting July 31st-Sptember 4th 2025 \nPre-show Pupu’s & Cocktails 630pm-7pm \nShow 7-815pm \nFor two decades Steve Spill & Bozena starred in Santa Monica’s Magicopolis Show\, doing 200 live comedy magic shows per year for theater crowds\, families\, and visiting globetrotters\, and were loved by dozens of celebrities such as Neil Patrick Harris\, Adam Sandler\, Sting\, Howie Mandel\, Chris Rock\, Elton John to name a few who repeatedly brought guests to their shows. And now\, they have brought themselves and their show to their new permanent home\, Kauai. \nAdult smart and family friendly\, not a kiddie show\, best for ages 8 and older.
URL:https://kauaiconnect.com/event/comedy-magic-show-9/
LOCATION:The Cabana Bar & Grill\, 2290 Poipu Rd\, Koloa\, HI 96756\, Koloa\, 96756
CATEGORIES:Island Happenings
ATTACH;FMTTYPE=image/jpeg:https://kauaiconnect.com/wp-content/uploads/updated-comedy-magic-4174Ed.jpg
ORGANIZER;CN="Steve Spill":MAILTO:thecabanakauai@gmail.com
GEO:21.8789497;-159.4562182
X-APPLE-STRUCTURED-LOCATION;VALUE=URI;X-ADDRESS=The Cabana Bar & Grill 2290 Poipu Rd Koloa HI 96756 Koloa 96756;X-APPLE-RADIUS=500;X-TITLE=2290 Poipu Rd\, Koloa\, HI 96756:geo:-159.4562182,21.8789497
END:VEVENT
BEGIN:VEVENT
DTSTART;TZID=Pacific/Honolulu:20250926T150000
DTEND;TZID=Pacific/Honolulu:20250926T190000
DTSTAMP:20260420T115508
CREATED:20250918T225248Z
LAST-MODIFIED:20250926T233754Z
UID:10001746-1758898800-1758913200@kauaiconnect.com
SUMMARY:Kauai Beach Resort Kauai Made Craft Fair Fridays
DESCRIPTION:🌺 Kaua‘i Beach Resort Craft FairJoin us every Friday at the beautiful Kaua‘i Beach Resort for our weekly Craft Fair. \nDiscover unique handmade items\, local crafts\, jewelry\, art\, and island-inspired treasures created by talented Kaua‘i artisans. It’s the perfect place to find gifts\, keepsakes\, or something special just for you—all while supporting our local makers. \n🗓️ Every Friday📍 Kaua‘i Beach Resort \nCome shop\, connect\, and experience the creativity of Kaua‘i! 🌴✨
URL:https://kauaiconnect.com/event/kauai-beach-resort-kauai-made-craft-fair-fridays-2/
LOCATION:Outrigger Kaua’i Beach Resort & Spa\, 4331 Kauai Beach Dr.\, Lihue\, HI\, 96766\, United States
CATEGORIES:Island Happenings
ATTACH;FMTTYPE=image/jpeg:https://kauaiconnect.com/wp-content/uploads/25-0264-KBR-Kauai-Made-Weekly-Craft-Fair-2-No-Date-V-BKbq0g.jpg
ORGANIZER;CN="Kauai Made":MAILTO:kauaimade@kauai.gov
GEO:22.0099781;-159.3371893
X-APPLE-STRUCTURED-LOCATION;VALUE=URI;X-ADDRESS=Outrigger Kaua’i Beach Resort & Spa 4331 Kauai Beach Dr. Lihue HI 96766 United States;X-APPLE-RADIUS=500;X-TITLE=4331 Kauai Beach Dr.:geo:-159.3371893,22.0099781
END:VEVENT
BEGIN:VEVENT
DTSTART;TZID=UTC:20250926T183000
DTEND;TZID=UTC:20250926T203000
DTSTAMP:20260420T115508
CREATED:20250628T190334Z
LAST-MODIFIED:20250926T002310Z
UID:10001623-1758911400-1758918600@kauaiconnect.com
SUMMARY:Kanikapila
DESCRIPTION:Celebrate Aloha Friday with live music performances by local Kaua’i bands and artists.
URL:https://kauaiconnect.com/event/kanikapila-66/
LOCATION:Hawaii
CATEGORIES:Ongoing Events
END:VEVENT
BEGIN:VEVENT
DTSTART;TZID=Pacific/Honolulu:20250927T080000
DTEND;TZID=Pacific/Honolulu:20250927T140000
DTSTAMP:20260420T115508
CREATED:20250629T170356Z
LAST-MODIFIED:20250927T233752Z
UID:10001624-1758960000-1758981600@kauaiconnect.com
SUMMARY:Kauai Island Crafters Fair
DESCRIPTION:🌺 Artisans & Crafters Fair hosted by Kauai Island Crafters Fair! 🌺 \nEmbark on a journey of creativity and culture at the Kauai Island Crafters Fair\, a celebrated event with a 15-year tradition of bringing together the best of Kauai’s local artisans and crafters.  Nestled in the heart of this breathtaking island\, our fair showcases the essence of Kauai’s craftsmanship\, offering a unique opportunity for both visitors and locals to connect with the vibrant artistic spirit of the community.  Step into a world where every item tells a story\, as skilled Kauai artisans proudly display their locally handmade treasures.  Immerse yourself in a shopping experience where each handcrafted product is a piece of Kauai’s soul\, inviting you to take home a special memento of your island vacation. \n✨ Event Highlights: \n\nShop Handmade: Explore a diverse selection of locally crafted items\, from jewelry to home décor\, art\, clothing\, sewn textiles\, and more.\nMeet the Makers: Get to know the talented artisans behind the creations and hear the stories that inspire their work.\nSupport Local: By attending\, you’re helping small Kauai businesses thrive and preserving the island’s rich cultural artistry.\n\n📍 Location: Indoors with convenient outdoor parking. \nBring your family and friends and immerse yourself in the warmth and creativity of Kauai’s local community. Don’t miss this opportunity to discover that perfect handmade treasure! \n📣 Interested vendors can reach out to kauaiislandcraftersfair@gmail.com.  Spread the word\, tag your friends\, and follow @kauaiislandcraftersfair – Let’s support Kauai’s local artisans together! \n#KauaiIslandCraftersFair #ShopLocalKauai #SupportSmallBusiness #HandmadeOnKauai #kauaicraftfair #kauaishopping #koloaneighborhoodcenter #kauaihandmadegifts #kauaisouvenirs #kauaivacation #kauaihawaii
URL:https://kauaiconnect.com/event/kauai-island-crafters-fair-48/
LOCATION:Kauai Veterans Center\, 3215 Kapule Hwy\, Lihue\, HI\, 96766\, United States
CATEGORIES:Island Happenings
ATTACH;FMTTYPE=image/jpeg:https://kauaiconnect.com/wp-content/uploads/Rainbow-Wave-JClabo-2024-BExuqu.tmp_.jpg
ORGANIZER;CN="Debbie Yanagihara":MAILTO:kauaiislandcf@hotmail.com
GEO:21.9748624;-159.3537295
X-APPLE-STRUCTURED-LOCATION;VALUE=URI;X-ADDRESS=Kauai Veterans Center 3215 Kapule Hwy Lihue HI 96766 United States;X-APPLE-RADIUS=500;X-TITLE=3215 Kapule Hwy:geo:-159.3537295,21.9748624
END:VEVENT
BEGIN:VEVENT
DTSTART;TZID=Pacific/Honolulu:20250927T083000
DTEND;TZID=Pacific/Honolulu:20250927T110000
DTSTAMP:20260420T115508
CREATED:20250708T173438Z
LAST-MODIFIED:20250927T233753Z
UID:10001654-1758961800-1758970800@kauaiconnect.com
SUMMARY:12th Annual Ohana FitFest
DESCRIPTION:Presented by the 501(c)(3) nonprofit North Shore Give\, Ohana FitFest is an annual 5k fun run/walk with family-friendly obstacles along the way. This event celebrates our community\, combines fun and fitness\, and benefits our keiki. Grants from this year’s event proceeds will be donated to Kaua’i North Shore elementary and secondary schools to help fund fitness programs and/or equipment. \n \n12th Annual Ohana FitFest\n\nSaturday\, September 27\, 2025\nPrinceville Makai Golf Club: Woods Course\nOhanaFitFest.com\n \n\nThe fun run/walk takes place at the Woods Course in Princeville where runners will climb\, crawl\, and test their coordination on obstacles along the way. Participants are encouraged to link their individual registrations to a team; special prizes will be given to the largest team\, team with the most spirit\, and fastest overall team.\n \nFrom proceeds of this annual event\, over $120\,000 have been donated to many non-profit organizations including: Hanalei Elementary School\, Kīlauea Elementary School\, Kauai Christian Academy\, Homeschool of Kauaʻi\, Kanuikapono Charter School\, Anaina Hou
URL:https://kauaiconnect.com/event/12th-annual-ohana-fitfest/
LOCATION:Makai Golf Club\, Lei O Papa Road 4080\, Princeville\, HI\, 96722\, United States
CATEGORIES:Celebration,Featured Events,Island Happenings
ATTACH;FMTTYPE=image/jpeg:https://kauaiconnect.com/wp-content/uploads/OhanaFitFest_6x9postcardfront-gtiR5S.jpg
ORGANIZER;CN="Kaua&#8217%3Bi Community North Shore Foundation":MAILTO:chlafratta@gmail.com
GEO:22.2182199;-159.488143
X-APPLE-STRUCTURED-LOCATION;VALUE=URI;X-ADDRESS=Makai Golf Club Lei O Papa Road 4080 Princeville HI 96722 United States;X-APPLE-RADIUS=500;X-TITLE=Lei O Papa Road 4080:geo:-159.488143,22.2182199
END:VEVENT
BEGIN:VEVENT
DTSTART;TZID=Pacific/Honolulu:20250927T173000
DTEND;TZID=Pacific/Honolulu:20250927T213000
DTSTAMP:20260420T115508
CREATED:20250830T212351Z
LAST-MODIFIED:20250927T233753Z
UID:10001716-1758994200-1759008600@kauaiconnect.com
SUMMARY:Prezident Brown with special guest Reggae Angels
DESCRIPTION:Prezident Brown – Tickets Here\nwith special guest Reggae Angels \nShow Date\nSaturday\, September 27\, 2025 \nPrezident Brown\nFitz Albert Cotterell aka Prezident Brown was born in Johnny’s Hill district on the Bullhead Mountain\, Jamaica in the mid-1960’s and raised in Oracabessa\, St Mary. He built up a reputation by performing on local sound systems throughout the 1980’s\, under various names including Junior Ranking\, before starting his recording career in the late 1980’s. He was given the name Prezident Brown by producer and sound system operator Jack Ruby\, who made him the resident deejay on his Hi-Power sound system. Early singles included “Tears” and “Everything Is Right” (with Jack Radics) and (Professor Frisky) and all time Jamaican favorite song ‘Mickey Mouse” on the DigitalB label. His lyrics concentrate on cultural themes. He broke through to a wider audience with performances in 1995 at the Reggae Sumfest and Reggae Sunsplash festivals. He recorded the anti-drugs song “Blow Your Nose” with Everton Blender\, and “Wrong Or Right”\, which received international daytime radio play. He was also featured on “Black And Proud” on the Steel Pulse album Rage And Fury. He collaborated with Anthony Red Rose and Anthony Malvo on “Red Alert”\, which topped the Jamaican singles chart\, and his continuing success saw him sign to Chris Blackwell’s Island Jamaica label\, although an album recorded for the label was never released. He toured the United States in 2002\, playing 46 shows including an appearance at the Sierra Nevada World Music Festival\, and toured the US again in 2009. In 2012 he released the album I Sound Is From Creation and again toured the US which he continues to do up to date. \n\n\n\nWhat’s included\n\nThis is GA standing room show. We will have some seating sections set up throughout the venue available on a first come first serve basis. \nWe will have some covered raised tables available around the perimeter of the lawned area. \n\n\n\nWhat’s not included\n\nFood and Beverage is NOT included in the ticket price. \nBeverage Concessions both Alcoholic and Non Alcoholic will be available throughout the show. \nFood will be available for purchase on site. The Pavilion Kitchen is open with a full menu of hot meals and snacks. Vegan/ Vegetarian options will be available. \n\n\n\nItinerary\n\n5:30 PM Doors Open\n6:30 PM Reggae Angels\n7:30 PM Prezident Brown \n\n\n\nHighlights\n\nThis show is part of Anaina Hou Community Park’s “Concerts with a Cause” Series.
URL:https://kauaiconnect.com/event/prezident-brown-with-special-guest-reggae-angels/
LOCATION:Anaina Hou Porter Pavilion\, 5-2723 Kuhio Highway\, Kilauea\, 96754
CATEGORIES:Island Happenings
ATTACH;FMTTYPE=image/png:https://kauaiconnect.com/wp-content/uploads/PREZIDENT-BROWN-EYcseB.png
ORGANIZER;CN="Anaina Hou Community Park":MAILTO:community@anainahou.org
GEO:22.2109763;-159.4160471
X-APPLE-STRUCTURED-LOCATION;VALUE=URI;X-ADDRESS=Anaina Hou Porter Pavilion 5-2723 Kuhio Highway Kilauea 96754;X-APPLE-RADIUS=500;X-TITLE=5-2723 Kuhio Highway:geo:-159.4160471,22.2109763
END:VEVENT
END:VCALENDAR