BEGIN:VCALENDAR
VERSION:2.0
PRODID:-//Kauaʻi Connect - ECPv6.15.20//NONSGML v1.0//EN
CALSCALE:GREGORIAN
METHOD:PUBLISH
X-ORIGINAL-URL:https://kauaiconnect.com
X-WR-CALDESC:Events for Kauaʻi Connect
REFRESH-INTERVAL;VALUE=DURATION:PT1H
X-Robots-Tag:noindex
X-PUBLISHED-TTL:PT1H
BEGIN:VTIMEZONE
TZID:Pacific/Honolulu
BEGIN:STANDARD
TZOFFSETFROM:-1000
TZOFFSETTO:-1000
TZNAME:HST
DTSTART:20240101T000000
END:STANDARD
END:VTIMEZONE
BEGIN:VTIMEZONE
TZID:UTC
BEGIN:STANDARD
TZOFFSETFROM:+0000
TZOFFSETTO:+0000
TZNAME:UTC
DTSTART:20240101T000000
END:STANDARD
END:VTIMEZONE
BEGIN:VEVENT
DTSTART;TZID=Pacific/Honolulu:20250831T060000
DTEND;TZID=Pacific/Honolulu:20250831T130000
DTSTAMP:20260422T000246
CREATED:20250602T185014Z
LAST-MODIFIED:20250831T235258Z
UID:10001581-1756620000-1756645200@kauaiconnect.com
SUMMARY:The 16th Annual Kauai Marathon and Half Marathon
DESCRIPTION:The Kauai Marathon and Half Marathon are among the most beautiful destination races in the world. Taking place on August 31\, 2025\, this race offers a unique experience and getaway that only Kauai can provide. Participants will pass by hula dancers and Taiko drum troupes along the course while taking in stunning mountain views. Each runner will conclude their journey along one of the most picturesque oceanfront finish lines in road racing. Sign up today at www.thekauaimarathon.com. Funding provided by the Hawaii Tourism Authority through the Community Enrichment Program.
URL:https://kauaiconnect.com/event/the-16th-annual-kauai-marathon-and-half-marathon/
LOCATION:Poipu Shopping Village\, Kiahuna Plantation Drive 2360\, Koloa\, HI\, 96756\, United States
CATEGORIES:Celebration,Featured Events,Island Happenings
ATTACH;FMTTYPE=image/jpeg:https://kauaiconnect.com/wp-content/uploads/TKM-2022-Da-Kine-Images-6194-copy-yXY1ls.jpg
ORGANIZER;CN="The Kauai Marathon":MAILTO:info@thekauaimarathon.com
GEO:21.8795122;-159.4590061
X-APPLE-STRUCTURED-LOCATION;VALUE=URI;X-ADDRESS=Poipu Shopping Village Kiahuna Plantation Drive 2360 Koloa HI 96756 United States;X-APPLE-RADIUS=500;X-TITLE=Kiahuna Plantation Drive 2360:geo:-159.4590061,21.8795122
END:VEVENT
BEGIN:VEVENT
DTSTART;TZID=Pacific/Honolulu:20250903T153000
DTEND;TZID=Pacific/Honolulu:20250903T180000
DTSTAMP:20260422T000246
CREATED:20250827T223813Z
LAST-MODIFIED:20250903T232407Z
UID:10001711-1756913400-1756922400@kauaiconnect.com
SUMMARY:Tori Richard Hiring Event
DESCRIPTION:Come Meet Us at the Next Culinary Market! Whether you’re a longtime fan or discovering us for the first time\, we invite you to stop by\, say Aloha\, and learn how you can be part of our ‘Ohana — we can’t wait to welcome you!
URL:https://kauaiconnect.com/event/tori-richard-hiring-event-2/
LOCATION:Hawaii
CATEGORIES:Special Events,Special Events and Promotions
ATTACH;FMTTYPE=image/jpeg:https://kauaiconnect.com/wp-content/uploads/7B4BD92E-4464-4EE0-99CF-562F3828DFB1-min-scaled-Z4lDSA.jpg
END:VEVENT
BEGIN:VEVENT
DTSTART;TZID=Pacific/Honolulu:20250904T183000
DTEND;TZID=Pacific/Honolulu:20250904T203000
DTSTAMP:20260422T000246
CREATED:20250701T170429Z
LAST-MODIFIED:20250904T215325Z
UID:10001633-1757010600-1757017800@kauaiconnect.com
SUMMARY:Comedy Magic Show
DESCRIPTION:Thursday Nights starting July 31st-Sptember 4th 2025 \nPre-show Pupu’s & Cocktails 630pm-7pm \nShow 7-815pm \nFor two decades Steve Spill & Bozena starred in Santa Monica’s Magicopolis Show\, doing 200 live comedy magic shows per year for theater crowds\, families\, and visiting globetrotters\, and were loved by dozens of celebrities such as Neil Patrick Harris\, Adam Sandler\, Sting\, Howie Mandel\, Chris Rock\, Elton John to name a few who repeatedly brought guests to their shows. And now\, they have brought themselves and their show to their new permanent home\, Kauai. \nAdult smart and family friendly\, not a kiddie show\, best for ages 8 and older.
URL:https://kauaiconnect.com/event/comedy-magic-show-6/
LOCATION:The Cabana Bar & Grill\, 2290 Poipu Rd\, Koloa\, HI 96756\, Koloa\, 96756
CATEGORIES:Island Happenings
ATTACH;FMTTYPE=image/jpeg:https://kauaiconnect.com/wp-content/uploads/updated-comedy-magic-4174Ed.jpg
ORGANIZER;CN="Steve Spill":MAILTO:thecabanakauai@gmail.com
GEO:21.8789497;-159.4562182
X-APPLE-STRUCTURED-LOCATION;VALUE=URI;X-ADDRESS=The Cabana Bar & Grill 2290 Poipu Rd Koloa HI 96756 Koloa 96756;X-APPLE-RADIUS=500;X-TITLE=2290 Poipu Rd\, Koloa\, HI 96756:geo:-159.4562182,21.8789497
END:VEVENT
BEGIN:VEVENT
DTSTART;TZID=UTC:20250905T183000
DTEND;TZID=UTC:20250905T203000
DTSTAMP:20260422T000246
CREATED:20250607T150348Z
LAST-MODIFIED:20250905T232237Z
UID:10001590-1757097000-1757104200@kauaiconnect.com
SUMMARY:Kanikapila
DESCRIPTION:Celebrate Aloha Friday with live music performances by local Kaua’i bands and artists.
URL:https://kauaiconnect.com/event/kanikapila-63/
LOCATION:Hawaii
CATEGORIES:Ongoing Events
END:VEVENT
BEGIN:VEVENT
DTSTART;TZID=Pacific/Honolulu:20250906T080000
DTEND;TZID=Pacific/Honolulu:20250906T153000
DTSTAMP:20260422T000246
CREATED:20250805T193410Z
LAST-MODIFIED:20250906T221327Z
UID:10001684-1757145600-1757172600@kauaiconnect.com
SUMMARY:Na Mamo Kaiaulu
DESCRIPTION:Nā Mamo Kaiāulu is a community gathering that celebrates the capacity and relevance of traditional Hawaiian healing and cultural practice in today’s world. Taking place on Saturday\, September 6\, 2025\, from 8:00 AM to 3:30 PM at the Kauaʻi War Memorial Convention Hall\, this free\, all-ages event brings together some of Kauaʻi’s most respected kumu and cultural practitioners to share ʻike\, guide healing practices\, and nurture community well-being. \nThis year’s featured workshops include lāʻau lapaʻau (plant-based medicine) with Kumu Ginger Saiki\, lomilomi (traditional massage and bodywork) with Aunty Maco Waialeale and Aunty Gwen Cardejon\, makau (fishhook making) with Kumu Gordon Umi Kai\, and hoʻoponopono (conflict resolution and spiritual alignment) with Kumu Sean Chun. These instructors bring decades of lived experience and lineal knowledge in their practices\, affirming the legitimacy and depth of Hawaiian healing. \nParticipants will also enjoy cultural demonstrations like kapa\, lei hulu\, ulana\, Hawaiian games\, and kuʻi ʻai.  Resource tables from community organizations and local vendors will be on-site\, along with keiki-friendly activities\, food booths featuring laulau and kalua pig\, a Silent Auction and Country Store featuring baked goods\, native plants\, herbal salves and other locally-made items! \nTwo local films exploring -Ai-Responsibilities and Privileges of Eating and Kapu- Sacred Relationships between Land & People- will be screened during the middle of the day\, offering another layer of cultural insight. \nWorkshops are limited so please sign up via the flyer’s QR code.-Join us! Presented by Pihana Ka ʻIkena\, Nā Mamo Kaiāulu is more than an event—it is a reaffirmation of community\, culture\, and healing. Come learn\, connect\, and celebrate.
URL:https://kauaiconnect.com/event/na-mamo-kaiaulu/
LOCATION:Kauai War Memorial Convention Hall\, 4191 Hardy Street\, Lihue\, 96766
CATEGORIES:Celebration,Featured Events,Island Happenings
ATTACH;FMTTYPE=image/jpeg:https://kauaiconnect.com/wp-content/uploads/Na-Mamo-Kaiaulu-Event-Flyer-JPG-2-gSoKIW.jpg
ORGANIZER;CN="Nalani Brun":MAILTO:Geevum@earthlink.net
GEO:21.9733597;-159.3638919
X-APPLE-STRUCTURED-LOCATION;VALUE=URI;X-ADDRESS=Kauai War Memorial Convention Hall 4191 Hardy Street Lihue 96766;X-APPLE-RADIUS=500;X-TITLE=4191 Hardy Street:geo:-159.3638919,21.9733597
END:VEVENT
BEGIN:VEVENT
DTSTART;TZID=Pacific/Honolulu:20250906T190000
DTEND;TZID=Pacific/Honolulu:20250906T220000
DTSTAMP:20260422T000246
CREATED:20250704T170424Z
LAST-MODIFIED:20250906T221328Z
UID:10001641-1757185200-1757196000@kauaiconnect.com
SUMMARY:Kauai Concert Sinfonia: Mahler Symphony No. 1 “Titan”
DESCRIPTION:The Kauaʻi Concert Sinfonia opens KCAʻs 51st Concert Season with Maestro Tito Muñoz conducting Mahler Symphony No.1 “Titan.” The Kauaʻi Concert Sinfonia is Kauaʻi’s FIRST professional orchestra\, with musicians from Kauaʻi\, Oʻahu\, Big Island\, and the mainland. Limited after concert tickets available for a backstage reception with the artists. This year\, they are: \nTito Muñoz\, conductor \nViolin I: \nNelly Kovalev\, concertmaster \nKaycee Milne\, assistant \nViolin II:\nRachel Saul Schifino\, principal \nMahjinka Stebbins \nViola: \nAlexander Peña\, principal \nDrew Ricciardi \nCello: \nJoshua Nakazawa\, prinicpal \nKaren Hall \nBass:\nShawn Conley \nFlute: \nJulia Richter \nOboe: \nMike Albert \nClarinet:\nMelanie Yukumoto\, principal \nBass Clarinet:\nMax Arakaki \nBassoon:\nKevin Hall \nFrench Horn: \nJamie Sanborn\, principal \nColton Hironaka \nTrumpet: \nFarley Sangels \nPercussion: \nJordan Schifino \nHarmonium:\nDaniel Welch \nPiano: \nMonica Chung
URL:https://kauaiconnect.com/event/kauai-concert-sinfonia-mahler-symphony-no-1-titan/
LOCATION:KCC Performing Arts Center\, Lihue\, HI\, 96766\, United States
CATEGORIES:Island Happenings
ATTACH;FMTTYPE=image/jpeg:https://kauaiconnect.com/wp-content/uploads/TITAN-revised-flyer-JPG-1-ELTvMc.jpg
ORGANIZER;CN="Kauai Concert Association":MAILTO:admin@kauai-concert.org
GEO:21.9649125;-159.4213563
END:VEVENT
END:VCALENDAR