BEGIN:VCALENDAR
VERSION:2.0
PRODID:-//Kauaʻi Connect - ECPv6.15.20//NONSGML v1.0//EN
CALSCALE:GREGORIAN
METHOD:PUBLISH
X-WR-CALNAME:Kauaʻi Connect
X-ORIGINAL-URL:https://kauaiconnect.com
X-WR-CALDESC:Events for Kauaʻi Connect
REFRESH-INTERVAL;VALUE=DURATION:PT1H
X-Robots-Tag:noindex
X-PUBLISHED-TTL:PT1H
BEGIN:VTIMEZONE
TZID:Pacific/Honolulu
BEGIN:STANDARD
TZOFFSETFROM:-1000
TZOFFSETTO:-1000
TZNAME:HST
DTSTART:20240101T000000
END:STANDARD
END:VTIMEZONE
BEGIN:VTIMEZONE
TZID:UTC
BEGIN:STANDARD
TZOFFSETFROM:+0000
TZOFFSETTO:+0000
TZNAME:UTC
DTSTART:20240101T000000
END:STANDARD
END:VTIMEZONE
BEGIN:VEVENT
DTSTART;TZID=Pacific/Honolulu:20250622T090000
DTEND;TZID=Pacific/Honolulu:20250622T130000
DTSTAMP:20260424T074930
CREATED:20250521T211930Z
LAST-MODIFIED:20250622T234840Z
UID:10001550-1750582800-1750597200@kauaiconnect.com
SUMMARY:Beach House Craft Fair
DESCRIPTION:A beautiful setting on Kauai’s southside\, just outside the Beach House Restaurant in Poipu! More than 40 vendors offering quality handcrafted items including a wide variety of Kauai Keepsakes\, Clothing\, Jewelry\, Photographs\, Paintings\, Snacks\, and much more!! There is something for everyone!
URL:https://kauaiconnect.com/event/beach-house-craft-fair-26/
LOCATION:Beach House Restaurant\, 5022 Lawai Rd.\, Koloa\, 96756
CATEGORIES:Island Happenings
ATTACH;FMTTYPE=image/jpeg:https://kauaiconnect.com/wp-content/uploads/Beach-House-Craft-fair-image-4-8Xm1FD.jpg
ORGANIZER;CN="Jeannine Marin/Edwin Vea":MAILTO:mailto:jeannine@thebeachhousekauai.com
GEO:21.8811715;-159.4754205
X-APPLE-STRUCTURED-LOCATION;VALUE=URI;X-ADDRESS=Beach House Restaurant 5022 Lawai Rd. Koloa 96756;X-APPLE-RADIUS=500;X-TITLE=5022 Lawai Rd.:geo:-159.4754205,21.8811715
END:VEVENT
BEGIN:VEVENT
DTSTART;TZID=Pacific/Honolulu:20250622T160000
DTEND;TZID=Pacific/Honolulu:20250622T190000
DTSTAMP:20260424T074930
CREATED:20250603T223423Z
LAST-MODIFIED:20250622T234841Z
UID:10001585-1750608000-1750618800@kauaiconnect.com
SUMMARY:Pop Up Speakeasy
DESCRIPTION:Free entry\, live music\, libations\, and ono food. 1 drink minimum. Doors open at 4pm with music by Lady Ipo and friends.
URL:https://kauaiconnect.com/event/pop-up-speakeasy/
LOCATION:Ha Coffee Lihue\, 4180 Rice St\, Lihue\, 96766
CATEGORIES:Island Happenings
ATTACH;FMTTYPE=image/png:https://kauaiconnect.com/wp-content/uploads/PopUp-Speakeasy-3rdSundays-KHcPrv.png
ORGANIZER;CN="Rice Street Business Association":MAILTO:kauairsba@gmail.com
GEO:21.9711145;-159.3625084
X-APPLE-STRUCTURED-LOCATION;VALUE=URI;X-ADDRESS=Ha Coffee Lihue 4180 Rice St Lihue 96766;X-APPLE-RADIUS=500;X-TITLE=4180 Rice St:geo:-159.3625084,21.9711145
END:VEVENT
BEGIN:VEVENT
DTSTART;TZID=Pacific/Honolulu:20250625T153000
DTEND;TZID=Pacific/Honolulu:20250625T180000
DTSTAMP:20260424T074930
CREATED:20250531T140458Z
LAST-MODIFIED:20250624T183436Z
UID:10001574-1750865400-1750874400@kauaiconnect.com
SUMMARY:Lei Making
DESCRIPTION:Wednesday\, June 25th\, 3:30 pm – 6 pm\, Palm Court \n\nJoin us for a hands-on lei-making experience with Halau Ka Lei Mokihana o Leina’ala. Whether you want to create your own beautiful lei or purchase a unique\, handcrafted lei. A minimum donation of $10 is requested to participate in the lei-making workshop. All donations will support the Keiki Hula Program\, helping to nurture the next generation of hula dancers. Come celebrate aloha spirit\, creativity\, and community through this meaningful cultural practice!
URL:https://kauaiconnect.com/event/lei-making-4/
LOCATION:Palm Court
CATEGORIES:Special Events,Special Events and Promotions
ATTACH;FMTTYPE=image/jpeg:https://kauaiconnect.com/wp-content/uploads/IMG_7463-scaled-XMXK8M.jpg
END:VEVENT
BEGIN:VEVENT
DTSTART;TZID=Pacific/Honolulu:20250625T183000
DTEND;TZID=Pacific/Honolulu:20250625T200000
DTSTAMP:20260424T074930
CREATED:20250624T014840Z
LAST-MODIFIED:20250625T234825Z
UID:10001613-1750876200-1750881600@kauaiconnect.com
SUMMARY:CALL OF THE DOLPHINS
DESCRIPTION:“Call of the Dolphins” is an IMAX documentary that immerses viewers in the world of dolphins\, showcasing their social behavior\, intelligence\, and the deep bond they share with humans. The film features stunning underwater footage and explores the connections between humans and dolphins through research and rescue efforts. It is narrated by Mary Steenburgen and was produced by Oceanic Research Group Films and directed by Jonathan Bird.  \nDirector Jonathan Bird will be here to introduce the film and take your questions after the screening. \nThis event is FREE FOR EVERYONE!
URL:https://kauaiconnect.com/event/call-of-the-dolphins/
LOCATION:Kauai Community College  Performing Arts Center\, 3-1901 Kaumualii Hwy\, Lihue\, HI\, 96766\, United States
CATEGORIES:Island Happenings
ATTACH;FMTTYPE=image/jpeg:https://kauaiconnect.com/wp-content/uploads/Key-Art-DCDjdF.jpg
ORGANIZER;CN="Gregory von Hausch":MAILTO:greg3512@hawaii.edu
GEO:21.9649125;-159.4213563
X-APPLE-STRUCTURED-LOCATION;VALUE=URI;X-ADDRESS=Kauai Community College  Performing Arts Center 3-1901 Kaumualii Hwy Lihue HI 96766 United States;X-APPLE-RADIUS=500;X-TITLE=3-1901 Kaumualii Hwy:geo:-159.4213563,21.9649125
END:VEVENT
BEGIN:VEVENT
DTSTART;TZID=Pacific/Honolulu:20250626T190000
DTEND;TZID=Pacific/Honolulu:20250626T220000
DTSTAMP:20260424T074930
CREATED:20250503T201919Z
LAST-MODIFIED:20250602T223353Z
UID:10001494-1750964400-1750975200@kauaiconnect.com
SUMMARY:Kaua’i Community Players: Cabaret
DESCRIPTION:Revisit this timeless classic set in the decadent world of 1930s Berlin. At the Kit Kat Klub\, the enigmatic Master of Ceremonies and the dazzling performer Sally Bowles entertain with unforgettable music\, dance\, and drama. Against the backdrop of a society on the brink of upheaval\, the story intertwines the lives of the club’s patrons and performers. This powerful and evocative musical captures the tension and transformation of a world in transition\, making it a must-see experience. \nDirected by Jim Ballantine \nWritten by Joe Masteroff (Book)\, John Kander (Music)\, and Fred Ebb (Lyrics) \n—Seating & Tickets— \nEnjoy the action from three sides of the stage in our immersive setupChoose from $45 table seating (closest to the performers) or $30 regular seating (elevated perimeter) \n$5 off opening weekend \n—Pay-What-You-Can Preview— \nBefore the curtain officially rises\, we’re inviting our community to an exclusive Pay-What-You-Can Preview on Thursday\, May 15 at 7 PM. \nThis special evening is a chance for everyone to experience the magic of Cabaret—no matter your budget. No advance tickets\, just show up and donate what you can at the door (cash only).
URL:https://kauaiconnect.com/event/kauai-community-players-cabaret-22/
LOCATION:Puhi Theatrical Warehouse\, 4411 Kikowaena St\, Lihue\, 96766
CATEGORIES:Island Happenings
ATTACH;FMTTYPE=image/jpeg:https://kauaiconnect.com/wp-content/uploads/Cabaret-Production-zSLy9n.jpg
ORGANIZER;CN="Kauai Community Players":MAILTO:kauaicommunityplayers@gmail.com
GEO:21.9645173;-159.3956754
X-APPLE-STRUCTURED-LOCATION;VALUE=URI;X-ADDRESS=Puhi Theatrical Warehouse 4411 Kikowaena St Lihue 96766;X-APPLE-RADIUS=500;X-TITLE=4411 Kikowaena St:geo:-159.3956754,21.9645173
END:VEVENT
BEGIN:VEVENT
DTSTART;TZID=Pacific/Honolulu:20250627T110000
DTEND;TZID=Pacific/Honolulu:20250627T140000
DTSTAMP:20260424T074930
CREATED:20250528T214927Z
LAST-MODIFIED:20250627T170332Z
UID:10001569-1751022000-1751032800@kauaiconnect.com
SUMMARY:Korean Songpyeon Class
DESCRIPTION:Join us in learning the mindful art of making songpyeon from scratch\, a delicious traditional Korean rice cake with a modern touch. This workshop is hands-on\, beginner-friendly\, and fun! \nSongpyeon is a traditional dessert enjoyed during Chuseok\, Korea’s mid-autumn harvest festival. Families gather to make songpyeons as a communal activity rooted in Korean culture. \nThis delicate dessert is gluten-free. Ingredients include Fresh Rice Flour\, Salt\, Water\, Honey\, Sesame Seeds\, Brown Sugar\, and Sesame Oil. \nShana Lee is a Korean American born and raised in Hawai’i. Her journey with Korean desserts began when she first tasted baekseolgi\, a fluffy and chewy steamed rice cake. She was fascinated by its delicate simplicity and unique texture. \nShana fell in love with Rice Blossoms’ unique style and modern take on rice cakes\, which wonderfully blends tradition with elegance. Discovering Korean desserts’ beauty and rich history has been a heartfelt and gratifying adventure. As part of Rice Blossoms\, she is excited to educate and share these delightful creations with the people of Hawai’i. Through each dessert\, Shana hopes to bring a little sweetness\, a lot of aloha\, and the perfect blend of tradition and modern artistry for you to enjoy! \nRice Blossoms is frequently hosted as a pop-up at the Ala Moana Nordstrom\, Mori\, Anthropologie\, and Bloomingdale’s. \nAge Requirement: Ages 8+
URL:https://kauaiconnect.com/event/korean-songpyeon-class/
LOCATION:Cooking Kauai\, Lawai\, HI\, 96765\, United States
CATEGORIES:Island Happenings
ATTACH;FMTTYPE=image/jpeg:https://kauaiconnect.com/wp-content/uploads/Copy-of-Cruise-Class-5-w5NMaT.jpg
ORGANIZER;CN="Cooking Kauai":MAILTO:aloha@cookingkauai.com
GEO:21.9258055;-159.498565
END:VEVENT
BEGIN:VEVENT
DTSTART;TZID=UTC:20250627T183000
DTEND;TZID=UTC:20250627T203000
DTSTAMP:20260424T074930
CREATED:20250329T114837Z
LAST-MODIFIED:20250627T184932Z
UID:10001419-1751049000-1751056200@kauaiconnect.com
SUMMARY:Kanikapila
DESCRIPTION:Celebrate Aloha Friday with live music performances by local Kaua’i bands and artists.
URL:https://kauaiconnect.com/event/kanikapila-53/
LOCATION:Hawaii
CATEGORIES:Ongoing Events
END:VEVENT
BEGIN:VEVENT
DTSTART;TZID=Pacific/Honolulu:20250627T190000
DTEND;TZID=Pacific/Honolulu:20250627T220000
DTSTAMP:20260424T074930
CREATED:20250503T201919Z
LAST-MODIFIED:20250602T223354Z
UID:10001495-1751050800-1751061600@kauaiconnect.com
SUMMARY:Kaua’i Community Players: Cabaret
DESCRIPTION:Revisit this timeless classic set in the decadent world of 1930s Berlin. At the Kit Kat Klub\, the enigmatic Master of Ceremonies and the dazzling performer Sally Bowles entertain with unforgettable music\, dance\, and drama. Against the backdrop of a society on the brink of upheaval\, the story intertwines the lives of the club’s patrons and performers. This powerful and evocative musical captures the tension and transformation of a world in transition\, making it a must-see experience. \nDirected by Jim Ballantine \nWritten by Joe Masteroff (Book)\, John Kander (Music)\, and Fred Ebb (Lyrics) \n—Seating & Tickets— \nEnjoy the action from three sides of the stage in our immersive setupChoose from $45 table seating (closest to the performers) or $30 regular seating (elevated perimeter) \n$5 off opening weekend \n—Pay-What-You-Can Preview— \nBefore the curtain officially rises\, we’re inviting our community to an exclusive Pay-What-You-Can Preview on Thursday\, May 15 at 7 PM. \nThis special evening is a chance for everyone to experience the magic of Cabaret—no matter your budget. No advance tickets\, just show up and donate what you can at the door (cash only).
URL:https://kauaiconnect.com/event/kauai-community-players-cabaret-23/
LOCATION:Puhi Theatrical Warehouse\, 4411 Kikowaena St\, Lihue\, 96766
CATEGORIES:Island Happenings
ATTACH;FMTTYPE=image/jpeg:https://kauaiconnect.com/wp-content/uploads/Cabaret-Production-zSLy9n.jpg
ORGANIZER;CN="Kauai Community Players":MAILTO:kauaicommunityplayers@gmail.com
GEO:21.9645173;-159.3956754
X-APPLE-STRUCTURED-LOCATION;VALUE=URI;X-ADDRESS=Puhi Theatrical Warehouse 4411 Kikowaena St Lihue 96766;X-APPLE-RADIUS=500;X-TITLE=4411 Kikowaena St:geo:-159.3956754,21.9645173
END:VEVENT
BEGIN:VEVENT
DTSTART;TZID=Pacific/Honolulu:20250628T080000
DTEND;TZID=Pacific/Honolulu:20250628T140000
DTSTAMP:20260424T074930
CREATED:20250330T181905Z
LAST-MODIFIED:20250628T170332Z
UID:10001420-1751097600-1751119200@kauaiconnect.com
SUMMARY:Kauai Island Crafters Fair
DESCRIPTION:🌺 Artisans & Crafters Fair hosted by Kauai Island Crafters Fair! 🌺 \nEmbark on a journey of creativity and culture at the Kauai Island Crafters Fair\, a celebrated event with a 15-year tradition of bringing together the best of Kauai’s local artisans and crafters.  Nestled in the heart of this breathtaking island\, our fair showcases the essence of Kauai’s craftsmanship\, offering a unique opportunity for both visitors and locals to connect with the vibrant artistic spirit of the community.  Step into a world where every item tells a story\, as skilled Kauai artisans proudly display their locally handmade treasures.  Immerse yourself in a shopping experience where each handcrafted product is a piece of Kauai’s soul\, inviting you to take home a special memento of your island vacation. \n✨ Event Highlights: \n\nShop Handmade: Explore a diverse selection of locally crafted items\, from jewelry to home décor\, art\, clothing\, sewn textiles\, and more.\nMeet the Makers: Get to know the talented artisans behind the creations and hear the stories that inspire their work.\nSupport Local: By attending\, you’re helping small Kauai businesses thrive and preserving the island’s rich cultural artistry.\n\n📍 Location: Indoors with convenient outdoor parking. \nBring your family and friends and immerse yourself in the warmth and creativity of Kauai’s local community. Don’t miss this opportunity to discover that perfect handmade treasure! \n📣 Interested vendors can reach out to kauaiislandcraftersfair@gmail.com.  Spread the word\, tag your friends\, and follow @kauaiislandcraftersfair – Let’s support Kauai’s local artisans together! \n#KauaiIslandCraftersFair #ShopLocalKauai #SupportSmallBusiness #HandmadeOnKauai #kauaicraftfair #kauaishopping #koloaneighborhoodcenter #kauaihandmadegifts #kauaisouvenirs #kauaivacation #kauaihawaii
URL:https://kauaiconnect.com/event/kauai-island-crafters-fair-39/
LOCATION:Kauai Veterans Center\, 3215 Kapule Hwy\, Lihue\, HI\, 96766\, United States
CATEGORIES:Island Happenings
ATTACH;FMTTYPE=image/jpeg:https://kauaiconnect.com/wp-content/uploads/Jocks-Fine-Photo-JGoodman-2024-GwlBuH.tmp_.jpg
ORGANIZER;CN="Debbie Yanagihara":MAILTO:kauaiislandcf@hotmail.com
GEO:21.9748624;-159.3537295
X-APPLE-STRUCTURED-LOCATION;VALUE=URI;X-ADDRESS=Kauai Veterans Center 3215 Kapule Hwy Lihue HI 96766 United States;X-APPLE-RADIUS=500;X-TITLE=3215 Kapule Hwy:geo:-159.3537295,21.9748624
END:VEVENT
BEGIN:VEVENT
DTSTART;TZID=Pacific/Honolulu:20250628T173000
DTEND;TZID=Pacific/Honolulu:20250628T213000
DTSTAMP:20260424T074930
CREATED:20250516T211858Z
LAST-MODIFIED:20250628T170333Z
UID:10001541-1751131800-1751146200@kauaiconnect.com
SUMMARY:Pō & the 4Fathers w/ special guest Sashamon
DESCRIPTION:Pō & the 4Fathers\nThe Color of the ‘Aina Tour\nWith Special Guest Sashamon \nShow Date\nSaturday\, June 28th\, 2025 \nPō & the 4Fathers – TICKETS HERE\nA New Perspective\nPō & the 4Fathers is a unique musical experience that delivers a lyrical message that is powerful and clear with a modern Kanaka Maoli perspective. The band is deeply rooted in Hawaiian culture\, Polynesian rhythms\, and indigenous sounds\, as well as the music that has moved generations like reggae\, soul\, blues\, funk\, and hip hop. They write songs of joy\, hardship\, pain and triumph\, learned from shared experiences from the time of Pō to the present\, and into the future. \nThe New Sound\nThrough their connection with the Mana Maoli Collective the stars above Aotearoa aligned and a convergence of indigenous Hawaiian music like no other sprung up at the Pasifika Vibes Festival. Over a kanoa of ‘awa a musical bond was established. Many influences merged into a new sound\, songs were shared and written\, and a deep brotherhood was formed. Pō & the 4Fathers emerged creating a new style\, sound\, and impactful message that represents the forward movement of Maoli music. \n\n\n\nWhat’s included\n\nThis is GA standing room show. We will have some seating sections set up throughout the venue available on a first come first serve basis. \nWe will have some covered raised tables available around the perimeter of the lawned area. \n\n\n\nWhat’s not included\n\nBeverage Concessions both Alcoholic and Non Alcoholic will be available throughout the show. \nFood will be available for purchase on site. The Pavilion Kitchen is open with a full menu of hot meals and snacks. Vegan/ Vegetarian options will be available. \n\n\n\nItinerary\n\nShow Details\n5:30 PM: Doors Open\n6:30 PM: Sashamon\n7:30 PM: Po & The 4Fathers \nTimes subject to change. Any changes will be confirmed via email closer to the show date \n\n\n\nHighlights\n\nThis show is part of Anaina Hou Community Park’s “Concerts with a Cause” Series.
URL:https://kauaiconnect.com/event/po-the-4fathers-w-special-guest-sashamon/
LOCATION:Anaina Hou Porter Pavilion\, 5-2723 Kuhio Highway\, Kilauea\, 96754
CATEGORIES:Island Happenings
ATTACH;FMTTYPE=image/png:https://kauaiconnect.com/wp-content/uploads/p4f-v.3-Facebook-Post-2-RsNj0A.png
ORGANIZER;CN="Anaina Hou Community Park":MAILTO:community@anainahou.org
GEO:22.2109763;-159.4160471
X-APPLE-STRUCTURED-LOCATION;VALUE=URI;X-ADDRESS=Anaina Hou Porter Pavilion 5-2723 Kuhio Highway Kilauea 96754;X-APPLE-RADIUS=500;X-TITLE=5-2723 Kuhio Highway:geo:-159.4160471,22.2109763
END:VEVENT
BEGIN:VEVENT
DTSTART;TZID=Pacific/Honolulu:20250628T190000
DTEND;TZID=Pacific/Honolulu:20250628T220000
DTSTAMP:20260424T074930
CREATED:20250503T201920Z
LAST-MODIFIED:20250602T223355Z
UID:10001496-1751137200-1751148000@kauaiconnect.com
SUMMARY:Kaua’i Community Players: Cabaret
DESCRIPTION:Revisit this timeless classic set in the decadent world of 1930s Berlin. At the Kit Kat Klub\, the enigmatic Master of Ceremonies and the dazzling performer Sally Bowles entertain with unforgettable music\, dance\, and drama. Against the backdrop of a society on the brink of upheaval\, the story intertwines the lives of the club’s patrons and performers. This powerful and evocative musical captures the tension and transformation of a world in transition\, making it a must-see experience. \nDirected by Jim Ballantine \nWritten by Joe Masteroff (Book)\, John Kander (Music)\, and Fred Ebb (Lyrics) \n—Seating & Tickets— \nEnjoy the action from three sides of the stage in our immersive setupChoose from $45 table seating (closest to the performers) or $30 regular seating (elevated perimeter) \n$5 off opening weekend \n—Pay-What-You-Can Preview— \nBefore the curtain officially rises\, we’re inviting our community to an exclusive Pay-What-You-Can Preview on Thursday\, May 15 at 7 PM. \nThis special evening is a chance for everyone to experience the magic of Cabaret—no matter your budget. No advance tickets\, just show up and donate what you can at the door (cash only).
URL:https://kauaiconnect.com/event/kauai-community-players-cabaret-24/
LOCATION:Puhi Theatrical Warehouse\, 4411 Kikowaena St\, Lihue\, 96766
CATEGORIES:Island Happenings
ATTACH;FMTTYPE=image/jpeg:https://kauaiconnect.com/wp-content/uploads/Cabaret-Production-zSLy9n.jpg
ORGANIZER;CN="Kauai Community Players":MAILTO:kauaicommunityplayers@gmail.com
GEO:21.9645173;-159.3956754
X-APPLE-STRUCTURED-LOCATION;VALUE=URI;X-ADDRESS=Puhi Theatrical Warehouse 4411 Kikowaena St Lihue 96766;X-APPLE-RADIUS=500;X-TITLE=4411 Kikowaena St:geo:-159.3956754,21.9645173
END:VEVENT
END:VCALENDAR