BEGIN:VCALENDAR
VERSION:2.0
PRODID:-//Kauaʻi Connect - ECPv6.15.20//NONSGML v1.0//EN
CALSCALE:GREGORIAN
METHOD:PUBLISH
X-WR-CALNAME:Kauaʻi Connect
X-ORIGINAL-URL:https://kauaiconnect.com
X-WR-CALDESC:Events for Kauaʻi Connect
REFRESH-INTERVAL;VALUE=DURATION:PT1H
X-Robots-Tag:noindex
X-PUBLISHED-TTL:PT1H
BEGIN:VTIMEZONE
TZID:Pacific/Honolulu
BEGIN:STANDARD
TZOFFSETFROM:-1000
TZOFFSETTO:-1000
TZNAME:HST
DTSTART:20240101T000000
END:STANDARD
END:VTIMEZONE
BEGIN:VTIMEZONE
TZID:UTC
BEGIN:STANDARD
TZOFFSETFROM:+0000
TZOFFSETTO:+0000
TZNAME:UTC
DTSTART:20240101T000000
END:STANDARD
END:VTIMEZONE
BEGIN:VEVENT
DTSTART;TZID=Pacific/Honolulu:20250504T110000
DTEND;TZID=Pacific/Honolulu:20250504T150000
DTSTAMP:20260419T203732
CREATED:20250421T200343Z
LAST-MODIFIED:20250504T203345Z
UID:10001455-1746356400-1746370800@kauaiconnect.com
SUMMARY:Kauai Steel Guitar Festival
DESCRIPTION:Hawaiian pageant featuring Hawaiian Steel Guitar masters and NextGen steel guitarists in a program of traditional and contemporary Hawaiian music and dance. Performances begin at 11:00am and run until 3:00pm.
URL:https://kauaiconnect.com/event/kauai-steel-guitar-festival/
LOCATION:Kukui Grove Shopping Center\, Lihue\, United States
CATEGORIES:Celebration,Featured Events,Island Happenings
ATTACH;FMTTYPE=image/jpeg:https://kauaiconnect.com/wp-content/uploads/steelguitar-I8gK6m.jpg
GEO:21.9697415;-159.3787253
END:VEVENT
BEGIN:VEVENT
DTSTART;TZID=Pacific/Honolulu:20250506T170000
DTEND;TZID=Pacific/Honolulu:20250506T190000
DTSTAMP:20260419T203732
CREATED:20250429T201955Z
LAST-MODIFIED:20250506T203347Z
UID:10001466-1746550800-1746558000@kauaiconnect.com
SUMMARY:Climate Adaptation and Action Plan Open House
DESCRIPTION:The Draft Kauaʻi Climate Adaptation and Action Plan is Here — and We Want to Hear From You! \nCome share your voice at one of our upcoming public open houses and help shape the future of climate resilience on Kauaʻi. The draft plan includes 79 bold actions to help us prepare for climate change and reduce greenhouse gas emissions — and your input matters. \nUpcoming Open House Dates and Locations: \n\nMay 2 – Open House + Student Film Screening\nLocation: Kauaʻi Community College Fine Arts Room\nTime: 5:00 – 7:45 PM\nMay 6 – Open House\nLocation: Waipā Foundation\, Keanolani Hale\nTime: 5:00 – 7:00 PM\nMay 13 – Open House + East Kauaʻi Climate Hazards Workshop\nLocation: Kalukalu Economic Resilience Center\, 1624 Kūhiō Highway\, Kapaʻa\nTime: 4:30 – 7:00 PM\nMay 15 – Open House\nLocation: Hanapēpē Public Library\nTime: 5:00 – 7:00 PM\n\nFor more information and to check out the draft plan\, please visit kauaiadaptation.com. \nIf you need an auxiliary aid/service or other accommodation due to a disability\, contact Marie Williams at (808) 241-4050 or mwilliams@kauai.gov as soon as possible. Requests made as early as possible will allow adequate time to fulfill your request. Upon request\, this notice is available in alternative formats such as large print\, Braille\, or electronic copy.\n 
URL:https://kauaiconnect.com/event/climate-adaptation-and-action-plan-open-house/
LOCATION:Waipā Foundation\, Keanolani Hale\, Kuhio Highway 5-5785\, Hanalei\, Hawaii\, 96714\, United States
CATEGORIES:Island Happenings
ATTACH;FMTTYPE=image/png:https://kauaiconnect.com/wp-content/uploads/Attend-a-climate-action-Open-house-2-2-aXGXFI.png
ORGANIZER;CN="County of Kauai &#8211%3B Planning Department":MAILTO:asummers@kauai.gov
GEO:22.2037294;-159.4925365
X-APPLE-STRUCTURED-LOCATION;VALUE=URI;X-ADDRESS=Waipā Foundation Keanolani Hale Kuhio Highway 5-5785 Hanalei Hawaii 96714 United States;X-APPLE-RADIUS=500;X-TITLE=Kuhio Highway 5-5785:geo:-159.4925365,22.2037294
END:VEVENT
BEGIN:VEVENT
DTSTART;TZID=Pacific/Honolulu:20250507T130000
DTEND;TZID=Pacific/Honolulu:20250507T170000
DTSTAMP:20260419T203732
CREATED:20250206T123417Z
LAST-MODIFIED:20250507T203350Z
UID:10001331-1746622800-1746637200@kauaiconnect.com
SUMMARY:Makai Music and Arts Festival
DESCRIPTION:Located on the Makai Lawn fronting Ka Haku Road\, the Makai Music and Arts Festival is hosted on each Wednesday of the week. Join us and experience entertainment from some of the best musicians on Kaua’i! Shop from an assortment of hand made jewelry\, crafts\, art\, and much more by local vendors.
URL:https://kauaiconnect.com/event/makai-music-and-arts-festival-46/
LOCATION:Princeville Makai Golf Course\, 4080 Lei O Papa\, Princeville\, HI\, 96722\, United States
CATEGORIES:Island Happenings
ATTACH;FMTTYPE=image/png:https://kauaiconnect.com/wp-content/uploads/MAKAI-LOGO-TRANS-2019-OLyLXO.tmp_.png
GEO:22.2228711;-159.4681506
X-APPLE-STRUCTURED-LOCATION;VALUE=URI;X-ADDRESS=Princeville Makai Golf Course 4080 Lei O Papa Princeville HI 96722 United States;X-APPLE-RADIUS=500;X-TITLE=4080 Lei O Papa:geo:-159.4681506,22.2228711
END:VEVENT
BEGIN:VEVENT
DTSTART;TZID=UTC:20250507T153000
DTEND;TZID=UTC:20250507T180000
DTSTAMP:20260419T203732
CREATED:20250206T094937Z
LAST-MODIFIED:20250305T110511Z
UID:10001327-1746631800-1746640800@kauaiconnect.com
SUMMARY:Culinary Market
DESCRIPTION:Discover the South Shore’s gourmet farmers market\, which boasts over 25 local farmers and vendors offering fresh produce and unique local delights. \n  \nIn partnership with the Kauai County Farm Bureau\, our culinary market features fresh fruits and vegetables as well as other specialties and local products – all Kauai grown and made. The weekly Kauai Culinary Market provides the community with an option to purchase essential goods while supporting local farmers\, producers and vendors. \n  \nSocial distancing guidelines will be in place and all safety precautions will be strictly followed: \n\nSocial distance of at least 6 feet from any other person will be maintained.\nFace mask will be worn at all times.\nHand sanitation stations will be provided.\nHigh-touch areas will be frequently sanitized.\nPersonal social interactions will be limited.
URL:https://kauaiconnect.com/event/culinary-market-45/
LOCATION:Hawaii
CATEGORIES:Ongoing Events
END:VEVENT
BEGIN:VEVENT
DTSTART;TZID=Pacific/Honolulu:20250509T160000
DTEND;TZID=Pacific/Honolulu:20250509T200000
DTSTAMP:20260419T203732
CREATED:20250418T124849Z
LAST-MODIFIED:20250509T133415Z
UID:10001450-1746806400-1746820800@kauaiconnect.com
SUMMARY:Mother’s Day Night Market
DESCRIPTION:Mother’s Day Night Market\nFriday\, May 9th\, 4 pm – 8 pm \nJoin us as we celebrate our first-ever Mother’s Day Night Market! Enjoy Mother’s Day specials\, Hawai’i-made vendors\, tasty bites from participating restaurants\, and keiki activities including a craft station and face painting. Plus\, earn 3X HawaiianMiles for every $1 spent at participating retailers\, restaurants\, and vendors ($50 minimum\, $500 maximum). \nHawai`i Made Vendors \n\nMatt Bruening\nCassandra Rull\nThe HK Experience\nKulamanu Designs\nKaua`i Candle Co.\nI Love You From Here To Kaua`i\nShorrline Design\nRooster Moon Co.\nHa`a and Co.\nKoloa Farms\nStargrit\nWhite Sand Jewelry\n\n\nTerms & Conditions \n\nMust present the original receipts or proof of digital receipt. * Credit card receipts must be accompanied by the original receipt. * Receipts can only be redeemed on the same day of purchase. The subtotal of receipts does not include tips\, tax\, or gift card purchases. * Same-day receipts must be time-stamped between 4PM and 8PM on Friday\, May 9\, 2025. No exceptions. * Customers must spend a minimum of $50 to earn HawaiianMiles. * Splitting receipts between customers is NOT allowed.\nCustomers must present their HawaiianMiles number at the time of redemption. * Individual HawaiianMiles members can earn up to 1\,500 miles maximum ($500 in sub-total receipts). * Individual HawaiianMiles members must be present to receive awarded miles\, signature and I.D. will be required from each member. * All standard HawaiianMiles terms and conditions apply.\nMiles voided on returned purchases.\nPurchases of gift certificates from individual stores/restaurants gift certificates/cards do not qualify for miles. * Additional restrictions may apply.
URL:https://kauaiconnect.com/event/mothers-day-night-market/
LOCATION:Hawaii
CATEGORIES:Special Events,Special Events and Promotions
ATTACH;FMTTYPE=image/jpeg:https://kauaiconnect.com/wp-content/uploads/MDNM_Website_photo-AodAVA.jpg
END:VEVENT
BEGIN:VEVENT
DTSTART;TZID=UTC:20250509T183000
DTEND;TZID=UTC:20250509T203000
DTSTAMP:20260419T203732
CREATED:20250208T100523Z
LAST-MODIFIED:20250509T133416Z
UID:10001333-1746815400-1746822600@kauaiconnect.com
SUMMARY:Kanikapila
DESCRIPTION:Celebrate Aloha Friday with live music performances by local Kaua’i bands and artists.
URL:https://kauaiconnect.com/event/kanikapila-46/
LOCATION:Hawaii
CATEGORIES:Ongoing Events
END:VEVENT
BEGIN:VEVENT
DTSTART;TZID=Pacific/Honolulu:20250510T090000
DTEND;TZID=Pacific/Honolulu:20250510T140000
DTSTAMP:20260419T203732
CREATED:20250403T141844Z
LAST-MODIFIED:20250510T173353Z
UID:10001422-1746867600-1746885600@kauaiconnect.com
SUMMARY:Kaua’i Made Mother’s Day Craft Fair
DESCRIPTION:Looking for that special gift for your mom? or even your grama\, sister\, aunty or just someone special in your life. \nWe have just the place for you. \nStop by the Sheraton Kaua’i Coconut Beach Resort on Saturday\, May 10th from 9am – 2pm. Visit and talk story with our product makers and buy a gift for that someone special. \nSupport local! \n 
URL:https://kauaiconnect.com/event/kauai-made-mothers-day-craft-fair/
LOCATION:Kauai Sheraton Coconut Beach\, 650 Aleka Loop\, Kapaa\, HI\, 96746\, United States
CATEGORIES:Celebration,Featured Events
ATTACH;FMTTYPE=image/jpeg:https://kauaiconnect.com/wp-content/uploads/kauai-made-mothers-day-HALF-PROOF-PF5xNP.tmp_.jpg
GEO:22.0567237;-159.32307
X-APPLE-STRUCTURED-LOCATION;VALUE=URI;X-ADDRESS=Kauai Sheraton Coconut Beach 650 Aleka Loop Kapaa HI 96746 United States;X-APPLE-RADIUS=500;X-TITLE=650 Aleka Loop:geo:-159.32307,22.0567237
END:VEVENT
BEGIN:VEVENT
DTSTART;TZID=Pacific/Honolulu:20250510T110000
DTEND;TZID=Pacific/Honolulu:20250510T150000
DTSTAMP:20260419T203732
CREATED:20250225T123522Z
LAST-MODIFIED:20250510T204837Z
UID:10001351-1746874800-1746889200@kauaiconnect.com
SUMMARY:Kauai Okinawan Festival
DESCRIPTION:2025 Kauai Okinawan Festival featuring Okinawan dances\, songs\, food and cultural.  May 10th 2025 at the Kukui Grove Shopping Center Food Court 11:00 a.m. to 3:00 p.m.
URL:https://kauaiconnect.com/event/kauai-okinawan-festival/
LOCATION:Kukui Grove Shopping Center\, Lihue\, United States
CATEGORIES:Celebration,Featured Events,Island Happenings
ATTACH;FMTTYPE=image/jpeg:https://kauaiconnect.com/wp-content/uploads/okinawan-festival-1-1-cfkUdv.tmp_.jpg
ORGANIZER;CN="Hui Alu":MAILTO:jic@kauai-law.com
GEO:21.9697415;-159.3787253
END:VEVENT
BEGIN:VEVENT
DTSTART;TZID=Pacific/Honolulu:20250510T133000
DTEND;TZID=Pacific/Honolulu:20250510T153000
DTSTAMP:20260419T203732
CREATED:20250415T193349Z
LAST-MODIFIED:20250501T201849Z
UID:10001446-1746883800-1746891000@kauaiconnect.com
SUMMARY:CINDERELLA presented by Kaua`i Ballete Academy
DESCRIPTION:The world traveled Kaua’i Ballet Academy will present “First Dance” AND “Cinderella”\, two outstanding ballets in one great show. Henry Adams Curtis will open the show by serenading KBA dancers with his original piece\, “First Dance”.  After which\, a charming rendition of the classical fairy tale Cinderella will be performed in two acts. The family is sure to enjoy this enchanting production.
URL:https://kauaiconnect.com/event/cinderella-presented-by-kauai-ballete-academy/
LOCATION:Kauai Community College  Performing Arts Center\, 3-1901 Kaumualii Hwy\, Lihue\, HI\, 96766\, United States
CATEGORIES:Island Happenings
ATTACH;FMTTYPE=image/png:https://kauaiconnect.com/wp-content/uploads/Cinderella-Flyer-CARRIAGE-gIJRGf.png
ORGANIZER;CN="Gregory von Hausch":MAILTO:greg3512@hawaii.edu
GEO:21.9649125;-159.4213563
X-APPLE-STRUCTURED-LOCATION;VALUE=URI;X-ADDRESS=Kauai Community College  Performing Arts Center 3-1901 Kaumualii Hwy Lihue HI 96766 United States;X-APPLE-RADIUS=500;X-TITLE=3-1901 Kaumualii Hwy:geo:-159.4213563,21.9649125
END:VEVENT
BEGIN:VEVENT
DTSTART;TZID=Pacific/Honolulu:20250510T133000
DTEND;TZID=Pacific/Honolulu:20250510T153000
DTSTAMP:20260419T203732
CREATED:20250502T201908Z
LAST-MODIFIED:20250510T204837Z
UID:10001470-1746883800-1746891000@kauaiconnect.com
SUMMARY:CINDERELLA presented by Kaua`i Ballet Academy
DESCRIPTION:The world traveled Kaua’i Ballet Academy will present “First Dance” AND “Cinderella”\, two outstanding ballets in one great show. Henry Adams Curtis will open the show by serenading KBA dancers with his original piece\, “First Dance”.  After which\, a charming rendition of the classical fairy tale Cinderella will be performed in two acts. The family is sure to enjoy this enchanting production.
URL:https://kauaiconnect.com/event/cinderella-presented-by-kauai-ballet-academy/
LOCATION:Kauai Community College  Performing Arts Center\, 3-1901 Kaumualii Hwy\, Lihue\, HI\, 96766\, United States
CATEGORIES:Island Happenings
ATTACH;FMTTYPE=image/jpeg:https://kauaiconnect.com/wp-content/uploads/Cinderella_fin-1-0AFEFb.jpg
ORGANIZER;CN="Gregory von Hausch":MAILTO:greg3512@hawaii.edu
GEO:21.9649125;-159.4213563
X-APPLE-STRUCTURED-LOCATION;VALUE=URI;X-ADDRESS=Kauai Community College  Performing Arts Center 3-1901 Kaumualii Hwy Lihue HI 96766 United States;X-APPLE-RADIUS=500;X-TITLE=3-1901 Kaumualii Hwy:geo:-159.4213563,21.9649125
END:VEVENT
BEGIN:VEVENT
DTSTART;TZID=Pacific/Honolulu:20250510T160000
DTEND;TZID=Pacific/Honolulu:20250510T200000
DTSTAMP:20260419T203732
CREATED:20250209T123710Z
LAST-MODIFIED:20250510T204837Z
UID:10001334-1746892800-1746907200@kauaiconnect.com
SUMMARY:Downtown Lihue 2nd Saturday Night Market
DESCRIPTION:Join us on Kress Street for Downtown Lihue’s 2nd Saturday Night Market. Locally made crafts\, gifts\, food trucks\, baked goods\, live entertainment\, and much more! With over 40 local vendors we’re sure that there’s something for you to enjoy.\nThis event is free to attend\, family friendly\, and an outdoor open to the public. Hosted by the Hawaiʻi Tourism Authority and Alakoko Shop.\nIf you are an interested vendor\, register at www.downtownlihue.com/night-market-details
URL:https://kauaiconnect.com/event/downtown-lihue-2nd-saturday-night-market-13/
LOCATION:Kress Street\, Kress Street\, Lihue\, 96766
CATEGORIES:Island Happenings,Market
ATTACH;FMTTYPE=image/jpeg:https://kauaiconnect.com/wp-content/uploads/Animation-QRF3w7.tmp_.jpg
ORGANIZER;CN="Rice Street Business Association":MAILTO:kauairsba@gmail.com
GEO:21.9719121;-159.3658532
X-APPLE-STRUCTURED-LOCATION;VALUE=URI;X-ADDRESS=Kress Street Kress Street Lihue 96766;X-APPLE-RADIUS=500;X-TITLE=Kress Street:geo:-159.3658532,21.9719121
END:VEVENT
BEGIN:VEVENT
DTSTART;TZID=Pacific/Honolulu:20250510T173000
DTEND;TZID=Pacific/Honolulu:20250510T210000
DTSTAMP:20260419T203732
CREATED:20250424T200420Z
LAST-MODIFIED:20250510T204838Z
UID:10001460-1746898200-1746910800@kauaiconnect.com
SUMMARY:Taulia Lave – Special Country Music Birthday Bash
DESCRIPTION:Taulia Lave\nSpecial Country Music Birthday Bash\nwith special guest\nChad Pa \nShow Date\nSaturday May 10\, 2025 \nTaulia Lave\nTaulia invites you to celebrate his birthday and support The Boys and Girls Club of Hawai’i at Porter Pavilion! \nLave is not your typical Country Singer. He’s a 47-year old\, 6’2”\, 280 pound Samoan who was a college football linebacker and former police officer who grew up listening to Randy Travis\, George Strait\, and Garth Brooks on the coast of Waiʻanae\, Oʻahu. \nWhen his father passed away unexpectedly ~4 years ago\, Taulia dedicated himself full-time to making music in honor of his Dad starting with his debut single Feels Like Home. \nTaulia has sold out shows across his home state and just released his tribute to Kenny Rogers The Gambler which he recorded entirely in Nashville. \nWaianae Boys & Girls Club was a big part of Taulia’s upbringing and he is so happy to be supporting them on Kauai! \nConcerts with a Cause\nAnaina Hou Community Park is excited to continue our Concerts with a Cause Mission Driven Music offerings with Taulia Lave! This concert is shining light on The Boys and Girls Club of Hawai’i. $2 from every ticket purchased to the show will go back to supporting their amazing work. To learn more and donate directly to Boys and Girls Club\, please visit their site at http://www.bgch.com. \n\n\n\nWhat’s included\n\nThis is GA standing room show. We will have some seating sections set up throughout the venue available on a first come first serve basis. \nWe will have some covered raised tables available around the perimeter of the lawned area. \n\n\n\nWhat’s not included\n\nBeverage Concessions both Alcoholic and Non Alcoholic will be available throughout the show. \nFood will be available for purchase on site. The Pavilion Kitchen is open with a full menu of hot meals and snacks. Vegan/ Vegetarian options will be available. \n\n\n\nItinerary\n\nShow Details\n5:30 PM: Doors Open\n6:30 PM: Chad Pa\n7:30 PM: Taulia Lave \nTimes subject to change. Any changes will be confirmed via email closer to the show date \n\n\n\nHighlights\n\nThis show is part of Anaina Hou Community Park’s “Concerts with a Cause” Series. This installment is raising funds and awareness for the Boys and Girls Club of Hawai’i. The mission of Boys & Girls Club of Hawaii is to enable all young people\, especially those who need us most\, to reach their full potential as productive\, caring\, responsible citizens. \nThe after-school hours are a critical time for youth – a time when many children in our communities are left to fend for themselves without positive adult supervision. BGCH provides a safe place filled with hope and opportunity\, ongoing relationships with caring adult mentors\, and enriching programs. \nTo learn more and donate directly to Boys and Girls Club\, please visit their site at http://www.bgch.com.
URL:https://kauaiconnect.com/event/taulia-lave-special-country-music-birthday-bash/
LOCATION:Anaina Hou Porter Pavilion\, 5-2723 Kuhio Highway\, Kilauea\, 96754
CATEGORIES:Island Happenings
ATTACH;FMTTYPE=image/png:https://kauaiconnect.com/wp-content/uploads/Taulia-Lave-1080-x-1080-px-FINAL-HFqNw9.png
ORGANIZER;CN="Anaina Hou Community Park":MAILTO:community@anainahou.org
GEO:22.2109763;-159.4160471
X-APPLE-STRUCTURED-LOCATION;VALUE=URI;X-ADDRESS=Anaina Hou Porter Pavilion 5-2723 Kuhio Highway Kilauea 96754;X-APPLE-RADIUS=500;X-TITLE=5-2723 Kuhio Highway:geo:-159.4160471,22.2109763
END:VEVENT
BEGIN:VEVENT
DTSTART;TZID=Pacific/Honolulu:20250510T183000
DTEND;TZID=Pacific/Honolulu:20250510T203000
DTSTAMP:20260419T203732
CREATED:20250502T201911Z
LAST-MODIFIED:20250510T204847Z
UID:10001471-1746901800-1746909000@kauaiconnect.com
SUMMARY:CINDERELLA presented by Kaua`i Ballet Academy
DESCRIPTION:The world traveled Kaua’i Ballet Academy will present “First Dance” AND “Cinderella”\, two outstanding ballets in one great show. Henry Adams Curtis will open the show by serenading KBA dancers with his original piece\, “First Dance”.  After which\, a charming rendition of the classical fairy tale Cinderella will be performed in two acts. The family is sure to enjoy this enchanting production.
URL:https://kauaiconnect.com/event/cinderella-presented-by-kauai-ballet-academy-2/
LOCATION:Kauai Community College  Performing Arts Center\, 3-1901 Kaumualii Hwy\, Lihue\, HI\, 96766\, United States
CATEGORIES:Island Happenings
ATTACH;FMTTYPE=image/jpeg:https://kauaiconnect.com/wp-content/uploads/Cinderella_fin-1-0AFEFb.jpg
ORGANIZER;CN="Gregory von Hausch":MAILTO:greg3512@hawaii.edu
GEO:21.9649125;-159.4213563
X-APPLE-STRUCTURED-LOCATION;VALUE=URI;X-ADDRESS=Kauai Community College  Performing Arts Center 3-1901 Kaumualii Hwy Lihue HI 96766 United States;X-APPLE-RADIUS=500;X-TITLE=3-1901 Kaumualii Hwy:geo:-159.4213563,21.9649125
END:VEVENT
END:VCALENDAR