BEGIN:VCALENDAR
VERSION:2.0
PRODID:-//Kauaʻi Connect - ECPv6.15.20//NONSGML v1.0//EN
CALSCALE:GREGORIAN
METHOD:PUBLISH
X-WR-CALNAME:Kauaʻi Connect
X-ORIGINAL-URL:https://kauaiconnect.com
X-WR-CALDESC:Events for Kauaʻi Connect
REFRESH-INTERVAL;VALUE=DURATION:PT1H
X-Robots-Tag:noindex
X-PUBLISHED-TTL:PT1H
BEGIN:VTIMEZONE
TZID:Pacific/Honolulu
BEGIN:STANDARD
TZOFFSETFROM:-1000
TZOFFSETTO:-1000
TZNAME:HST
DTSTART:20240101T000000
END:STANDARD
END:VTIMEZONE
BEGIN:VTIMEZONE
TZID:UTC
BEGIN:STANDARD
TZOFFSETFROM:+0000
TZOFFSETTO:+0000
TZNAME:UTC
DTSTART:20240101T000000
END:STANDARD
END:VTIMEZONE
BEGIN:VEVENT
DTSTART;TZID=Pacific/Honolulu:20250314T000000
DTEND;TZID=Pacific/Honolulu:20250316T235959
DTSTAMP:20260419T085416
CREATED:20250225T141939Z
LAST-MODIFIED:20250314T161951Z
UID:10001352-1741910400-1742169599@kauaiconnect.com
SUMMARY:Super American Circus
DESCRIPTION:The Super American Circus\, where tradition meets modern marvels in an electrifying spectacle of boundless energy\, daring stunts\, and aerial acrobatics! Step right up and prepare to be dazzled by a fusion of classic circus charm and cutting-edge entertainment.
URL:https://kauaiconnect.com/event/super-american-circus/
LOCATION:Kauai Community College  Performing Arts Center\, 3-1901 Kaumualii Hwy\, Lihue\, HI\, 96766\, United States
CATEGORIES:Island Happenings
ATTACH;FMTTYPE=image/jpeg:https://kauaiconnect.com/wp-content/uploads/Photo-Aug-06-2024-3-43-11-PM-JaJqas.tmp_.jpg
ORGANIZER;CN="Kauai Community College Student Activities Council":MAILTO:Localnel2000@gmail.com
GEO:21.9649125;-159.4213563
X-APPLE-STRUCTURED-LOCATION;VALUE=URI;X-ADDRESS=Kauai Community College  Performing Arts Center 3-1901 Kaumualii Hwy Lihue HI 96766 United States;X-APPLE-RADIUS=500;X-TITLE=3-1901 Kaumualii Hwy:geo:-159.4213563,21.9649125
END:VEVENT
BEGIN:VEVENT
DTSTART;TZID=Pacific/Honolulu:20250316T090000
DTEND;TZID=Pacific/Honolulu:20250316T130000
DTSTAMP:20260419T085416
CREATED:20250121T112218Z
LAST-MODIFIED:20250316T163349Z
UID:10001299-1742115600-1742130000@kauaiconnect.com
SUMMARY:Beach House Craft Fair
DESCRIPTION:A beautiful setting on Kauai’s southside\, just outside the Beach House Restaurant in Poipu! More than 40 vendors offering quality handcrafted items including a wide variety of Kauai Keepsakes\, Clothing\, Jewelry\, Photographs\, Paintings\, Snacks\, and much more!! There is something for everyone!
URL:https://kauaiconnect.com/event/beach-house-craft-fair-24/
LOCATION:Beach House Restaurant\, 5022 Lawai Rd.\, Koloa\, 96756
CATEGORIES:Island Happenings
ATTACH;FMTTYPE=image/jpeg:https://kauaiconnect.com/wp-content/uploads/Beach-House-Craft-fair-image-FMTOl0.tmp_.jpg
ORGANIZER;CN="Jeannine Marin/Edwin Vea":MAILTO:mailto:jeannine@thebeachhousekauai.com
GEO:21.8811715;-159.4754205
X-APPLE-STRUCTURED-LOCATION;VALUE=URI;X-ADDRESS=Beach House Restaurant 5022 Lawai Rd. Koloa 96756;X-APPLE-RADIUS=500;X-TITLE=5022 Lawai Rd.:geo:-159.4754205,21.8811715
END:VEVENT
BEGIN:VEVENT
DTSTART;TZID=Pacific/Honolulu:20250316T100000
DTEND;TZID=Pacific/Honolulu:20250316T180000
DTSTAMP:20260419T085416
CREATED:20250114T110506Z
LAST-MODIFIED:20250316T163349Z
UID:10001290-1742119200-1742148000@kauaiconnect.com
SUMMARY:Kauai Psychic Fair
DESCRIPTION:The Kauai Psychic Fair is excited to be celebrating it’s 28th year of creating a safe\, welcoming space for all to share\, learn\, and explore spirituality! Everyone is welcome and Admission is free\, so bring your friends\, ohana\, and keiki over to show your support and be a part of the Aloha! Come explore the amazing Readers available for booking\, shop local vendors for unique art & gifts\, participate in free activities\, make connections\, gain spiritual insights\, nourish your soul\, and enjoy an uplifting and heartfelt weekend with us. \nLOCATION:\nThe fair is held indoors at the Kauai War Memorial Convention Hall where there is ample free parking and convenient access to a nearby bus stop. \nREADINGS:\nAll Readers have been vetted and practice with compassion and integrity.\nPre-booking for readings opens on Monday\, March 10th\, at noon.\nEach booking is 15 minutes and $35 + tax \nAttendees may purchase multiple bookings with various Readers to explore the wide variety of modalities offered and get a multi-dimensional look\, or they may book back-to-back sessions with an individual reader to allow extra time if desired or needed (such as having several questions or wanting a deeper healing session). \nPlease note that certain readings will require you to come prepared with the following information for the most personalized experience:\nAstrology or Human Design readings will require that you know your time\, date\, and place of birth.\nNumerology readings will require that you know your time\, date and place of birth and full given name at birth.\nDream Interpretation readings will work best if you write down your dream and bring it in \n*Please note\, psychic readings are for entertainment purposes only \nFor more information and to stay updated\, join our email newsletter and follow us on social media.
URL:https://kauaiconnect.com/event/kauai-psychic-fair-4/
LOCATION:Kauai War Memorial Convention Hall\, 4191 Hardy Street\, Lihue\, 96766
CATEGORIES:Island Happenings
ATTACH;FMTTYPE=image/png:https://kauaiconnect.com/wp-content/uploads/Flyer-t4LLkK.tmp_.png
ORGANIZER;CN="Loretta Falco":MAILTO:contact@lorettafalco.com
GEO:21.9733597;-159.3638919
X-APPLE-STRUCTURED-LOCATION;VALUE=URI;X-ADDRESS=DESCRIPTION:The Kauai Psychic Fair is excited to be celebrating it’s 28th year of creating a safe welcoming space for all to share learn and explore spirituality! Everyone is welcome and Admission is free so bring your friends ohana and keiki over to show your support and be a part of the Aloha! Come explore the amazing Readers available for booking shop local vendors for unique art & gifts participate in free activities make connections gain spiritual insights nourish your soul and enjoy an uplifting and heartfelt weekend with us. \n\nThe fair is held indoors at the Kauai War Memorial Convention Hall where there is ample free parking and convenient access to a nearby bus stop. \nREADINGS:\nAll Readers have been vetted and practice with compassion and integrity.\nPre-booking for readings opens on Monday March 10th at noon.\nEach booking is 15 minutes and $35 + tax \nAttendees may purchase multiple bookings with various Readers to explore the wide variety of modalities offered and get a multi-dimensional look or they may book back-to-back sessions with an individual reader to allow extra time if desired or needed (such as having several questions or wanting a deeper healing session). \nPlease note that certain readings will require you to come prepared with the following information for the most personalized experience:\nAstrology or Human Design readings will require that you know your time date and place of birth.\nNumerology readings will require that you know your time date and place of birth and full given name at birth.\nDream Interpretation readings will work best if you write down your dream and bring it in \n*Please note psychic readings are for entertainment purposes only \nFor more information and to stay updated join our email newsletter and follow us on social media.;X-APPLE-RADIUS=500;X-TITLE=4191 Hardy Street:geo:-159.3638919,21.9733597
END:VEVENT
BEGIN:VEVENT
DTSTART;TZID=Pacific/Honolulu:20250317T090000
DTEND;TZID=Pacific/Honolulu:20250317T160000
DTSTAMP:20260419T085416
CREATED:20250131T123537Z
LAST-MODIFIED:20250317T163415Z
UID:10001321-1742202000-1742227200@kauaiconnect.com
SUMMARY:Register Now for Hawaii Children’s Theatre’s Spring Break Classes!
DESCRIPTION:Join Hawaii Children’s Theatre for an unforgettable Spring Break filled with creativity and learning! \n🌟 Spring Break Theater Bootcamp (Aladdin KIDS) \nMarch 17 – 21 | 9 AM – 4 PM | Ages 8 -15 \nYoung performers will train in singing\, dancing\, and acting while preparing a special performance of Aladdin KIDS! No experience needed—just bring your enthusiasm and get ready to shine! The week ends with a live performance for family and friends on Friday at 6 PM. \n🎬 Film Production & Performance I \nMarch 17 – 21 | 9 AM – 12 PM | Ages 12-18 \nLearn the art of acting for the camera and get hands-on experience with auditions\, set etiquette\, industry lingo\, and basic editing. Participants will perform\, shoot\, and edit their own short scenes and leave with official certification as Hōʻike producers. \nLimited spots available—register today! Visit http://www.HCTKauai.org for details.
URL:https://kauaiconnect.com/event/register-now-for-hawaii-childrens-theatres-spring-break-classes/
LOCATION:Hōʻike Kauaʻi Community Television\, Rice Street 4318\, Lihue\, HI\, 96766\, United States
CATEGORIES:Island Happenings
ORGANIZER;CN="Hawaii Childrens Theatre":MAILTO:hawaiichildrenstheatre@hotmail.com
GEO:21.9733328;-159.3656876
X-APPLE-STRUCTURED-LOCATION;VALUE=URI;X-ADDRESS=Hōʻike Kauaʻi Community Television Rice Street 4318 Lihue HI 96766 United States;X-APPLE-RADIUS=500;X-TITLE=Rice Street 4318:geo:-159.3656876,21.9733328
END:VEVENT
BEGIN:VEVENT
DTSTART;TZID=Pacific/Honolulu:20250317T180000
DTEND;TZID=Pacific/Honolulu:20250317T203000
DTSTAMP:20260419T085416
CREATED:20241230T093351Z
LAST-MODIFIED:20250317T163415Z
UID:10001265-1742234400-1742243400@kauaiconnect.com
SUMMARY:E Kanikapila Kākou Week 7:  Kamalei Kawa’a Presents Hawaiian Soul: Mele Aloha ‘Āina
DESCRIPTION:E Kanikapila Kākou 2025  \nOUTRIGGER Kaua‘i Beach Resort and Spa  \nTheme: “Music Heals” & “Hawaiian Music Traditions”  \nMonday Nights – 6:00 – 8:30 pm\, through March 24; Doors open at 5:00 pm  \nWeek 7\, March 17:  Kamalei Kawa’a Presents Hawaiian Soul: Mele Aloha ‘Āina \nJoin Kamalei Kawa’a and his band for his Kauaʻi musical debut. Inspired by Hawaiian hero George Helm and his powerful message of Aloha ʻĀina\, Kamalei seeks to ignite that same passion and awaken our kuleana as Hawaiians to mālama and aloha ʻāina through mele.This special evening honors that legacy and aims to inspire a renewed love\, responsibility\, and pride for the land we call home. \nHailing from Paukūkalo\, Maui\, Kamalei is a renowned Native Hawaiian singer and songwriter who has earned a 4-time Nā Hoku Hanohano Award. Hula and Hawaiian music have always been a part of his upbringing\, shaping his deep connection to his heritage. As a dancer with the award-winning Hālau Kekuaokalā’au’ala’iliahi\, Kamalei was the 2008 Master Hula o Nā Keiki winner and the 2016 Richard Ho’opi’i Leo Ki’eki’e Falsetto Champion. He is also a Grammy nominee and a Top 20 contestant on NBC’s The Voice Season 25. \nPurchase tickets at: http://EKK2025.eventbrite.com \nThe Garden Island Arts Council presents E Kanikapila Kakou 2025 as a Community Enrichment program made possible with funding support from the Hawaiʻi Tourism Authority (HTA) with support services from Kilohana at Council for Native Hawaiian Advancement (CNHA). \nEKK Special from Hotel: \nWe are so excited you are attending our EKK Concert Series! We value and care for our guests and what better way to enjoy the OUTRIGGER Way with an overnight stay. On behalf of EKK and OUTRIGGER Kauai Beach Resort & Spa\, here is a link to our special rates\, as this season is a busy one\, we recommend booking your reservations promptly.  EKK Series Booking Link \nHotel Parking Options: Parking options at the OUTRIGGER Kaua`i Beach Resort include the following three choices: 1. Valet parking at the porte-cochere; 2. Free event parking in the unpaved area beyond the covered parking stalls — get there by turning right at the first opportunity and then take a left into a dirt field; or 3. Enter the first gated area on your right\, a bit closer to the ballroom entrance than the dirt entrance\, and turn into that gated area. Press a button to make the gate rise\, collect a ticket issued by the machine and hold onto it. Get it validated just inside the ballroom door to receive a special validation for a $10 total parking fee. Use that ticket to exit the gate\, paying the balance due at a kiosk machine near the restrooms or at the gate with your credit card.
URL:https://kauaiconnect.com/event/e-kanikapila-kakou-week-7-hawaiian-soul-mele-aloha-aina-kamalei-kawaa-music-top-20-in-season-25-of-the-voice/
LOCATION:Kauai Beach Resort\, Jasmine Ballroom\, 4331 Kauai Beach Drive\, Lihue\, 96766
CATEGORIES:Celebration,Featured Events,Island Happenings
ATTACH;FMTTYPE=image/jpeg:https://kauaiconnect.com/wp-content/uploads/3-cfAT91.tmp_.jpg
ORGANIZER;CN="Garden Island Arts Council":MAILTO:giac05@icloud.com
GEO:22.0099781;-159.3371893
X-APPLE-STRUCTURED-LOCATION;VALUE=URI;X-ADDRESS=Kauai Beach Resort Jasmine Ballroom 4331 Kauai Beach Drive Lihue 96766;X-APPLE-RADIUS=500;X-TITLE=4331 Kauai Beach Drive:geo:-159.3371893,22.0099781
END:VEVENT
BEGIN:VEVENT
DTSTART;TZID=Pacific/Honolulu:20250318T100000
DTEND;TZID=Pacific/Honolulu:20250319T160000
DTSTAMP:20260419T085416
CREATED:20250302T144953Z
LAST-MODIFIED:20250318T163357Z
UID:10001366-1742292000-1742400000@kauaiconnect.com
SUMMARY:Spring Break Critter Camp at Kaua’i Humane Society
DESCRIPTION:Does your child love animals\, dream of becoming a veterinarian\, or just want a fun day out during spring break? Critter Camp is a great experience for animal-loving keiki\, packed with games\, crafts\, safe animal playtime\, and learning about the shelter and responsible pet ownership. Plus\, they’ll earn a Humane Care for Cats/Dogs certificate! \nCamp Dates: March 18: 1st – 3rd Grade\, March 19: 3rd – 5th Grade\nTime: 10 a.m. – 4 p.m. \nCost: $75 per day (includes lunch)Location: Kaua’i Humane Society Classroom \n\nFun games and arts & crafts\nSafe animal playtime\nVisits from shelter staff to share what they do to help animals\nHumane education on how the shelter works\, animal welfare\, and being a responsible pet owner\nIt’s the perfect way for keiki to have fun and learn during spring break!\nFor questions\, email khsoutreach@kauaihumane.org.\nLimited slots available – Register at kauaihumane.org/event/critter-camp
URL:https://kauaiconnect.com/event/spring-break-critter-camp-at-kauai-humane-society/
LOCATION:Kauai Humane Society\, Puhi\, HI\, United States
CATEGORIES:Island Happenings
ATTACH;FMTTYPE=image/png:https://kauaiconnect.com/wp-content/uploads/Critter-Camp-Spring-Break-2025-Website-Event-Cover-YTcu7R.tmp_.png
ORGANIZER;CN="Kauai Humane Society":MAILTO:support@kauaihumane.org
GEO:21.9669593;-159.3957205
END:VEVENT
BEGIN:VEVENT
DTSTART;TZID=Pacific/Honolulu:20250318T153000
DTEND;TZID=Pacific/Honolulu:20250318T190000
DTSTAMP:20260419T085416
CREATED:20250311T154854Z
LAST-MODIFIED:20250318T163358Z
UID:10001380-1742311800-1742324400@kauaiconnect.com
SUMMARY:Guided Sunset Cart Tour
DESCRIPTION:Friends of Kauaʻi Wildlife Refuges will present a “Guided Sunset Cart Tour” fundraising event on Tuesday\, March 18\, 2025. Guests will enjoy a guided tour of Princeville Makai Golf Course – which is rated the 5th Most Scenic in the world by National Geographic. Tickets are $150 and include two admissions for a guided tour of Princeville Makai Golf Course\, one golf cart\, two free drinks and complimentary pupu\, and the opportunity to learn about our native wildlife and three local national wildlife refuges. Proceeds will support Friends of Kauaʻi Wildlife Refuges and make a difference in local wildlife education\, conservation and preservation programs. For more information or to purchase tickets\, visit www.fkwr.org or call 828-0384.
URL:https://kauaiconnect.com/event/guided-sunset-cart-tour/
LOCATION:Princeville Makai Golf Course\, 4080 Lei O Papa\, Princeville\, HI\, 96722\, United States
CATEGORIES:Island Happenings
ATTACH;FMTTYPE=image/png:https://kauaiconnect.com/wp-content/uploads/Guided-Sunset-Cart-Tour-Event-Flyer-Vhv6OV.tmp_.png
ORGANIZER;CN="Friends of Kauai Wildlife Refuges":MAILTO:info@kilaueapoint.org
GEO:22.2228711;-159.4681506
X-APPLE-STRUCTURED-LOCATION;VALUE=URI;X-ADDRESS=Princeville Makai Golf Course 4080 Lei O Papa Princeville HI 96722 United States;X-APPLE-RADIUS=500;X-TITLE=4080 Lei O Papa:geo:-159.4681506,22.2228711
END:VEVENT
BEGIN:VEVENT
DTSTART;TZID=Pacific/Honolulu:20250319T130000
DTEND;TZID=Pacific/Honolulu:20250319T170000
DTSTAMP:20260419T085416
CREATED:20241219T080347Z
LAST-MODIFIED:20250319T164855Z
UID:10001241-1742389200-1742403600@kauaiconnect.com
SUMMARY:Makai Music and Arts Festival
DESCRIPTION:Located on the Makai Lawn fronting Ka Haku Road\, the Makai Music and Arts Festival is hosted on each Wednesday of the week. Join us and experience entertainment from some of the best musicians on Kaua’i! Shop from an assortment of hand made jewelry\, crafts\, art\, and much more by local vendors.
URL:https://kauaiconnect.com/event/makai-music-and-arts-festival-39/
LOCATION:Princeville Makai Golf Course\, 4080 Lei O Papa\, Princeville\, HI\, 96722\, United States
CATEGORIES:Island Happenings
ATTACH;FMTTYPE=image/png:https://kauaiconnect.com/wp-content/uploads/MAKAI-LOGO-TRANS-2019-OLyLXO.tmp_.png
GEO:22.2228711;-159.4681506
X-APPLE-STRUCTURED-LOCATION;VALUE=URI;X-ADDRESS=Princeville Makai Golf Course 4080 Lei O Papa Princeville HI 96722 United States;X-APPLE-RADIUS=500;X-TITLE=4080 Lei O Papa:geo:-159.4681506,22.2228711
END:VEVENT
BEGIN:VEVENT
DTSTART;TZID=UTC:20250319T153000
DTEND;TZID=UTC:20250319T180000
DTSTAMP:20260419T085416
CREATED:20241219T060347Z
LAST-MODIFIED:20250305T110507Z
UID:10001240-1742398200-1742407200@kauaiconnect.com
SUMMARY:Culinary Market
DESCRIPTION:Discover the South Shore’s gourmet farmers market\, which boasts over 25 local farmers and vendors offering fresh produce and unique local delights. \n  \nIn partnership with the Kauai County Farm Bureau\, our culinary market features fresh fruits and vegetables as well as other specialties and local products – all Kauai grown and made. The weekly Kauai Culinary Market provides the community with an option to purchase essential goods while supporting local farmers\, producers and vendors. \n  \nSocial distancing guidelines will be in place and all safety precautions will be strictly followed: \n\nSocial distance of at least 6 feet from any other person will be maintained.\nFace mask will be worn at all times.\nHand sanitation stations will be provided.\nHigh-touch areas will be frequently sanitized.\nPersonal social interactions will be limited.
URL:https://kauaiconnect.com/event/culinary-market-38/
LOCATION:Hawaii
CATEGORIES:Ongoing Events
END:VEVENT
BEGIN:VEVENT
DTSTART;TZID=Pacific/Honolulu:20250321T170000
DTEND;TZID=Pacific/Honolulu:20250321T200000
DTSTAMP:20260419T085416
CREATED:20241221T080419Z
LAST-MODIFIED:20241224T083459Z
UID:10001244-1742576400-1742587200@kauaiconnect.com
SUMMARY:Aloha Friday Art Nights at Hā Coffee
DESCRIPTION:Come listen to some open mic\, watch live artists paint\, and check out the beer garden by Kauai Island Brewing Co. and food with Hā Coffee. \nHosted by Ulupono Initaitive and supported by Hawaii Tourism Authority Community Enrichment Program.
URL:https://kauaiconnect.com/event/aloha-friday-art-nights-at-ha-coffee-45/
LOCATION:Ha Coffee Lihue\, 4180 Rice St\, Lihue\, 96766
CATEGORIES:Celebration,Featured Events,Island Happenings
ATTACH;FMTTYPE=image/jpeg:https://kauaiconnect.com/wp-content/uploads/3-1Sn90o.tmp_.jpg
ORGANIZER;CN="Rice Street Business Association":MAILTO:kauairsba@gmail.com
GEO:21.9711145;-159.3625084
X-APPLE-STRUCTURED-LOCATION;VALUE=URI;X-ADDRESS=Ha Coffee Lihue 4180 Rice St Lihue 96766;X-APPLE-RADIUS=500;X-TITLE=4180 Rice St:geo:-159.3625084,21.9711145
END:VEVENT
BEGIN:VEVENT
DTSTART;TZID=UTC:20250321T183000
DTEND;TZID=UTC:20250321T203000
DTSTAMP:20260419T085416
CREATED:20241221T060544Z
LAST-MODIFIED:20250321T115012Z
UID:10001243-1742581800-1742589000@kauaiconnect.com
SUMMARY:Kanikapila
DESCRIPTION:Celebrate Aloha Friday with live music performances by local Kaua’i bands and artists.
URL:https://kauaiconnect.com/event/kanikapila-39/
LOCATION:Hawaii
CATEGORIES:Ongoing Events
END:VEVENT
BEGIN:VEVENT
DTSTART;TZID=Pacific/Honolulu:20250322T100000
DTEND;TZID=Pacific/Honolulu:20250322T120000
DTSTAMP:20260419T085416
CREATED:20250310T154847Z
LAST-MODIFIED:20250322T170549Z
UID:10001377-1742637600-1742644800@kauaiconnect.com
SUMMARY:Kuleana AI Lab Launch Event
DESCRIPTION:AI isn’t just for big tech companies—it has the power to help small businesses\, local entrepreneurs\, and everyday people right here on Kaua‘i. But how? Join us on Saturday\, March 22\, from 10:00 AM to 12:00 PM at Kuleana Coworking for the Kuleana AI Lab Launch Event to find out! This free\, family-friendly event will feature a Hawaiian blessing by Kumu Sabra Kauka\, hands-on AI demonstrations\, and a practical introduction to Generative AI. \nLearn how AI can level the playing field for small businesses—without the need for a big budget or a tech degree. See how AI can take employee scheduling from hours to minutes\, quickly analyze what customers are saying about your business\, help you write that book you been talkin’ about\, and handle tedious admin work. No tech experience needed! Come see AI in action and learn how you can easily stay ahead of the coming changes in the workplace.
URL:https://kauaiconnect.com/event/kuleana-ai-lab-launch-event/
LOCATION:Kuleana AI Lab – Kukui Grove Shopping Center\, 3-2600 KAUMUALII HWY - Suite 1650\, Lihue\, HI\, 96766\, United States
CATEGORIES:Island Happenings
ATTACH;FMTTYPE=image/jpeg:https://kauaiconnect.com/wp-content/uploads/IMG_3219-scaled-BJpeQl.tmp_.jpg
ORGANIZER;CN="Kuleana AI Lab":MAILTO:info@kuleana.work
GEO:21.9701471;-159.3803377
X-APPLE-STRUCTURED-LOCATION;VALUE=URI;X-ADDRESS=Kuleana AI Lab – Kukui Grove Shopping Center 3-2600 KAUMUALII HWY - Suite 1650 Lihue HI 96766 United States;X-APPLE-RADIUS=500;X-TITLE=3-2600 KAUMUALII HWY - Suite 1650:geo:-159.3803377,21.9701471
END:VEVENT
BEGIN:VEVENT
DTSTART;TZID=Pacific/Honolulu:20250322T190000
DTEND;TZID=Pacific/Honolulu:20250322T213000
DTSTAMP:20260419T085416
CREATED:20250310T154848Z
LAST-MODIFIED:20250322T170550Z
UID:10001378-1742670000-1742679000@kauaiconnect.com
SUMMARY:Motown Night Kauai
DESCRIPTION:If you love classic Motown hits\, live music\, and a great night out\, then Motown Night Kauai is exactly where you want to be. \n📅 Date: March 22\, 2025📍 Location: Kauai Community College Performing Arts Center⏳ Time: Doors Open at 6 PM | Show Starts at 7 PM \nWhy You Should Be There:✔ A Live Tribute to Motown’s Greatest – Experience the sounds of The Temptations\, Marvin Gaye\, Diana Ross\, and more\, performed by top-tier vocalists and musicians.✔ A One-Time Event – This isn’t a recurring show. One night only. One chance to be part of it.✔ A Feel-Good Night Out – Whether you’re reliving the classics or discovering them for the first time\, this show promises good vibes\, great music\, and an unforgettable experience. \n🎟️ Tickets are selling now. Secure yours before they’re gone!
URL:https://kauaiconnect.com/event/motown-night-kauai/
LOCATION:KCC Performing Arts Center\, Lihue\, HI\, 96766\, United States
CATEGORIES:Island Happenings
ATTACH;FMTTYPE=image/png:https://kauaiconnect.com/wp-content/uploads/Motown-Night-WzEYuo.tmp_.png
ORGANIZER;CN="Premier Events Hawaii":MAILTO:ask@eventshawaii.info
GEO:21.9649125;-159.4213563
END:VEVENT
END:VCALENDAR