BEGIN:VCALENDAR
VERSION:2.0
PRODID:-//Kauaʻi Connect - ECPv6.15.20//NONSGML v1.0//EN
CALSCALE:GREGORIAN
METHOD:PUBLISH
X-WR-CALNAME:Kauaʻi Connect
X-ORIGINAL-URL:https://kauaiconnect.com
X-WR-CALDESC:Events for Kauaʻi Connect
REFRESH-INTERVAL;VALUE=DURATION:PT1H
X-Robots-Tag:noindex
X-PUBLISHED-TTL:PT1H
BEGIN:VTIMEZONE
TZID:Pacific/Honolulu
BEGIN:STANDARD
TZOFFSETFROM:-1000
TZOFFSETTO:-1000
TZNAME:HST
DTSTART:20240101T000000
END:STANDARD
END:VTIMEZONE
BEGIN:VTIMEZONE
TZID:UTC
BEGIN:STANDARD
TZOFFSETFROM:+0000
TZOFFSETTO:+0000
TZNAME:UTC
DTSTART:20240101T000000
END:STANDARD
END:VTIMEZONE
BEGIN:VEVENT
DTSTART;TZID=Pacific/Honolulu:20250309T160000
DTEND;TZID=Pacific/Honolulu:20250309T200000
DTSTAMP:20260419T083734
CREATED:20241209T064928Z
LAST-MODIFIED:20250309T153327Z
UID:10001222-1741536000-1741550400@kauaiconnect.com
SUMMARY:Princeville Night Market
DESCRIPTION:Connect with 40 of Kauai’s best artisans at this monthly market. Food trucks\, restaurants\, and several musicians make it a market to remember! \nOur exact vendor line-up changes regularly\, but you’re sure to find paintings\, wood work\, photography\, jewelry\, skincare & more\, plus meet the local artists who make it all. Three different music tents create a lively atmosphere\, and the food trucks and dessert options aren’t to be missed. \nThis free and family friendly event has been proudly running since 2015. You’ll find us on the Second Sunday of each month from 4-8pm\, only at the Princeville Shopping Center. Our open-air outdoor market is a rain or shine event. We hope to see you there! \nFollow us on instagram! @PrincevilleNightMarket
URL:https://kauaiconnect.com/event/princeville-night-market-12/
LOCATION:Princeville Shopping Center\, 5-4280 Kuhio Hwy\, Princeville\, HI\, 96722\, United States
CATEGORIES:Island Happenings,Market
ATTACH;FMTTYPE=image/jpeg:https://kauaiconnect.com/wp-content/uploads/Screenshot_20240918_110406_Instagram-hFzouW.tmp_.jpg
ORGANIZER;CN="Princeville Night Market":MAILTO:PrincevilleNightMarket@gmail.com
GEO:22.2138865;-159.4737941
X-APPLE-STRUCTURED-LOCATION;VALUE=URI;X-ADDRESS=Princeville Shopping Center 5-4280 Kuhio Hwy Princeville HI 96722 United States;X-APPLE-RADIUS=500;X-TITLE=5-4280 Kuhio Hwy:geo:-159.4737941,22.2138865
END:VEVENT
BEGIN:VEVENT
DTSTART;TZID=Pacific/Honolulu:20250310T180000
DTEND;TZID=Pacific/Honolulu:20250310T203000
DTSTAMP:20260419T083734
CREATED:20241230T093350Z
LAST-MODIFIED:20250310T154841Z
UID:10001264-1741629600-1741638600@kauaiconnect.com
SUMMARY:E Kanikapila Kākou Week 6:  “Lei Hiwahiwa: A Lei of Tributes” Madison Makanaokukahaku Scott & Kyle La Benz; “Mele & Memory: Alive in Song” Kim Sueoka & Alan Van Zee
DESCRIPTION:E Kanikapila Kākou 2025  \nOUTRIGGER Kaua‘i Beach Resort and Spa  \nTheme: “Music Heals” & “Hawaiian Music Traditions”  \nMonday Nights – 6:00 – 8:30 pm\, through March 24; Doors open at 5:00 pm \n\n\n\n\nWeek 6\, March 10:  “Lei Hiwahiwa: A Lei of Tributes” Madison Makanaokukahaku Scott & Kyle La Benz; “Mele & Memory: Alive in Song” Kim Sueoka & Alan Van Zee \nMakanaokahaku & Kyle La Benz will serenade you with sweet voices\, guitar\, ʻukulele and piano as they share the warmth of both traditional and original Hawaiian songs. Makanaokahaku means “gift of God”. Without the burden of eyesight\, Madison focuses on how to experience Godʻs creation through her other heightened senses. A gifted vocalist and pianist\, she studied classical and jazz in her hometown of Cambria\, California. Introduced to Hawaiian music in her teens\, she took to the language as well. Her journey is filled with melodies that tell stories she can’t wait to share with you. \nKyle was raised on O’ahu\, and while a student at San Jose University purchased his first guitar and dove deeply into his love of music.  His rich falsetto soars like the ‘io (Hawaiian hawk).  Kyle teaches and performs regularly on the beautiful Garden Isle of Kaua’i\, where he loves to enjoy opportunities to fish and hike. \nLet Makana and Kyle take you on a musical listening adventure that brings you Aloha.  It’s not just about the notes; it’s about connecting with you through their passion for music\, language and culture. \nKim Sueoka & Alan Van Zee \nKim Sueoka and Alan Van Zee lovingly present a collection of songs with deep ties to the hearts and minds of Kauai’s people; featuring beloved music composed by and for the Hawaiian Monarchy\, songs to awaken collective memory\, and songs that reconnect us to our own precious stories. \nBorn and raised on Kaua’i\, Kim Sueoka grew up among the joyful sounds of family and friends celebrating music\, food\, and togetherness. With guidance and encouragement from her family and teachers here on Kaua’i\, she earned vocal performance degrees in Indiana and Minnesota. She is humbled and grateful to have performed nationally and internationally while building upon her deep interests in Hawaiian music and Participatory Arts. In 2024\, she spearheaded the Music & Memories community sing-along series on Kaua’i with the Alzheimer’s Association. She currently serves as Program Director at Kaua’i Adult Day Health Center and continues to share her love of music with others. \nAlan Van Zee has been part of the music scene on Kauai since the 1980s\, as a singer\, accompanist\, writer\, arranger and director.  Born into a musical family\, Alan was active in musical activities at school\, church and the community from a very young age. He received a BA in Music Theory; moved to England\, where he sang with the BBC Symphony Chorus; and then lived in Japan\, where he was involved in a chamber music group\, mainly playing harpsichord. Currently Alan directs music at St. Michael’s Church in Līhuʻe and is often seen as musical director for Hawaiʻi Children’s Theatre\, as well as pianist with the Sunset Swing Band. \n\n\n\n\n Purchase tickets at:http://EKK2025.eventbrite.com \nThe Garden Island Arts Council presents E Kanikapila Kakou 2025 as a Community Enrichment program made possible with funding support from the Hawaiʻi Tourism Authority (HTA) with support services from Kilohana at Council for Native Hawaiian Advancement (CNHA). \nEKK Special from Hotel: \nWe are so excited you are attending our EKK Concert Series! We value and care for our guests and what better way to enjoy the OUTRIGGER Way with an overnight stay. On behalf of EKK and OUTRIGGER Kauai Beach Resort & Spa\, here is a link to our special rates\, as this season is a busy one\, we recommend booking your reservations promptly.  EKK Series Booking Link \nHotel Parking Options: Parking options at the OUTRIGGER Kaua`i Beach Resort include the following three choices: 1. Valet parking at the porte-cochere; 2. Free event parking in the unpaved area beyond the covered parking stalls — get there by turning right at the first opportunity and then take a left into a dirt field; or 3. Enter the first gated area on your right\, a bit closer to the ballroom entrance than the dirt entrance\, and turn into that gated area. Press a button to make the gate rise\, collect a ticket issued by the machine and hold onto it. Get it validated just inside the ballroom door to receive a special validation for a $10 total parking fee. Use that ticket to exit the gate\, paying the balance due at a kiosk machine near the restrooms or at the gate with your credit card.
URL:https://kauaiconnect.com/event/e-kanikapila-kakou-week-6-lei-hiwahiwa-a-lei-of-tributes-madison-makanaokukahaku-scott-kyle-la-benz-mele-memory-alive-in-song-kim-sueoka-alan/
LOCATION:Kauai Beach Resort\, Jasmine Ballroom\, 4331 Kauai Beach Drive\, Lihue\, 96766
CATEGORIES:Celebration,Featured Events,Island Happenings
ATTACH;FMTTYPE=image/jpeg:https://kauaiconnect.com/wp-content/uploads/Week-6-Photo-2025-2-YJLwOC.tmp_.jpg
ORGANIZER;CN="Garden Island Arts Council":MAILTO:giac05@icloud.com
GEO:22.0099781;-159.3371893
X-APPLE-STRUCTURED-LOCATION;VALUE=URI;X-ADDRESS=Kauai Beach Resort Jasmine Ballroom 4331 Kauai Beach Drive Lihue 96766;X-APPLE-RADIUS=500;X-TITLE=4331 Kauai Beach Drive:geo:-159.3371893,22.0099781
END:VEVENT
BEGIN:VEVENT
DTSTART;TZID=Pacific/Honolulu:20250311T110000
DTEND;TZID=Pacific/Honolulu:20250311T130000
DTSTAMP:20260419T083734
CREATED:20241227T100514Z
LAST-MODIFIED:20250311T154850Z
UID:10001253-1741690800-1741698000@kauaiconnect.com
SUMMARY:Puppy Hour with Kauai Humane Society at Hale Lihue
DESCRIPTION:Join us at Hale Lihue for our fundraiser and Puppy Hour for Kauai Humane Society. Every 2nd Tuesdays of the month\, meet the most adorable puppies that are available for adoption\, support Ha Coffee\, and donate to support our islandʻs only animal shelter.
URL:https://kauaiconnect.com/event/puppy-hour-with-kauai-humane-society-at-hale-lihue-3/
LOCATION:Hale Lihue\, 4286 Rice Street\, Lihue\, HI\, 96766\, United States
CATEGORIES:Island Happenings
ATTACH;FMTTYPE=image/png:https://kauaiconnect.com/wp-content/uploads/puppy-hour-4-h4ylMd.tmp_.png
ORGANIZER;CN="Rice Street Business Association":MAILTO:kauairsba@gmail.com
GEO:21.9728519;-159.365047
X-APPLE-STRUCTURED-LOCATION;VALUE=URI;X-ADDRESS=Hale Lihue 4286 Rice Street Lihue HI 96766 United States;X-APPLE-RADIUS=500;X-TITLE=4286 Rice Street:geo:-159.365047,21.9728519
END:VEVENT
BEGIN:VEVENT
DTSTART;TZID=Pacific/Honolulu:20250312T130000
DTEND;TZID=Pacific/Honolulu:20250312T170000
DTSTAMP:20260419T083734
CREATED:20241212T070556Z
LAST-MODIFIED:20250312T160345Z
UID:10001230-1741784400-1741798800@kauaiconnect.com
SUMMARY:Makai Music and Arts Festival
DESCRIPTION:Located on the Makai Lawn fronting Ka Haku Road\, the Makai Music and Arts Festival is hosted on each Wednesday of the week. Join us and experience entertainment from some of the best musicians on Kaua’i! Shop from an assortment of hand made jewelry\, crafts\, art\, and much more by local vendors.
URL:https://kauaiconnect.com/event/makai-music-and-arts-festival-38/
LOCATION:Princeville Makai Golf Course\, 4080 Lei O Papa\, Princeville\, HI\, 96722\, United States
CATEGORIES:Island Happenings
ATTACH;FMTTYPE=image/png:https://kauaiconnect.com/wp-content/uploads/MAKAI-LOGO-TRANS-2019-OLyLXO.tmp_.png
GEO:22.2228711;-159.4681506
X-APPLE-STRUCTURED-LOCATION;VALUE=URI;X-ADDRESS=Princeville Makai Golf Course 4080 Lei O Papa Princeville HI 96722 United States;X-APPLE-RADIUS=500;X-TITLE=4080 Lei O Papa:geo:-159.4681506,22.2228711
END:VEVENT
BEGIN:VEVENT
DTSTART;TZID=UTC:20250312T153000
DTEND;TZID=UTC:20250312T180000
DTSTAMP:20260419T083734
CREATED:20241212T000453Z
LAST-MODIFIED:20250305T110506Z
UID:10001225-1741793400-1741802400@kauaiconnect.com
SUMMARY:Culinary Market
DESCRIPTION:Discover the South Shore’s gourmet farmers market\, which boasts over 25 local farmers and vendors offering fresh produce and unique local delights. \n  \nIn partnership with the Kauai County Farm Bureau\, our culinary market features fresh fruits and vegetables as well as other specialties and local products – all Kauai grown and made. The weekly Kauai Culinary Market provides the community with an option to purchase essential goods while supporting local farmers\, producers and vendors. \n  \nSocial distancing guidelines will be in place and all safety precautions will be strictly followed: \n\nSocial distance of at least 6 feet from any other person will be maintained.\nFace mask will be worn at all times.\nHand sanitation stations will be provided.\nHigh-touch areas will be frequently sanitized.\nPersonal social interactions will be limited.
URL:https://kauaiconnect.com/event/culinary-market-37/
LOCATION:Hawaii
CATEGORIES:Ongoing Events
END:VEVENT
BEGIN:VEVENT
DTSTART;TZID=Pacific/Honolulu:20250314T000000
DTEND;TZID=Pacific/Honolulu:20250316T235959
DTSTAMP:20260419T083734
CREATED:20250225T141939Z
LAST-MODIFIED:20250314T161951Z
UID:10001352-1741910400-1742169599@kauaiconnect.com
SUMMARY:Super American Circus
DESCRIPTION:The Super American Circus\, where tradition meets modern marvels in an electrifying spectacle of boundless energy\, daring stunts\, and aerial acrobatics! Step right up and prepare to be dazzled by a fusion of classic circus charm and cutting-edge entertainment.
URL:https://kauaiconnect.com/event/super-american-circus/
LOCATION:Kauai Community College  Performing Arts Center\, 3-1901 Kaumualii Hwy\, Lihue\, HI\, 96766\, United States
CATEGORIES:Island Happenings
ATTACH;FMTTYPE=image/jpeg:https://kauaiconnect.com/wp-content/uploads/Photo-Aug-06-2024-3-43-11-PM-JaJqas.tmp_.jpg
ORGANIZER;CN="Kauai Community College Student Activities Council":MAILTO:Localnel2000@gmail.com
GEO:21.9649125;-159.4213563
X-APPLE-STRUCTURED-LOCATION;VALUE=URI;X-ADDRESS=Kauai Community College  Performing Arts Center 3-1901 Kaumualii Hwy Lihue HI 96766 United States;X-APPLE-RADIUS=500;X-TITLE=3-1901 Kaumualii Hwy:geo:-159.4213563,21.9649125
END:VEVENT
BEGIN:VEVENT
DTSTART;TZID=Pacific/Honolulu:20250314T170000
DTEND;TZID=Pacific/Honolulu:20250314T200000
DTSTAMP:20260419T083734
CREATED:20241214T072032Z
LAST-MODIFIED:20241224T083459Z
UID:10001232-1741971600-1741982400@kauaiconnect.com
SUMMARY:Aloha Friday Art Nights at Hā Coffee
DESCRIPTION:Come listen to some open mic\, watch live artists paint\, and check out the beer garden by Kauai Island Brewing Co. and food with Hā Coffee. \nHosted by Ulupono Initaitive and supported by Hawaii Tourism Authority Community Enrichment Program.
URL:https://kauaiconnect.com/event/aloha-friday-art-nights-at-ha-coffee-44/
LOCATION:Ha Coffee Lihue\, 4180 Rice St\, Lihue\, 96766
CATEGORIES:Celebration,Featured Events,Island Happenings
ATTACH;FMTTYPE=image/jpeg:https://kauaiconnect.com/wp-content/uploads/3-1Sn90o.tmp_.jpg
ORGANIZER;CN="Rice Street Business Association":MAILTO:kauairsba@gmail.com
GEO:21.9711145;-159.3625084
X-APPLE-STRUCTURED-LOCATION;VALUE=URI;X-ADDRESS=Ha Coffee Lihue 4180 Rice St Lihue 96766;X-APPLE-RADIUS=500;X-TITLE=4180 Rice St:geo:-159.3625084,21.9711145
END:VEVENT
BEGIN:VEVENT
DTSTART;TZID=UTC:20250314T183000
DTEND;TZID=UTC:20250314T203000
DTSTAMP:20260419T083734
CREATED:20241214T000503Z
LAST-MODIFIED:20250314T114846Z
UID:10001231-1741977000-1741984200@kauaiconnect.com
SUMMARY:Kanikapila
DESCRIPTION:Celebrate Aloha Friday with live music performances by local Kaua’i bands and artists.
URL:https://kauaiconnect.com/event/kanikapila-38/
LOCATION:Hawaii
CATEGORIES:Ongoing Events
END:VEVENT
BEGIN:VEVENT
DTSTART;TZID=UTC:20250314T183000
DTEND;TZID=UTC:20250314T203000
DTSTAMP:20260419T083734
CREATED:20250306T110358Z
LAST-MODIFIED:20250314T114846Z
UID:10001368-1741977000-1741984200@kauaiconnect.com
SUMMARY:Ohana Movie night: Moana 2
DESCRIPTION:March 14\,2025 6:30pm -8:30pm \nJoin us at the Palm Court for a movie night under the stars! Snacks and refreshments will be served.
URL:https://kauaiconnect.com/event/ohana-movie-night-moana-2/
LOCATION:Palm Court
CATEGORIES:Events,Ongoing Events,Special Events,Special Events and Promotions
ATTACH;FMTTYPE=image/jpeg:https://kauaiconnect.com/wp-content/uploads/Moana-2-sazTzd.tmp_.jpg
END:VEVENT
BEGIN:VEVENT
DTSTART;TZID=Pacific/Honolulu:20250315T080000
DTEND;TZID=Pacific/Honolulu:20250315T140000
DTSTAMP:20260419T083734
CREATED:20250114T110445Z
LAST-MODIFIED:20250315T163357Z
UID:10001289-1742025600-1742047200@kauaiconnect.com
SUMMARY:Kauai Island Crafters Fair
DESCRIPTION:🌺 Artisan & Crafters Fair hosted by Kauai Island Crafters Fair! 🌺 \nEmbark on a journey of creativity and culture at the Kauai Island Crafters Fair\, a celebrated event with a 15-year tradition of bringing together the best of Kauai’s local artisans and crafters.  Nestled in the heart of this breathtaking island\, our fair showcases the essence of Kauai’s craftsmanship\, offering a unique opportunity for both visitors and locals to connect with the vibrant artistic spirit of the community.  Step into a world where every item tells a story\, as skilled Kauai artisans proudly display their locally handmade treasures.  Immerse yourself in a shopping experience where each handcrafted product is a piece of Kauai’s soul\, inviting you to take home a special memento of your island vacation. \n✨ Event Highlights: \n\nShop Handmade: Explore a diverse selection of locally crafted items\, from jewelry to home décor\, art\, clothing\, sewn textiles\, and more.\nMeet the Makers: Get to know the talented artisans behind the creations and hear the stories that inspire their work.\nSupport Local: By attending\, you’re helping small Kauai businesses thrive and preserving the island’s rich cultural artistry.\n\n📍 Location: Indoors with convenient outdoor parking. \nBring your family and friends and immerse yourself in the warmth and creativity of Kauai’s local community. Don’t miss this opportunity to discover that perfect handmade treasure! \n📣 Interested vendors can reach out to kauaiislandcraftersfair@gmail.com.  Spread the word\, tag your friends\, and follow @kauaiislandcraftersfair – Let’s support Kauai’s local artisans together! \n#KauaiIslandCraftersFair #ShopLocalKauai #SupportSmallBusiness #HandmadeOnKauai #kauaicraftfair #kauaishopping #koloaneighborhoodcenter #kauaihandmadegifts #kauaisouvenirs #kauaivacation #kauaihawaii
URL:https://kauaiconnect.com/event/kauai-island-crafters-fair-30/
LOCATION:Koloa Neighborhood Center\, 3461B Weliweli Rd.\, Koloa\, 96756
CATEGORIES:Island Happenings
ATTACH;FMTTYPE=image/jpeg:https://kauaiconnect.com/wp-content/uploads/Wooden-beads-wPearls-DCornejo-2024-rotated-5EszCR.tmp_.jpg
ORGANIZER;CN="Debbie Yanagihara":MAILTO:kauaiislandcf@hotmail.com
GEO:21.9035095;-159.4639758
X-APPLE-STRUCTURED-LOCATION;VALUE=URI;X-ADDRESS=Koloa Neighborhood Center 3461B Weliweli Rd. Koloa 96756;X-APPLE-RADIUS=500;X-TITLE=3461B Weliweli Rd.:geo:-159.4639758,21.9035095
END:VEVENT
BEGIN:VEVENT
DTSTART;TZID=Pacific/Honolulu:20250315T090000
DTEND;TZID=Pacific/Honolulu:20250315T120000
DTSTAMP:20260419T083734
CREATED:20250124T114956Z
LAST-MODIFIED:20250315T163357Z
UID:10001311-1742029200-1742040000@kauaiconnect.com
SUMMARY:Grow Aloha Plant Giveaway: South Shore Visitor Center
DESCRIPTION:When we grow Hawaiian native plants and heritage crops\, we grow aloha for ʻāina. Adopt one of these cherished plants every third Saturday at our free Grow Aloha plant giveaways at National Tropical Botanical Garden locations on Kauaʻi. \nGrow Aloha plant adoptions are free and open to Hawai’i residents (one per family). Please note that plants are subject to availability and will be distributed on a first-come\, first-served basis. \nAdoption locations on Kauaʻi:\nAllerton Garden & McBryde Garden\nSouth Shore Visitor Center\n(across Spouting Horn)\n4425 Lawai Rd\nKoloa\, Kauaʻi\, HI 96756 \nLimahuli Garden & Preserve\nLimahuli Garden Visitor Center\n5-8291 Kuhio Hwy\nHanalei\, Kauaʻi\, HI 96714
URL:https://kauaiconnect.com/event/grow-aloha-plant-giveaway-2/
LOCATION:National Tropical Botanical Garden\, 4425 Lawai Road\, Koloa\, HI\, 96756\, United States
CATEGORIES:Island Happenings
ATTACH;FMTTYPE=image/png:https://kauaiconnect.com/wp-content/uploads/grow-aloha-ssg-QAD5LW.tmp_.png
ORGANIZER;CN="National Tropical Botanical Garden":MAILTO:gsilva@ntbg.org
GEO:21.881396;-159.474827
X-APPLE-STRUCTURED-LOCATION;VALUE=URI;X-ADDRESS=National Tropical Botanical Garden 4425 Lawai Road Koloa HI 96756 United States;X-APPLE-RADIUS=500;X-TITLE=4425 Lawai Road:geo:-159.474827,21.881396
END:VEVENT
BEGIN:VEVENT
DTSTART;TZID=Pacific/Honolulu:20250315T090000
DTEND;TZID=Pacific/Honolulu:20250315T120000
DTSTAMP:20260419T083734
CREATED:20250225T141942Z
LAST-MODIFIED:20250315T163410Z
UID:10001353-1742029200-1742040000@kauaiconnect.com
SUMMARY:Grow Aloha Plant Giveaway: Limahuli Garden & Preserve
DESCRIPTION:When we grow Hawaiian native plants and heritage crops\, we grow aloha for ʻāina. Adopt one of these cherished plants every third Saturday at our free Grow Aloha plant giveaways at National Tropical Botanical Garden locations on Kauaʻi. \nGrow Aloha plant adoptions are free and open to Hawai’i residents (one per family). Please note that plants are subject to availability and will be distributed on a first-come\, first-served basis. \nAdoption locations on Kauaʻi:\nAllerton Garden & McBryde Garden\nSouth Shore Visitor Center\n(across Spouting Horn)\n4425 Lawai Rd\nKoloa\, Kauaʻi\, HI 96756 \nLimahuli Garden & Preserve\nLimahuli Garden Visitor Center\n5-8291 Kuhio Hwy\nHanalei\, Kauaʻi\, HI 96714
URL:https://kauaiconnect.com/event/grow-aloha-plant-giveaway-limahuli-garden-preserve/
LOCATION:Limahuli Garden and Preserve\, 5-8291 Kuhio Hwy\, Hanalei\, 96714
CATEGORIES:Island Happenings
ATTACH;FMTTYPE=image/png:https://kauaiconnect.com/wp-content/uploads/grow-aloha-limahuli-Yriwxo.tmp_.png
ORGANIZER;CN="National Tropical Botanical Garden":MAILTO:gsilva@ntbg.org
GEO:22.2200953;-159.5754326
X-APPLE-STRUCTURED-LOCATION;VALUE=URI;X-ADDRESS=Limahuli Garden and Preserve 5-8291 Kuhio Hwy Hanalei 96714;X-APPLE-RADIUS=500;X-TITLE=5-8291 Kuhio Hwy:geo:-159.5754326,22.2200953
END:VEVENT
BEGIN:VEVENT
DTSTART;TZID=Pacific/Honolulu:20250315T093000
DTEND;TZID=Pacific/Honolulu:20250315T123000
DTSTAMP:20260419T083734
CREATED:20241215T071949Z
LAST-MODIFIED:20241218T104859Z
UID:10001233-1742031000-1742041800@kauaiconnect.com
SUMMARY:Princeville Farmers and Arts Market
DESCRIPTION:A Weekly event in the beautiful Prince Albert Park in Princeville.  Featuring locally grown produce\, honey\, and value added products along with a vast array of Kauai designed and created products including handcrafts\, jewelry\, clothing\, photos\, artwork and more from Kauai’s talented artists. Live music and local food vendors make this a must stop for both visitors and locals alike!
URL:https://kauaiconnect.com/event/princeville-farmers-and-arts-market-38/
LOCATION:Prince Albert Park\, Princeville\, 4334 Emmalani Rd.\, Princeville\, HI\, 96722\, United States
CATEGORIES:Island Happenings,Market
ATTACH;FMTTYPE=image/jpeg:https://kauaiconnect.com/wp-content/uploads/IMG_0008-Ee3vDw.tmp_.jpg
ORGANIZER;CN="Bloom and Prosper Hawaii":MAILTO:mckenzie@bloomandprosperhawaii.com
GEO:22.2148061;-159.4716207
X-APPLE-STRUCTURED-LOCATION;VALUE=URI;X-ADDRESS=Prince Albert Park Princeville 4334 Emmalani Rd. Princeville HI 96722 United States;X-APPLE-RADIUS=500;X-TITLE=4334 Emmalani Rd.:geo:-159.4716207,22.2148061
END:VEVENT
BEGIN:VEVENT
DTSTART;TZID=Pacific/Honolulu:20250315T100000
DTEND;TZID=Pacific/Honolulu:20250315T180000
DTSTAMP:20260419T083734
CREATED:20250114T110433Z
LAST-MODIFIED:20250315T163357Z
UID:10001287-1742032800-1742061600@kauaiconnect.com
SUMMARY:Kauai Psychic Fair
DESCRIPTION:The Kauai Psychic Fair is excited to be celebrating it’s 28th year of creating a safe\, welcoming space for all to share\, learn\, and explore spirituality! Everyone is welcome and Admission is free\, so bring your friends\, ohana\, and keiki over to show your support and be a part of the Aloha! Come explore the amazing Readers available for booking\, shop local vendors for unique art & gifts\, participate in free activities\, make connections\, gain spiritual insights\, nourish your soul\, and enjoy an uplifting and heartfelt weekend with us. \nLOCATION:\nThe fair is held indoors at the Kauai War Memorial Convention Hall where there is ample free parking and convenient access to a nearby bus stop. \nREADINGS:\nAll Readers have been vetted and practice with compassion and integrity.\nPre-booking for readings opens on Monday\, March 10th\, at noon.\nEach booking is 15 minutes and $35 + tax \nAttendees may purchase multiple bookings with various Readers to explore the wide variety of modalities offered and get a multi-dimensional look\, or they may book back-to-back sessions with an individual reader to allow extra time if desired or needed (such as having several questions or wanting a deeper healing session). \nPlease note that certain readings will require you to come prepared with the following information for the most personalized experience:\nAstrology or Human Design readings will require that you know your time\, date\, and place of birth.\nNumerology readings will require that you know your time\, date and place of birth and full given name at birth.\nDream Interpretation readings will work best if you write down your dream and bring it in \n*Please note\, psychic readings are for entertainment purposes only \nFor more information and to stay updated\, join our email newsletter and follow us on social media.
URL:https://kauaiconnect.com/event/kauai-psychic-fair-3/
LOCATION:Kauai War Memorial Convention Hall\, 4191 Hardy Street\, Lihue\, 96766
CATEGORIES:Island Happenings
ATTACH;FMTTYPE=image/png:https://kauaiconnect.com/wp-content/uploads/Flyer-t4LLkK.tmp_.png
ORGANIZER;CN="Loretta Falco":MAILTO:contact@lorettafalco.com
GEO:21.9733597;-159.3638919
X-APPLE-STRUCTURED-LOCATION;VALUE=URI;X-ADDRESS=DESCRIPTION:The Kauai Psychic Fair is excited to be celebrating it’s 28th year of creating a safe welcoming space for all to share learn and explore spirituality! Everyone is welcome and Admission is free so bring your friends ohana and keiki over to show your support and be a part of the Aloha! Come explore the amazing Readers available for booking shop local vendors for unique art & gifts participate in free activities make connections gain spiritual insights nourish your soul and enjoy an uplifting and heartfelt weekend with us. \n\nThe fair is held indoors at the Kauai War Memorial Convention Hall where there is ample free parking and convenient access to a nearby bus stop. \nREADINGS:\nAll Readers have been vetted and practice with compassion and integrity.\nPre-booking for readings opens on Monday March 10th at noon.\nEach booking is 15 minutes and $35 + tax \nAttendees may purchase multiple bookings with various Readers to explore the wide variety of modalities offered and get a multi-dimensional look or they may book back-to-back sessions with an individual reader to allow extra time if desired or needed (such as having several questions or wanting a deeper healing session). \nPlease note that certain readings will require you to come prepared with the following information for the most personalized experience:\nAstrology or Human Design readings will require that you know your time date and place of birth.\nNumerology readings will require that you know your time date and place of birth and full given name at birth.\nDream Interpretation readings will work best if you write down your dream and bring it in \n*Please note psychic readings are for entertainment purposes only \nFor more information and to stay updated join our email newsletter and follow us on social media.;X-APPLE-RADIUS=500;X-TITLE=4191 Hardy Street:geo:-159.3638919,21.9733597
END:VEVENT
BEGIN:VEVENT
DTSTART;TZID=Pacific/Honolulu:20250315T183000
DTEND;TZID=Pacific/Honolulu:20250315T210000
DTSTAMP:20260419T083734
CREATED:20250310T154844Z
LAST-MODIFIED:20250315T163358Z
UID:10001376-1742063400-1742072400@kauaiconnect.com
SUMMARY:Free Oldies Rock & Roll Concert On The Green at Poipu Beach Park; Saturday\, March 15\, 6:30-9pm
DESCRIPTION:Come enjoy a Free Oldies Rock and Roll (and Funk) Concert On The Green at the Poipu Beach Main Pavilion\, right across the street from Brenneckes. We continue our series of free concerts in Poipu with two Kauai bands\, Dirk Debonaire and the Golden Nuggets and Da Funk! Free to all\, great for families and all ages. Just bring a beach chair or blanket\, BYOB\, and get ready to dance the night away to the golden Oldies.
URL:https://kauaiconnect.com/event/free-oldies-rock-roll-concert-on-the-green-at-poipu-beach-park-saturday-march-15-630-9pm/
LOCATION:Poipu Beach Park\, 2179 Hoone Rd\, Koloa\, HI\, 96756\, United States
CATEGORIES:Island Happenings
ATTACH;FMTTYPE=image/jpeg:https://kauaiconnect.com/wp-content/uploads/3-15-25-combo-poipu-4-scaled-o3I5Qf.tmp_.jpg
ORGANIZER;CN="Dirk Debonaire and the Golden Nuggets":MAILTO:dirkdebonaire@gmail.com
GEO:21.873589;-159.455153
X-APPLE-STRUCTURED-LOCATION;VALUE=URI;X-ADDRESS=Poipu Beach Park 2179 Hoone Rd Koloa HI 96756 United States;X-APPLE-RADIUS=500;X-TITLE=2179 Hoone Rd:geo:-159.455153,21.873589
END:VEVENT
END:VCALENDAR