BEGIN:VCALENDAR
VERSION:2.0
PRODID:-//Kauaʻi Connect - ECPv6.15.20//NONSGML v1.0//EN
CALSCALE:GREGORIAN
METHOD:PUBLISH
X-ORIGINAL-URL:https://kauaiconnect.com
X-WR-CALDESC:Events for Kauaʻi Connect
REFRESH-INTERVAL;VALUE=DURATION:PT1H
X-Robots-Tag:noindex
X-PUBLISHED-TTL:PT1H
BEGIN:VTIMEZONE
TZID:Pacific/Honolulu
BEGIN:STANDARD
TZOFFSETFROM:-1000
TZOFFSETTO:-1000
TZNAME:HST
DTSTART:20240101T000000
END:STANDARD
END:VTIMEZONE
BEGIN:VTIMEZONE
TZID:UTC
BEGIN:STANDARD
TZOFFSETFROM:+0000
TZOFFSETTO:+0000
TZNAME:UTC
DTSTART:20240101T000000
END:STANDARD
END:VTIMEZONE
BEGIN:VEVENT
DTSTART;TZID=Pacific/Honolulu:20250101T130000
DTEND;TZID=Pacific/Honolulu:20250101T170000
DTSTAMP:20260420T043927
CREATED:20241003T043410Z
LAST-MODIFIED:20250101T103432Z
UID:10000641-1735736400-1735750800@kauaiconnect.com
SUMMARY:Makai Music and Arts Festival
DESCRIPTION:Located on the Makai Lawn fronting Ka Haku Road\, the Makai Music and Arts Festival is hosted on each Wednesday of the week. Join us and experience entertainment from some of the best musicians on Kaua’i! Shop from an assortment of hand made jewelry\, crafts\, art\, and much more by local vendors.
URL:https://kauaiconnect.com/event/makai-music-and-arts-festival-28/
LOCATION:Princeville Makai Golf Course\, 4080 Lei O Papa\, Princeville\, HI\, 96722\, United States
CATEGORIES:Island Happenings
ATTACH;FMTTYPE=image/png:https://kauaiconnect.com/wp-content/uploads/MAKAI-LOGO-TRANS-2019-OLyLXO.tmp_.png
GEO:22.2228711;-159.4681506
X-APPLE-STRUCTURED-LOCATION;VALUE=URI;X-ADDRESS=Princeville Makai Golf Course 4080 Lei O Papa Princeville HI 96722 United States;X-APPLE-RADIUS=500;X-TITLE=4080 Lei O Papa:geo:-159.4681506,22.2228711
END:VEVENT
BEGIN:VEVENT
DTSTART;TZID=UTC:20250101T153000
DTEND;TZID=UTC:20250101T180000
DTSTAMP:20260420T043927
CREATED:20241003T032012Z
LAST-MODIFIED:20250101T083425Z
UID:10000640-1735745400-1735754400@kauaiconnect.com
SUMMARY:Culinary Market
DESCRIPTION:Discover the South Shore’s gourmet farmers market\, which boasts over 25 local farmers and vendors offering fresh produce and unique local delights. \n  \nIn partnership with the Kauai County Farm Bureau\, our culinary market features fresh fruits and vegetables as well as other specialties and local products – all Kauai grown and made. The weekly Kauai Culinary Market provides the community with an option to purchase essential goods while supporting local farmers\, producers and vendors. \n  \nSocial distancing guidelines will be in place and all safety precautions will be strictly followed: \n\nSocial distance of at least 6 feet from any other person will be maintained.\nFace mask will be worn at all times.\nHand sanitation stations will be provided.\nHigh-touch areas will be frequently sanitized.\nPersonal social interactions will be limited.
URL:https://kauaiconnect.com/event/culinary-market-27/
LOCATION:Hawaii
CATEGORIES:Ongoing Events
END:VEVENT
BEGIN:VEVENT
DTSTART;TZID=Pacific/Honolulu:20250103T160000
DTEND;TZID=Pacific/Honolulu:20250103T200000
DTSTAMP:20260420T043927
CREATED:20241005T043418Z
LAST-MODIFIED:20241023T053341Z
UID:10000648-1735920000-1735934400@kauaiconnect.com
SUMMARY:Aloha Friday Art Nights at Hā Coffee
DESCRIPTION:Come listen to some open mic\, watch live artists paint\, and check out the beer garden by Kauai Island Brewing Co. and food with Hā Coffee.
URL:https://kauaiconnect.com/event/aloha-friday-art-nights-at-ha-coffee-31/
LOCATION:Ha Coffee Lihue\, 4180 Rice St\, Lihue\, 96766
CATEGORIES:Island Happenings
ATTACH;FMTTYPE=image/jpeg:https://kauaiconnect.com/wp-content/uploads/AlohaFridayArtNights-Facebook-Cover-T732T5.tmp_.jpg
ORGANIZER;CN="Rice Street Business Association":MAILTO:kauairsba@gmail.com
GEO:21.9711145;-159.3625084
X-APPLE-STRUCTURED-LOCATION;VALUE=URI;X-ADDRESS=Ha Coffee Lihue 4180 Rice St Lihue 96766;X-APPLE-RADIUS=500;X-TITLE=4180 Rice St:geo:-159.3625084,21.9711145
END:VEVENT
BEGIN:VEVENT
DTSTART;TZID=Pacific/Honolulu:20250103T170000
DTEND;TZID=Pacific/Honolulu:20250103T200000
DTSTAMP:20260420T043927
CREATED:20241024T041830Z
LAST-MODIFIED:20250103T103415Z
UID:10000673-1735923600-1735934400@kauaiconnect.com
SUMMARY:Aloha 1st Friday Art Nights at Hā Coffee
DESCRIPTION:Come listen to some live music\, open mic\, art gallery\, watch live artists paint\, and check out the beer garden and food. \nHosted by Ulupono Initaitive and supported by Hawaii Tourism Authority Community Enrichment Program.
URL:https://kauaiconnect.com/event/aloha-friday-art-nights-at-ha-coffee-34/
LOCATION:Ha Coffee Lihue\, 4180 Rice St\, Lihue\, 96766
CATEGORIES:Celebration,Featured Events,Island Happenings
ATTACH;FMTTYPE=image/jpeg:https://kauaiconnect.com/wp-content/uploads/AlohaFridayArtNights-Facebook-Cover-1-Q03MPf.tmp_.jpg
ORGANIZER;CN="Rice Street Business Association":MAILTO:kauairsba@gmail.com
GEO:21.9711145;-159.3625084
X-APPLE-STRUCTURED-LOCATION;VALUE=URI;X-ADDRESS=Ha Coffee Lihue 4180 Rice St Lihue 96766;X-APPLE-RADIUS=500;X-TITLE=4180 Rice St:geo:-159.3625084,21.9711145
END:VEVENT
BEGIN:VEVENT
DTSTART;TZID=UTC:20250103T183000
DTEND;TZID=UTC:20250103T203000
DTSTAMP:20260420T043927
CREATED:20241005T033435Z
LAST-MODIFIED:20250103T083330Z
UID:10000647-1735929000-1735936200@kauaiconnect.com
SUMMARY:Kanikapila
DESCRIPTION:Celebrate Aloha Friday with live music performances by local Kaua’i bands and artists.
URL:https://kauaiconnect.com/event/kanikapila-28/
LOCATION:Hawaii
CATEGORIES:Ongoing Events
END:VEVENT
BEGIN:VEVENT
DTSTART;TZID=Pacific/Honolulu:20250104T093000
DTEND;TZID=Pacific/Honolulu:20250104T123000
DTSTAMP:20260420T043927
CREATED:20241006T043416Z
LAST-MODIFIED:20241218T104854Z
UID:10000650-1735983000-1735993800@kauaiconnect.com
SUMMARY:Princeville Farmers and Arts Market
DESCRIPTION:A Weekly event in the beautiful Prince Albert Park in Princeville.  Featuring locally grown produce\, honey\, and value added products along with a vast array of Kauai designed and created products including handcrafts\, jewelry\, clothing\, photos\, artwork and more from Kauai’s talented artists. Live music and local food vendors make this a must stop for both visitors and locals alike!
URL:https://kauaiconnect.com/event/princeville-farmers-and-arts-market-28/
LOCATION:Prince Albert Park\, Princeville\, 4334 Emmalani Rd.\, Princeville\, HI\, 96722\, United States
CATEGORIES:Island Happenings,Market
ATTACH;FMTTYPE=image/jpeg:https://kauaiconnect.com/wp-content/uploads/IMG_0008-Ee3vDw.tmp_.jpg
ORGANIZER;CN="Bloom and Prosper Hawaii":MAILTO:mckenzie@bloomandprosperhawaii.com
GEO:22.2148061;-159.4716207
X-APPLE-STRUCTURED-LOCATION;VALUE=URI;X-ADDRESS=Prince Albert Park Princeville 4334 Emmalani Rd. Princeville HI 96722 United States;X-APPLE-RADIUS=500;X-TITLE=4334 Emmalani Rd.:geo:-159.4716207,22.2148061
END:VEVENT
BEGIN:VEVENT
DTSTART;TZID=Pacific/Honolulu:20250104T170000
DTEND;TZID=Pacific/Honolulu:20250104T210000
DTSTAMP:20260420T043927
CREATED:20241006T043409Z
LAST-MODIFIED:20250104T103359Z
UID:10000649-1736010000-1736024400@kauaiconnect.com
SUMMARY:Old Kapaa town 1st Saturday Hoolaulea Multi-Cultural Celebration
DESCRIPTION:Old Kapaa Town 1st Saturday Ho’olaule’a Multi-Cultural Celebration” will be held from 5:00 – 9:00 pm every 1st Saturday providing the very popular food\, craft and non-profit vendors. The event is held in Old Kapaa Town area between Beachside Boutique on the north side of town and Paco’s Tacos on the south side along the Kuhio Highway\, as well as down two streets closed specifically for this event – the east end of Kukui Street and the west end of Kauwila Street.  Japanese\, Chinese\, Owinawan\, Filipino\, Korean\, Tahitian\, or Hawaiian Cultural performances are at  6:00 pm. on Kauwila Street. \nFor more information about attending this event or about applying to be a craft\, food or non-profit vendor for this event\, contact the Kapa’a Business Association online at http://www.kbakauai.org by phone at (808) 212-1000 or by email at kapaabusinessassociation@gmail.com.
URL:https://kauaiconnect.com/event/old-kapaa-town-1st-saturday-hoolaulea-multi-cultural-celebration-8/
LOCATION:Hawaii
CATEGORIES:Island Happenings
ATTACH;FMTTYPE=image/jpeg:https://kauaiconnect.com/wp-content/uploads/CEP23_Old-Kapaa-Town-1st-Sat-Hoolaulea_photgraph_Image-3-Little-Fatties-1-JhYaQS.tmp_.jpg
END:VEVENT
END:VCALENDAR