BEGIN:VCALENDAR
VERSION:2.0
PRODID:-//Kauaʻi Connect - ECPv6.15.20//NONSGML v1.0//EN
CALSCALE:GREGORIAN
METHOD:PUBLISH
X-ORIGINAL-URL:https://kauaiconnect.com
X-WR-CALDESC:Events for Kauaʻi Connect
REFRESH-INTERVAL;VALUE=DURATION:PT1H
X-Robots-Tag:noindex
X-PUBLISHED-TTL:PT1H
BEGIN:VTIMEZONE
TZID:Pacific/Honolulu
BEGIN:STANDARD
TZOFFSETFROM:-1000
TZOFFSETTO:-1000
TZNAME:HST
DTSTART:20250101T000000
END:STANDARD
END:VTIMEZONE
BEGIN:VEVENT
DTSTART;TZID=Pacific/Honolulu:20260429T130000
DTEND;TZID=Pacific/Honolulu:20260429T170000
DTSTAMP:20260422T214740
CREATED:20260129T174452Z
LAST-MODIFIED:20260403T062950Z
UID:10002080-1777467600-1777482000@kauaiconnect.com
SUMMARY:Makai Music & Art Festival Kauai
DESCRIPTION:Come share the Aloha with us every Wednesday from 1-5pm at our Makai Music and Art Festival Kaua’i.  Free-entry\, free event parking and FREE live music concerts  Shop our 20+ wonderful\, eclectic\, talented local artisans and vendors each week while being entertained by our fabulous live musicians here on our beautiful Garden Isle of Kaua’i. Buy handmade and support local small businesses. Mahalo for your support.  The Makai Grill is also open serving food and drinks for you to enjoy while listening to our live free music concerts. Plus\, we have alternating dessert vendors and Chunks Cookies\, with yummy treats too.\n\nLike/Follow our Facebook and Instagram pages:https://www.facebook.com/MakaiMusicAndArtFest\n\nhttps://www.instagram.com/makaimusicandartfestivalkauai
URL:https://kauaiconnect.com/event/makai-music-art-festival-kauai-19/
LOCATION:Princeville Makai Golf Course\, 4080 Lei O Papa\, Princeville\, HI\, 96722\, United States
CATEGORIES:Island Happenings
ATTACH;FMTTYPE=image/jpeg:https://kauaiconnect.com/wp-content/uploads/963fd97c-47c1-4332-868f-3b3528fc6506-2-1zJMQD.jpg
ORGANIZER;CN="Makai Music &amp%3B Art Festival Kauai":MAILTO:jersoulgood@gmail.com
GEO:22.2228711;-159.4681506
X-APPLE-STRUCTURED-LOCATION;VALUE=URI;X-ADDRESS=Princeville Makai Golf Course 4080 Lei O Papa Princeville HI 96722 United States;X-APPLE-RADIUS=500;X-TITLE=4080 Lei O Papa:geo:-159.4681506,22.2228711
END:VEVENT
BEGIN:VEVENT
DTSTART;TZID=Pacific/Honolulu:20260506T130000
DTEND;TZID=Pacific/Honolulu:20260506T170000
DTSTAMP:20260422T214740
CREATED:20260205T201505Z
LAST-MODIFIED:20260403T062953Z
UID:10002089-1778072400-1778086800@kauaiconnect.com
SUMMARY:Makai Music & Art Festival Kauai
DESCRIPTION:Come share the Aloha with us every Wednesday from 1-5pm at our Makai Music and Art Festival Kaua’i.  Free-entry\, free event parking and FREE live music concerts  Shop our 20+ wonderful\, eclectic\, talented local artisans and vendors each week while being entertained by our fabulous live musicians here on our beautiful Garden Isle of Kaua’i. Buy handmade and support local small businesses. Mahalo for your support.  The Makai Grill is also open serving food and drinks for you to enjoy while listening to our live free music concerts. Plus\, we have alternating dessert vendors and Chunks Cookies\, with yummy treats too.\n\nLike/Follow our Facebook and Instagram pages:https://www.facebook.com/MakaiMusicAndArtFest\n\nhttps://www.instagram.com/makaimusicandartfestivalkauai
URL:https://kauaiconnect.com/event/makai-music-art-festival-kauai-20/
LOCATION:Princeville Makai Golf Course\, 4080 Lei O Papa\, Princeville\, HI\, 96722\, United States
CATEGORIES:Island Happenings
ATTACH;FMTTYPE=image/jpeg:https://kauaiconnect.com/wp-content/uploads/963fd97c-47c1-4332-868f-3b3528fc6506-2-1zJMQD.jpg
ORGANIZER;CN="Makai Music &amp%3B Art Festival Kauai":MAILTO:jersoulgood@gmail.com
GEO:22.2228711;-159.4681506
X-APPLE-STRUCTURED-LOCATION;VALUE=URI;X-ADDRESS=Princeville Makai Golf Course 4080 Lei O Papa Princeville HI 96722 United States;X-APPLE-RADIUS=500;X-TITLE=4080 Lei O Papa:geo:-159.4681506,22.2228711
END:VEVENT
BEGIN:VEVENT
DTSTART;TZID=Pacific/Honolulu:20260513T130000
DTEND;TZID=Pacific/Honolulu:20260513T170000
DTSTAMP:20260422T214740
CREATED:20260212T204526Z
LAST-MODIFIED:20260403T062959Z
UID:10002103-1778677200-1778691600@kauaiconnect.com
SUMMARY:Makai Music & Art Festival Kauai
DESCRIPTION:Come share the Aloha with us every Wednesday from 1-5pm at our Makai Music and Art Festival Kaua’i.  Free-entry\, free event parking and FREE live music concerts  Shop our 20+ wonderful\, eclectic\, talented local artisans and vendors each week while being entertained by our fabulous live musicians here on our beautiful Garden Isle of Kaua’i. Buy handmade and support local small businesses. Mahalo for your support.  The Makai Grill is also open serving food and drinks for you to enjoy while listening to our live free music concerts. Plus\, we have alternating dessert vendors and Chunks Cookies\, with yummy treats too.\n\nLike/Follow our Facebook and Instagram pages:https://www.facebook.com/MakaiMusicAndArtFest\n\nhttps://www.instagram.com/makaimusicandartfestivalkauai
URL:https://kauaiconnect.com/event/makai-music-art-festival-kauai-21/
LOCATION:Princeville Makai Golf Course\, 4080 Lei O Papa\, Princeville\, HI\, 96722\, United States
CATEGORIES:Island Happenings
ATTACH;FMTTYPE=image/jpeg:https://kauaiconnect.com/wp-content/uploads/963fd97c-47c1-4332-868f-3b3528fc6506-2-1zJMQD.jpg
ORGANIZER;CN="Makai Music &amp%3B Art Festival Kauai":MAILTO:jersoulgood@gmail.com
GEO:22.2228711;-159.4681506
X-APPLE-STRUCTURED-LOCATION;VALUE=URI;X-ADDRESS=Princeville Makai Golf Course 4080 Lei O Papa Princeville HI 96722 United States;X-APPLE-RADIUS=500;X-TITLE=4080 Lei O Papa:geo:-159.4681506,22.2228711
END:VEVENT
BEGIN:VEVENT
DTSTART;TZID=Pacific/Honolulu:20260520T130000
DTEND;TZID=Pacific/Honolulu:20260520T170000
DTSTAMP:20260422T214740
CREATED:20260219T210045Z
LAST-MODIFIED:20260403T063004Z
UID:10002122-1779282000-1779296400@kauaiconnect.com
SUMMARY:Makai Music & Art Festival Kauai
DESCRIPTION:Come share the Aloha with us every Wednesday from 1-5pm at our Makai Music and Art Festival Kaua’i.  Free-entry\, free event parking and FREE live music concerts  Shop our 20+ wonderful\, eclectic\, talented local artisans and vendors each week while being entertained by our fabulous live musicians here on our beautiful Garden Isle of Kaua’i. Buy handmade and support local small businesses. Mahalo for your support.  The Makai Grill is also open serving food and drinks for you to enjoy while listening to our live free music concerts. Plus\, we have alternating dessert vendors and Chunks Cookies\, with yummy treats too.\n\nLike/Follow our Facebook and Instagram pages:https://www.facebook.com/MakaiMusicAndArtFest\n\nhttps://www.instagram.com/makaimusicandartfestivalkauai
URL:https://kauaiconnect.com/event/makai-music-art-festival-kauai-22/
LOCATION:Princeville Makai Golf Course\, 4080 Lei O Papa\, Princeville\, HI\, 96722\, United States
CATEGORIES:Island Happenings
ATTACH;FMTTYPE=image/jpeg:https://kauaiconnect.com/wp-content/uploads/963fd97c-47c1-4332-868f-3b3528fc6506-2-1zJMQD.jpg
ORGANIZER;CN="Makai Music &amp%3B Art Festival Kauai":MAILTO:jersoulgood@gmail.com
GEO:22.2228711;-159.4681506
X-APPLE-STRUCTURED-LOCATION;VALUE=URI;X-ADDRESS=Princeville Makai Golf Course 4080 Lei O Papa Princeville HI 96722 United States;X-APPLE-RADIUS=500;X-TITLE=4080 Lei O Papa:geo:-159.4681506,22.2228711
END:VEVENT
BEGIN:VEVENT
DTSTART;TZID=Pacific/Honolulu:20260527T130000
DTEND;TZID=Pacific/Honolulu:20260527T170000
DTSTAMP:20260422T214740
CREATED:20260226T214459Z
LAST-MODIFIED:20260403T063007Z
UID:10002134-1779886800-1779901200@kauaiconnect.com
SUMMARY:Makai Music & Art Festival Kauai
DESCRIPTION:Come share the Aloha with us every Wednesday from 1-5pm at our Makai Music and Art Festival Kaua’i.  Free-entry\, free event parking and FREE live music concerts  Shop our 20+ wonderful\, eclectic\, talented local artisans and vendors each week while being entertained by our fabulous live musicians here on our beautiful Garden Isle of Kaua’i. Buy handmade and support local small businesses. Mahalo for your support.  The Makai Grill is also open serving food and drinks for you to enjoy while listening to our live free music concerts. Plus\, we have alternating dessert vendors and Chunks Cookies\, with yummy treats too.\n\nLike/Follow our Facebook and Instagram pages:https://www.facebook.com/MakaiMusicAndArtFest\n\nhttps://www.instagram.com/makaimusicandartfestivalkauai
URL:https://kauaiconnect.com/event/makai-music-art-festival-kauai-23/
LOCATION:Princeville Makai Golf Course\, 4080 Lei O Papa\, Princeville\, HI\, 96722\, United States
CATEGORIES:Island Happenings
ATTACH;FMTTYPE=image/jpeg:https://kauaiconnect.com/wp-content/uploads/963fd97c-47c1-4332-868f-3b3528fc6506-2-1zJMQD.jpg
ORGANIZER;CN="Makai Music &amp%3B Art Festival Kauai":MAILTO:jersoulgood@gmail.com
GEO:22.2228711;-159.4681506
X-APPLE-STRUCTURED-LOCATION;VALUE=URI;X-ADDRESS=Princeville Makai Golf Course 4080 Lei O Papa Princeville HI 96722 United States;X-APPLE-RADIUS=500;X-TITLE=4080 Lei O Papa:geo:-159.4681506,22.2228711
END:VEVENT
BEGIN:VEVENT
DTSTART;TZID=Pacific/Honolulu:20260603T130000
DTEND;TZID=Pacific/Honolulu:20260603T170000
DTSTAMP:20260422T214740
CREATED:20260305T024453Z
LAST-MODIFIED:20260403T063009Z
UID:10002152-1780491600-1780506000@kauaiconnect.com
SUMMARY:Makai Music & Art Festival Kauai
DESCRIPTION:Come share the Aloha with us every Wednesday from 1-5pm at our Makai Music and Art Festival Kaua’i.  Free-entry\, free event parking and FREE live music concerts  Shop our 20+ wonderful\, eclectic\, talented local artisans and vendors each week while being entertained by our fabulous live musicians here on our beautiful Garden Isle of Kaua’i. Buy handmade and support local small businesses. Mahalo for your support.  The Makai Grill is also open serving food and drinks for you to enjoy while listening to our live free music concerts. Plus\, we have alternating dessert vendors and Chunks Cookies\, with yummy treats too.\n\nLike/Follow our Facebook and Instagram pages:https://www.facebook.com/MakaiMusicAndArtFest\n\nhttps://www.instagram.com/makaimusicandartfestivalkauai
URL:https://kauaiconnect.com/event/makai-music-art-festival-kauai-24/
LOCATION:Princeville Makai Golf Course\, 4080 Lei O Papa\, Princeville\, HI\, 96722\, United States
CATEGORIES:Island Happenings
ATTACH;FMTTYPE=image/jpeg:https://kauaiconnect.com/wp-content/uploads/963fd97c-47c1-4332-868f-3b3528fc6506-2-1zJMQD.jpg
ORGANIZER;CN="Makai Music &amp%3B Art Festival Kauai":MAILTO:jersoulgood@gmail.com
GEO:22.2228711;-159.4681506
X-APPLE-STRUCTURED-LOCATION;VALUE=URI;X-ADDRESS=Princeville Makai Golf Course 4080 Lei O Papa Princeville HI 96722 United States;X-APPLE-RADIUS=500;X-TITLE=4080 Lei O Papa:geo:-159.4681506,22.2228711
END:VEVENT
BEGIN:VEVENT
DTSTART;TZID=Pacific/Honolulu:20260610T130000
DTEND;TZID=Pacific/Honolulu:20260610T170000
DTSTAMP:20260422T214740
CREATED:20260312T024524Z
LAST-MODIFIED:20260403T063012Z
UID:10002201-1781096400-1781110800@kauaiconnect.com
SUMMARY:Makai Music & Art Festival Kauai
DESCRIPTION:Come share the Aloha with us every Wednesday from 1-5pm at our Makai Music and Art Festival Kaua’i.  Free-entry\, free event parking and FREE live music concerts  Shop our 20+ wonderful\, eclectic\, talented local artisans and vendors each week while being entertained by our fabulous live musicians here on our beautiful Garden Isle of Kaua’i. Buy handmade and support local small businesses. Mahalo for your support.  The Makai Grill is also open serving food and drinks for you to enjoy while listening to our live free music concerts. Plus\, we have alternating dessert vendors and Chunks Cookies\, with yummy treats too.\n\nLike/Follow our Facebook and Instagram pages:https://www.facebook.com/MakaiMusicAndArtFest\n\nhttps://www.instagram.com/makaimusicandartfestivalkauai
URL:https://kauaiconnect.com/event/makai-music-art-festival-kauai-25/
LOCATION:Princeville Makai Golf Course\, 4080 Lei O Papa\, Princeville\, HI\, 96722\, United States
CATEGORIES:Island Happenings
ATTACH;FMTTYPE=image/jpeg:https://kauaiconnect.com/wp-content/uploads/963fd97c-47c1-4332-868f-3b3528fc6506-2-1zJMQD.jpg
ORGANIZER;CN="Makai Music &amp%3B Art Festival Kauai":MAILTO:jersoulgood@gmail.com
GEO:22.2228711;-159.4681506
X-APPLE-STRUCTURED-LOCATION;VALUE=URI;X-ADDRESS=Princeville Makai Golf Course 4080 Lei O Papa Princeville HI 96722 United States;X-APPLE-RADIUS=500;X-TITLE=4080 Lei O Papa:geo:-159.4681506,22.2228711
END:VEVENT
BEGIN:VEVENT
DTSTART;TZID=Pacific/Honolulu:20260617T130000
DTEND;TZID=Pacific/Honolulu:20260617T170000
DTSTAMP:20260422T214740
CREATED:20260319T054505Z
LAST-MODIFIED:20260403T063015Z
UID:10002222-1781701200-1781715600@kauaiconnect.com
SUMMARY:Makai Music & Art Festival Kauai
DESCRIPTION:Come share the Aloha with us every Wednesday from 1-5pm at our Makai Music and Art Festival Kaua’i.  Free-entry\, free event parking and FREE live music concerts  Shop our 20+ wonderful\, eclectic\, talented local artisans and vendors each week while being entertained by our fabulous live musicians here on our beautiful Garden Isle of Kaua’i. Buy handmade and support local small businesses. Mahalo for your support.  The Makai Grill is also open serving food and drinks for you to enjoy while listening to our live free music concerts. Plus\, we have alternating dessert vendors and Chunks Cookies\, with yummy treats too.\n\nLike/Follow our Facebook and Instagram pages:https://www.facebook.com/MakaiMusicAndArtFest\n\nhttps://www.instagram.com/makaimusicandartfestivalkauai
URL:https://kauaiconnect.com/event/makai-music-art-festival-kauai-26/
LOCATION:Princeville Makai Golf Course\, 4080 Lei O Papa\, Princeville\, HI\, 96722\, United States
CATEGORIES:Island Happenings
ATTACH;FMTTYPE=image/jpeg:https://kauaiconnect.com/wp-content/uploads/963fd97c-47c1-4332-868f-3b3528fc6506-2-1zJMQD.jpg
ORGANIZER;CN="Makai Music &amp%3B Art Festival Kauai":MAILTO:jersoulgood@gmail.com
GEO:22.2228711;-159.4681506
X-APPLE-STRUCTURED-LOCATION;VALUE=URI;X-ADDRESS=Princeville Makai Golf Course 4080 Lei O Papa Princeville HI 96722 United States;X-APPLE-RADIUS=500;X-TITLE=4080 Lei O Papa:geo:-159.4681506,22.2228711
END:VEVENT
BEGIN:VEVENT
DTSTART;TZID=Pacific/Honolulu:20260624T130000
DTEND;TZID=Pacific/Honolulu:20260624T170000
DTSTAMP:20260422T214740
CREATED:20260326T061529Z
LAST-MODIFIED:20260403T063018Z
UID:10002248-1782306000-1782320400@kauaiconnect.com
SUMMARY:Makai Music & Art Festival Kauai
DESCRIPTION:Come share the Aloha with us every Wednesday from 1-5pm at our Makai Music and Art Festival Kaua’i.  Free-entry\, free event parking and FREE live music concerts  Shop our 20+ wonderful\, eclectic\, talented local artisans and vendors each week while being entertained by our fabulous live musicians here on our beautiful Garden Isle of Kaua’i. Buy handmade and support local small businesses. Mahalo for your support.  The Makai Grill is also open serving food and drinks for you to enjoy while listening to our live free music concerts. Plus\, we have alternating dessert vendors and Chunks Cookies\, with yummy treats too.\n\nLike/Follow our Facebook and Instagram pages:https://www.facebook.com/MakaiMusicAndArtFest\n\nhttps://www.instagram.com/makaimusicandartfestivalkauai
URL:https://kauaiconnect.com/event/makai-music-art-festival-kauai-27/
LOCATION:Princeville Makai Golf Course\, 4080 Lei O Papa\, Princeville\, HI\, 96722\, United States
CATEGORIES:Island Happenings
ATTACH;FMTTYPE=image/jpeg:https://kauaiconnect.com/wp-content/uploads/963fd97c-47c1-4332-868f-3b3528fc6506-2-1zJMQD.jpg
ORGANIZER;CN="Makai Music &amp%3B Art Festival Kauai":MAILTO:jersoulgood@gmail.com
GEO:22.2228711;-159.4681506
X-APPLE-STRUCTURED-LOCATION;VALUE=URI;X-ADDRESS=Princeville Makai Golf Course 4080 Lei O Papa Princeville HI 96722 United States;X-APPLE-RADIUS=500;X-TITLE=4080 Lei O Papa:geo:-159.4681506,22.2228711
END:VEVENT
BEGIN:VEVENT
DTSTART;TZID=Pacific/Honolulu:20260701T130000
DTEND;TZID=Pacific/Honolulu:20260701T170000
DTSTAMP:20260422T214740
CREATED:20260402T063031Z
LAST-MODIFIED:20260403T063023Z
UID:10002287-1782910800-1782925200@kauaiconnect.com
SUMMARY:Makai Music & Art Festival Kauai
DESCRIPTION:Come share the Aloha with us every Wednesday from 1-5pm at our Makai Music and Art Festival Kaua’i.  Free-entry\, free event parking and FREE live music concerts  Shop our 20+ wonderful\, eclectic\, talented local artisans and vendors each week while being entertained by our fabulous live musicians here on our beautiful Garden Isle of Kaua’i. Buy handmade and support local small businesses. Mahalo for your support.  The Makai Grill is also open serving food and drinks for you to enjoy while listening to our live free music concerts. Plus\, we have alternating dessert vendors and Chunks Cookies\, with yummy treats too.\n\nLike/Follow our Facebook and Instagram pages:https://www.facebook.com/MakaiMusicAndArtFest\n\nhttps://www.instagram.com/makaimusicandartfestivalkauai
URL:https://kauaiconnect.com/event/makai-music-art-festival-kauai-28/
LOCATION:Princeville Makai Golf Course\, 4080 Lei O Papa\, Princeville\, HI\, 96722\, United States
CATEGORIES:Island Happenings
ATTACH;FMTTYPE=image/jpeg:https://kauaiconnect.com/wp-content/uploads/963fd97c-47c1-4332-868f-3b3528fc6506-2-1zJMQD.jpg
ORGANIZER;CN="Makai Music &amp%3B Art Festival Kauai":MAILTO:jersoulgood@gmail.com
GEO:22.2228711;-159.4681506
X-APPLE-STRUCTURED-LOCATION;VALUE=URI;X-ADDRESS=Princeville Makai Golf Course 4080 Lei O Papa Princeville HI 96722 United States;X-APPLE-RADIUS=500;X-TITLE=4080 Lei O Papa:geo:-159.4681506,22.2228711
END:VEVENT
BEGIN:VEVENT
DTSTART;TZID=Pacific/Honolulu:20260708T130000
DTEND;TZID=Pacific/Honolulu:20260708T170000
DTSTAMP:20260422T214740
CREATED:20260409T065936Z
LAST-MODIFIED:20260409T065936Z
UID:10002303-1783515600-1783530000@kauaiconnect.com
SUMMARY:Makai Music & Art Festival Kauai
DESCRIPTION:Come share the Aloha with us every Wednesday from 1-5pm at our Makai Music and Art Festival Kaua’i.  Free-entry\, free event parking and FREE live music concerts  Shop our 20+ wonderful\, eclectic\, talented local artisans and vendors each week while being entertained by our fabulous live musicians here on our beautiful Garden Isle of Kaua’i. Buy handmade and support local small businesses. Mahalo for your support.  The Makai Grill is also open serving food and drinks for you to enjoy while listening to our live free music concerts. Plus\, we have alternating dessert vendors and Chunks Cookies\, with yummy treats too.\n\nLike/Follow our Facebook and Instagram pages:https://www.facebook.com/MakaiMusicAndArtFest\n\nhttps://www.instagram.com/makaimusicandartfestivalkauai
URL:https://kauaiconnect.com/event/makai-music-art-festival-kauai-29/
LOCATION:Princeville Makai Golf Course\, 4080 Lei O Papa\, Princeville\, HI\, 96722\, United States
CATEGORIES:Island Happenings
ATTACH;FMTTYPE=image/jpeg:https://kauaiconnect.com/wp-content/uploads/963fd97c-47c1-4332-868f-3b3528fc6506-2-1zJMQD.jpg
ORGANIZER;CN="Makai Music &amp%3B Art Festival Kauai":MAILTO:jersoulgood@gmail.com
GEO:22.2228711;-159.4681506
X-APPLE-STRUCTURED-LOCATION;VALUE=URI;X-ADDRESS=Princeville Makai Golf Course 4080 Lei O Papa Princeville HI 96722 United States;X-APPLE-RADIUS=500;X-TITLE=4080 Lei O Papa:geo:-159.4681506,22.2228711
END:VEVENT
BEGIN:VEVENT
DTSTART;TZID=Pacific/Honolulu:20260715T130000
DTEND;TZID=Pacific/Honolulu:20260715T170000
DTSTAMP:20260422T214740
CREATED:20260416T071425Z
LAST-MODIFIED:20260416T071425Z
UID:10002323-1784120400-1784134800@kauaiconnect.com
SUMMARY:Makai Music & Art Festival Kauai
DESCRIPTION:Come share the Aloha with us every Wednesday from 1-5pm at our Makai Music and Art Festival Kaua’i.  Free-entry\, free event parking and FREE live music concerts  Shop our 20+ wonderful\, eclectic\, talented local artisans and vendors each week while being entertained by our fabulous live musicians here on our beautiful Garden Isle of Kaua’i. Buy handmade and support local small businesses. Mahalo for your support.  The Makai Grill is also open serving food and drinks for you to enjoy while listening to our live free music concerts. Plus\, we have alternating dessert vendors and Chunks Cookies\, with yummy treats too.\n\nLike/Follow our Facebook and Instagram pages:https://www.facebook.com/MakaiMusicAndArtFest\n\nhttps://www.instagram.com/makaimusicandartfestivalkauai
URL:https://kauaiconnect.com/event/makai-music-art-festival-kauai-30/
LOCATION:Princeville Makai Golf Course\, 4080 Lei O Papa\, Princeville\, HI\, 96722\, United States
CATEGORIES:Island Happenings
ATTACH;FMTTYPE=image/jpeg:https://kauaiconnect.com/wp-content/uploads/963fd97c-47c1-4332-868f-3b3528fc6506-2-1zJMQD.jpg
ORGANIZER;CN="Makai Music &amp%3B Art Festival Kauai":MAILTO:jersoulgood@gmail.com
GEO:22.2228711;-159.4681506
X-APPLE-STRUCTURED-LOCATION;VALUE=URI;X-ADDRESS=Princeville Makai Golf Course 4080 Lei O Papa Princeville HI 96722 United States;X-APPLE-RADIUS=500;X-TITLE=4080 Lei O Papa:geo:-159.4681506,22.2228711
END:VEVENT
BEGIN:VEVENT
DTSTART;TZID=Pacific/Honolulu:20260722T130000
DTEND;TZID=Pacific/Honolulu:20260722T170000
DTSTAMP:20260422T214740
CREATED:20260423T071428Z
LAST-MODIFIED:20260423T071453Z
UID:10002338-1784725200-1784739600@kauaiconnect.com
SUMMARY:Makai Music & Art Festival Kauai
DESCRIPTION:Come share the Aloha with us every Wednesday from 1-5pm at our Makai Music and Art Festival Kaua’i.  Free-entry\, free event parking and FREE live music concerts  Shop our 20+ wonderful\, eclectic\, talented local artisans and vendors each week while being entertained by our fabulous live musicians here on our beautiful Garden Isle of Kaua’i. Buy handmade and support local small businesses. Mahalo for your support.  The Makai Grill is also open serving food and drinks for you to enjoy while listening to our live free music concerts. Plus\, we have alternating dessert vendors and Chunks Cookies\, with yummy treats too.\n\nLike/Follow our Facebook and Instagram pages:https://www.facebook.com/MakaiMusicAndArtFest\n\nhttps://www.instagram.com/makaimusicandartfestivalkauai
URL:https://kauaiconnect.com/event/makai-music-art-festival-kauai-31/
LOCATION:Princeville Makai Golf Course\, 4080 Lei O Papa\, Princeville\, HI\, 96722\, United States
CATEGORIES:Island Happenings
ATTACH;FMTTYPE=image/jpeg:https://kauaiconnect.com/wp-content/uploads/963fd97c-47c1-4332-868f-3b3528fc6506-2-1zJMQD.jpg
ORGANIZER;CN="Makai Music &amp%3B Art Festival Kauai":MAILTO:jersoulgood@gmail.com
GEO:22.2228711;-159.4681506
X-APPLE-STRUCTURED-LOCATION;VALUE=URI;X-ADDRESS=Princeville Makai Golf Course 4080 Lei O Papa Princeville HI 96722 United States;X-APPLE-RADIUS=500;X-TITLE=4080 Lei O Papa:geo:-159.4681506,22.2228711
END:VEVENT
END:VCALENDAR