BEGIN:VCALENDAR
VERSION:2.0
PRODID:-//Kauaʻi Connect - ECPv6.15.20//NONSGML v1.0//EN
CALSCALE:GREGORIAN
METHOD:PUBLISH
X-WR-CALNAME:Kauaʻi Connect
X-ORIGINAL-URL:https://kauaiconnect.com
X-WR-CALDESC:Events for Kauaʻi Connect
REFRESH-INTERVAL;VALUE=DURATION:PT1H
X-Robots-Tag:noindex
X-PUBLISHED-TTL:PT1H
BEGIN:VTIMEZONE
TZID:Pacific/Honolulu
BEGIN:STANDARD
TZOFFSETFROM:-1000
TZOFFSETTO:-1000
TZNAME:HST
DTSTART:20250101T000000
END:STANDARD
END:VTIMEZONE
BEGIN:VEVENT
DTSTART;TZID=Pacific/Honolulu:20260516T090000
DTEND;TZID=Pacific/Honolulu:20260516T120000
DTSTAMP:20260420T135806
CREATED:20260215T204525Z
LAST-MODIFIED:20260215T204525Z
UID:10002117-1778922000-1778932800@kauaiconnect.com
SUMMARY:Grow Aloha Plant Giveaway: Limahuli Garden & Preserve
DESCRIPTION:When we grow Hawaiian native plants and heritage crops\, we grow aloha for ʻāina. Adopt one of these cherished plants every third Saturday at our free Grow Aloha plant giveaways at National Tropical Botanical Garden locations on Kauaʻi. \nGrow Aloha plant adoptions are free and open to Hawai’i residents (one per family). Please note that plants are subject to availability and will be distributed on a first-come\, first-served basis. \nAdoption locations on Kauaʻi:\nAllerton Garden & McBryde Garden\nSouth Shore Visitor Center\n(across Spouting Horn)\n4425 Lawai Rd\nKoloa\, Kauaʻi\, HI 96756 \nLimahuli Garden & Preserve\nLimahuli Garden Visitor Center\n5-8291 Kuhio Hwy\nHanalei\, Kauaʻi\, HI 96714
URL:https://kauaiconnect.com/event/grow-aloha-plant-giveaway-limahuli-garden-preserve-15/
LOCATION:Limahuli Garden and Preserve\, 5-8291 Kuhio Hwy\, Hanalei\, 96714
CATEGORIES:Island Happenings
ATTACH;FMTTYPE=image/png:https://kauaiconnect.com/wp-content/uploads/grow-aloha-limahuli-Yriwxo.tmp_.png
ORGANIZER;CN="National Tropical Botanical Garden":MAILTO:gsilva@ntbg.org
GEO:22.2200953;-159.5754326
X-APPLE-STRUCTURED-LOCATION;VALUE=URI;X-ADDRESS=Limahuli Garden and Preserve 5-8291 Kuhio Hwy Hanalei 96714;X-APPLE-RADIUS=500;X-TITLE=5-8291 Kuhio Hwy:geo:-159.5754326,22.2200953
END:VEVENT
END:VCALENDAR