BEGIN:VCALENDAR
VERSION:2.0
PRODID:-//Kauaʻi Connect - ECPv6.15.20//NONSGML v1.0//EN
CALSCALE:GREGORIAN
METHOD:PUBLISH
X-ORIGINAL-URL:https://kauaiconnect.com
X-WR-CALDESC:Events for Kauaʻi Connect
REFRESH-INTERVAL;VALUE=DURATION:PT1H
X-Robots-Tag:noindex
X-PUBLISHED-TTL:PT1H
BEGIN:VTIMEZONE
TZID:Pacific/Honolulu
BEGIN:STANDARD
TZOFFSETFROM:-1000
TZOFFSETTO:-1000
TZNAME:HST
DTSTART:20230101T000000
END:STANDARD
END:VTIMEZONE
BEGIN:VEVENT
DTSTART;TZID=Pacific/Honolulu:20241005T080000
DTEND;TZID=Pacific/Honolulu:20241005T180000
DTSTAMP:20260420T135430
CREATED:20240906T024900Z
LAST-MODIFIED:20241005T043406Z
UID:10000599-1728115200-1728151200@kauaiconnect.com
SUMMARY:ALOHA Kauai Yoga & Peace Festival 2024
DESCRIPTION:ALOHA & Namaste! \nJoin us on October 5\, 2024\, at the beautiful oceanfront Kauai Shores Hotel for a full day of yoga classes\, meditations\, sound healings\, booths\, acoustic music\, healing arts\, and a yoga tribe gathering. Connect with like-minded individuals in a collective field of peace\, nature\, and synchronicity on the sacred island of Kauai. \nThe Island of Kauai amplifies the Divine energy of Aloha\, making it the perfect setting to share yoga and meditation practices. Unite with other yogis from around the world and experience the teachings\, speakers\, artists\, and local talents committed to awakening humanity. Our festival overlooks the stunning Pacific Ocean\, the sacred Wailua River\, and ancient Hawaiian Heiaus (temples under the open sky). \nKauai’s 7th Annual Yoga Festival spreads the big ALOHA – PEACE – LOVE message to the world. We ARE the ones we’ve been waiting for! Mama Kauai and the Spirit of ALOHA are calling you back home. The festival is an opportunity for your soul to connect with peace. \nOur 501(c)(3) non-profit organization\, the Aloha Kauai Yoga & Peace Festival\, is dedicated to promoting physical\, mental\, and spiritual well-being through the practice of yoga and meditation. Our festival is a full-day event 8am- 6pm offering an array of workshops\, classes\, and vendors focused on yoga\, mindfulness\, and human connections. \nA major highlight of our festival is the worldwide peace meditation\, gathering people from around the globe both online and in person to meditate together for world peace. This powerful event fosters a sense of unity and compassion among participants. \nFestival Highlights: \n\nDiverse Yoga Styles: Explore Hatha\, Vinyasa\, Yin\, and Restorative Sound Healing yoga led by experienced instructors.\nHealing Arts and Vendors: Engage with local healers and vendors offering various modalities and products.\nWorldwide Peace Meditation: Meditate for world peace\, fostering unity and compassion.\nFamily-Friendly: Kids attend for free with a paid adult. All levels are welcome!\n\nEvent Details: \n\nDate: October 5\, 2024\nLocation: Kauai Shores Hotel\, 420 Papaloa Rd\, Kapaa\, HI 96746\nTime: 8:00 AM – 6:00 PM\n\nWhat to Bring: \n\nWater bottle\nYoga mat\nBlock and strap\nBeach towel\nSwimsuit\nCushions or blanket\nSunscreen\n\nZero Waste Event: \nSupport our commitment to the planet by bringing your own utensils\, bowls\, water bottle\, and mug. Pack out personal waste that is not compostable or recyclable. \nParking: Parking is limited. Please carpool\, walk\, or ride a bike. \nVolunteers: Our festival is fully volunteer-run. We couldn’t do it without you! Thank you for your service. Please email us to learn more! \nVendors – https://www.alohafestival.org/vendors\nSponsors – https://www.alohafestival.org/become-a-sponsor\nJoin Us: Spread the word about #ALOHAyogaFestival by joining our event page on Facebook and sharing it with your friends. To see the full lineup and learn more\, visit our website at ALOHAFestival.org. \nInfinite Blessings\, \nALOHA Yoga and Peace Festival Production Team \n  \nContact Us \nMailing Address: PO Box 2092 Kapaa\, HI 96746 \nEmail: kauaialohafest@gmail.com \n 
URL:https://kauaiconnect.com/event/aloha-kauai-yoga-peace-festival-2024/
LOCATION:Kauai Shores Hotel\, 420 Papaloa Rd.\, Kapaa\, HI\, 96746\, United States
CATEGORIES:Island Happenings
ATTACH;FMTTYPE=image/png:https://kauaiconnect.com/wp-content/uploads/ALOHA-4-dRhrRy.tmp_.png
ORGANIZER;CN="Kauai Yoga on The Beach":MAILTO:kauaialohafest@gmail.com
GEO:22.0523613;-159.3294429
X-APPLE-STRUCTURED-LOCATION;VALUE=URI;X-ADDRESS=Kauai Shores Hotel 420 Papaloa Rd. Kapaa HI 96746 United States;X-APPLE-RADIUS=500;X-TITLE=420 Papaloa Rd.:geo:-159.3294429,22.0523613
END:VEVENT
BEGIN:VEVENT
DTSTART;TZID=Pacific/Honolulu:20241005T093000
DTEND;TZID=Pacific/Honolulu:20241005T123000
DTSTAMP:20260420T135430
CREATED:20240823T022043Z
LAST-MODIFIED:20241005T113344Z
UID:10000564-1728120600-1728131400@kauaiconnect.com
SUMMARY:Princeville Farmers and Arts Market
DESCRIPTION:A Weekly event in the beautiful Prince Albert Park in Princeville.  Featuring locally grown produce\, honey\, and value added products along with a vast array of Kauai designed and created products including handcrafts\, jewelry\, clothing\, photos\, artwork and more from Kauai’s talented artists. Live music and local food vendors make this a must stop for both visitors and locals alike!
URL:https://kauaiconnect.com/event/princeville-farmers-and-arts-market-15/
LOCATION:Prince Albert Park\, Princeville\, 4334 Emmalani Rd.\, Princeville\, HI\, 96722\, United States
CATEGORIES:Island Happenings,Market
ATTACH;FMTTYPE=image/jpeg:https://kauaiconnect.com/wp-content/uploads/IMG_0008-Ee3vDw.tmp_.jpg
ORGANIZER;CN="Bloom and Prosper Hawaii":MAILTO:mckenzie@bloomandprosperhawaii.com
GEO:22.2148061;-159.4716207
X-APPLE-STRUCTURED-LOCATION;VALUE=URI;X-ADDRESS=Prince Albert Park Princeville 4334 Emmalani Rd. Princeville HI 96722 United States;X-APPLE-RADIUS=500;X-TITLE=4334 Emmalani Rd.:geo:-159.4716207,22.2148061
END:VEVENT
BEGIN:VEVENT
DTSTART;TZID=Pacific/Honolulu:20241006T090000
DTEND;TZID=Pacific/Honolulu:20241006T130000
DTSTAMP:20260420T135430
CREATED:20240822T022107Z
LAST-MODIFIED:20240822T022107Z
UID:10000548-1728205200-1728219600@kauaiconnect.com
SUMMARY:Beach House Craft Fair
DESCRIPTION:A beautiful setting in Poipu just outside the Beach House Restaurant in Poipu!  More than 40 vendors offering quality handcrafted items including a wide variety of Kauai Keepsakes\, Clothing\, Jewelry\, Photographs\, Paintings\, Snacks\, and much more!! There is something for everyone!
URL:https://kauaiconnect.com/event/beach-house-craft-fair-11/
LOCATION:Beach House Restaurant\, 5022 Lawai Rd.\, Koloa\, 96756
CATEGORIES:Island Happenings
ATTACH;FMTTYPE=image/jpeg:https://kauaiconnect.com/wp-content/uploads/Beach-House-Craft-fair-image-TQWnUV.tmp_.jpg
ORGANIZER;CN="Jeannine Marin/Edwin Vea":MAILTO:mailto:jeannine@thebeachhousekauai.com
GEO:21.8811715;-159.4754205
X-APPLE-STRUCTURED-LOCATION;VALUE=URI;X-ADDRESS=Beach House Restaurant 5022 Lawai Rd. Koloa 96756;X-APPLE-RADIUS=500;X-TITLE=5022 Lawai Rd.:geo:-159.4754205,21.8811715
END:VEVENT
BEGIN:VEVENT
DTSTART;TZID=Pacific/Honolulu:20241012T090000
DTEND;TZID=Pacific/Honolulu:20241012T130000
DTSTAMP:20260420T135430
CREATED:20240721T000512Z
LAST-MODIFIED:20241012T050454Z
UID:10000452-1728723600-1728738000@kauaiconnect.com
SUMMARY:Lihue Senior Center Craft Fair
DESCRIPTION:Handmade items by the seniors of Lihue\, Kapaa\, and Waimea Senior Centers.\nBonsai Plants\nCountry Store\nFood items
URL:https://kauaiconnect.com/event/lihue-senior-center-craft-fair/
LOCATION:Lihue Neighborhood Center\, 3353 Eono Street\, Lihue\, 96766
CATEGORIES:Island Happenings
ATTACH;FMTTYPE=image/jpeg:https://kauaiconnect.com/wp-content/uploads/IMG_7535-scaled-Y23NPT.tmp_.jpg
GEO:21.9844788;-159.3689256
X-APPLE-STRUCTURED-LOCATION;VALUE=URI;X-ADDRESS=Lihue Neighborhood Center 3353 Eono Street Lihue 96766;X-APPLE-RADIUS=500;X-TITLE=3353 Eono Street:geo:-159.3689256,21.9844788
END:VEVENT
BEGIN:VEVENT
DTSTART;TZID=Pacific/Honolulu:20241012T093000
DTEND;TZID=Pacific/Honolulu:20241012T123000
DTSTAMP:20260420T135430
CREATED:20240823T022044Z
LAST-MODIFIED:20241012T114856Z
UID:10000565-1728725400-1728736200@kauaiconnect.com
SUMMARY:Princeville Farmers and Arts Market
DESCRIPTION:A Weekly event in the beautiful Prince Albert Park in Princeville.  Featuring locally grown produce\, honey\, and value added products along with a vast array of Kauai designed and created products including handcrafts\, jewelry\, clothing\, photos\, artwork and more from Kauai’s talented artists. Live music and local food vendors make this a must stop for both visitors and locals alike!
URL:https://kauaiconnect.com/event/princeville-farmers-and-arts-market-16/
LOCATION:Prince Albert Park\, Princeville\, 4334 Emmalani Rd.\, Princeville\, HI\, 96722\, United States
CATEGORIES:Island Happenings,Market
ATTACH;FMTTYPE=image/jpeg:https://kauaiconnect.com/wp-content/uploads/IMG_0008-Ee3vDw.tmp_.jpg
ORGANIZER;CN="Bloom and Prosper Hawaii":MAILTO:mckenzie@bloomandprosperhawaii.com
GEO:22.2148061;-159.4716207
X-APPLE-STRUCTURED-LOCATION;VALUE=URI;X-ADDRESS=Prince Albert Park Princeville 4334 Emmalani Rd. Princeville HI 96722 United States;X-APPLE-RADIUS=500;X-TITLE=4334 Emmalani Rd.:geo:-159.4716207,22.2148061
END:VEVENT
BEGIN:VEVENT
DTSTART;TZID=Pacific/Honolulu:20241012T160000
DTEND;TZID=Pacific/Honolulu:20241012T200000
DTSTAMP:20260420T135430
CREATED:20240714T210910Z
LAST-MODIFIED:20241012T050455Z
UID:10000441-1728748800-1728763200@kauaiconnect.com
SUMMARY:Rice Street Block Party
DESCRIPTION:Celebrate Downtown Līhuʻe\nAnnual Block Party celebrating the heart of Kauaʻi and it’s local businesses and residents. Keiki zone\, playstreets\, 3 performance stages\, over 50+ local vendors\, food trucks\, and local artisans. \nKickoff the morning with a Kickball and Pickleball tournament. Rice Street Road closure is from 2-10pm with the entire event happening from 4-8pm on Rice Street. \nGet all your details at http://www.ricestreetblockparty.com
URL:https://kauaiconnect.com/event/rice-street-block-party/
LOCATION:Downtown Lihue\, Rice Street\, Lihue\, Hawaii\, 96766\, United States
CATEGORIES:Celebration,Featured Events,Island Happenings
ATTACH;FMTTYPE=image/png:https://kauaiconnect.com/wp-content/uploads/2024-RSBP-facebook-cover-dtxJvf.tmp_.png
ORGANIZER;CN="Rice Street Business Association":MAILTO:kauairsba@gmail.com
GEO:21.9696792;-159.3611073
X-APPLE-STRUCTURED-LOCATION;VALUE=URI;X-ADDRESS=Downtown Lihue Rice Street Lihue Hawaii 96766 United States;X-APPLE-RADIUS=500;X-TITLE=Rice Street:geo:-159.3611073,21.9696792
END:VEVENT
BEGIN:VEVENT
DTSTART;TZID=Pacific/Honolulu:20241013T090000
DTEND;TZID=Pacific/Honolulu:20241013T130000
DTSTAMP:20260420T135430
CREATED:20240822T022107Z
LAST-MODIFIED:20240822T022107Z
UID:10000549-1728810000-1728824400@kauaiconnect.com
SUMMARY:Beach House Craft Fair
DESCRIPTION:A beautiful setting in Poipu just outside the Beach House Restaurant in Poipu!  More than 40 vendors offering quality handcrafted items including a wide variety of Kauai Keepsakes\, Clothing\, Jewelry\, Photographs\, Paintings\, Snacks\, and much more!! There is something for everyone!
URL:https://kauaiconnect.com/event/beach-house-craft-fair-12/
LOCATION:Beach House Restaurant\, 5022 Lawai Rd.\, Koloa\, 96756
CATEGORIES:Island Happenings
ATTACH;FMTTYPE=image/jpeg:https://kauaiconnect.com/wp-content/uploads/Beach-House-Craft-fair-image-TQWnUV.tmp_.jpg
ORGANIZER;CN="Jeannine Marin/Edwin Vea":MAILTO:mailto:jeannine@thebeachhousekauai.com
GEO:21.8811715;-159.4754205
X-APPLE-STRUCTURED-LOCATION;VALUE=URI;X-ADDRESS=Beach House Restaurant 5022 Lawai Rd. Koloa 96756;X-APPLE-RADIUS=500;X-TITLE=5022 Lawai Rd.:geo:-159.4754205,21.8811715
END:VEVENT
BEGIN:VEVENT
DTSTART;TZID=Pacific/Honolulu:20241013T090000
DTEND;TZID=Pacific/Honolulu:20241013T130000
DTSTAMP:20260420T135430
CREATED:20240924T040344Z
LAST-MODIFIED:20241013T050602Z
UID:10000624-1728810000-1728824400@kauaiconnect.com
SUMMARY:Beach House Craft Fair
DESCRIPTION:A beautiful setting on Kauai’s southside\, just outside the Beach House Restaurant in Poipu! More than 40 vendors offering quality handcrafted items including a wide variety of Kauai Keepsakes\, Clothing\, Jewelry\, Photographs\, Paintings\, Snacks\, and much more!! There is something for everyone!
URL:https://kauaiconnect.com/event/beach-house-craft-fair-19/
LOCATION:Beach House Restaurant\, 5022 Lawai Rd.\, Koloa\, 96756
CATEGORIES:Island Happenings
ATTACH;FMTTYPE=image/jpeg:https://kauaiconnect.com/wp-content/uploads/Beach-House-Craft-fair-image-FMTOl0.tmp_.jpg
ORGANIZER;CN="Jeannine Marin/Edwin Vea":MAILTO:mailto:jeannine@thebeachhousekauai.com
GEO:21.8811715;-159.4754205
X-APPLE-STRUCTURED-LOCATION;VALUE=URI;X-ADDRESS=Beach House Restaurant 5022 Lawai Rd. Koloa 96756;X-APPLE-RADIUS=500;X-TITLE=5022 Lawai Rd.:geo:-159.4754205,21.8811715
END:VEVENT
BEGIN:VEVENT
DTSTART;TZID=Pacific/Honolulu:20241013T160000
DTEND;TZID=Pacific/Honolulu:20241013T200000
DTSTAMP:20260420T135430
CREATED:20240715T204849Z
LAST-MODIFIED:20240822T101910Z
UID:10000442-1728835200-1728849600@kauaiconnect.com
SUMMARY:Princeville Night Market
DESCRIPTION:Enjoy an evening of live music\, local artists\, and food trucks at the Princeville Night Market. \nConnect with 40+ of Kauai’s best artisans\, including wood workers\, painters\, jewelers\, photographers\, quilters\, and more. When you’re ready for a break\, head over to the food trucks and get dinner or dessert to enjoy as the sun sets. Three different live music tents round out the evening\, making for an unforgettable Sunday night. \nThe Princeville Night Market is a monthly market\, occurring on the Second Sunday of each month. The market runs from 4-8pm\, rain or shine. It takes place at the Princeville Shopping Center\, which is home to locally owned retail shops and full service restaurants. This is a free and family friendly event.
URL:https://kauaiconnect.com/event/princeville-night-market-5/
LOCATION:Princeville Shopping Center\, 5-4280 Kuhio Hwy\, Princeville\, HI\, 96722\, United States
CATEGORIES:Island Happenings,Market
ATTACH;FMTTYPE=image/jpeg:https://kauaiconnect.com/wp-content/uploads/PNM2-VvIgHm.tmp_.jpg
ORGANIZER;CN="Princeville Night Market":MAILTO:PrincevilleNightMarket@gmail.com
GEO:22.2138865;-159.4737941
X-APPLE-STRUCTURED-LOCATION;VALUE=URI;X-ADDRESS=Princeville Shopping Center 5-4280 Kuhio Hwy Princeville HI 96722 United States;X-APPLE-RADIUS=500;X-TITLE=5-4280 Kuhio Hwy:geo:-159.4737941,22.2138865
END:VEVENT
BEGIN:VEVENT
DTSTART;TZID=Pacific/Honolulu:20241013T160000
DTEND;TZID=Pacific/Honolulu:20241013T200000
DTSTAMP:20260420T135430
CREATED:20240919T113359Z
LAST-MODIFIED:20241013T114834Z
UID:10000617-1728835200-1728849600@kauaiconnect.com
SUMMARY:Princeville Night Market
DESCRIPTION:Connect with 40 of Kauai’s best artisans at this monthly market. Food trucks\, restaurants\, and several musicians make it a market to remember! \nOur exact vendor line-up changes regularly\, but you’re sure to find paintings\, wood work\, photography\, jewelry\, skincare & more\, plus meet the local artists who make it all. Three different music tents create a lively atmosphere\, and the food trucks and dessert options aren’t to be missed. \nThis free and family friendly event has been proudly running since 2015. You’ll find us on the Second Sunday of each month from 4-8pm\, only at the Princeville Shopping Center. Our open-air outdoor market is a rain or shine event. We hope to see you there! \nFollow us on instagram! @PrincevilleNightMarket
URL:https://kauaiconnect.com/event/princeville-night-market-7/
LOCATION:Princeville Shopping Center\, 5-4280 Kuhio Hwy\, Princeville\, HI\, 96722\, United States
CATEGORIES:Island Happenings,Market
ATTACH;FMTTYPE=image/jpeg:https://kauaiconnect.com/wp-content/uploads/Screenshot_20240918_110406_Instagram-hFzouW.tmp_.jpg
ORGANIZER;CN="Princeville Night Market":MAILTO:PrincevilleNightMarket@gmail.com
GEO:22.2138865;-159.4737941
X-APPLE-STRUCTURED-LOCATION;VALUE=URI;X-ADDRESS=Princeville Shopping Center 5-4280 Kuhio Hwy Princeville HI 96722 United States;X-APPLE-RADIUS=500;X-TITLE=5-4280 Kuhio Hwy:geo:-159.4737941,22.2138865
END:VEVENT
BEGIN:VEVENT
DTSTART;TZID=Pacific/Honolulu:20241019T080000
DTEND;TZID=Pacific/Honolulu:20241019T140000
DTSTAMP:20260420T135430
CREATED:20240721T000552Z
LAST-MODIFIED:20241019T053401Z
UID:10000485-1729324800-1729346400@kauaiconnect.com
SUMMARY:Kauai Island Crafters Fair
DESCRIPTION:Embark on a journey of creativity and culture at the Kauai Island Crafters Fair\, a celebrated event with a decade-long tradition of bringing together the best of Kauai’s local artisans and crafters. Nestled in the heart of this breathtaking island\, our fair showcases the essence of Kauai’s craftsmanship\, offering a unique opportunity for both visitors and locals to connect with the vibrant artistic spirit of the community. Step into a world where every item tells a story\, as skilled Kauai artisans proudly display their locally handmade treasures. The fair\, held indoors for your comfort\, exudes the warm Aloha Spirit through its friendly vendors who are passionate about their craft. Immerse yourself in a shopping experience where each handcrafted product is a piece of Kauai’s soul\, inviting you to take home a special memento of your island vacation. Whether you’re seeking a bespoke item for yourself or a thoughtful gift\, the Kauai Island Crafters Fair is the perfect place to discover the rich tapestry of Kauai’s artistic heritage. \nFor those inspired to join this creative community\, interested vendors can reach out to kauaiislandcraftersfair@gmail.com. Come join us and let the Aloha-infused craftsmanship of Kauai capture your heart.
URL:https://kauaiconnect.com/event/kauai-island-crafters-fair-13/
LOCATION:Koloa Neighborhood Center\, 3461B Weliweli Rd.\, Koloa\, 96756
CATEGORIES:Island Happenings
ATTACH;FMTTYPE=image/jpeg:https://kauaiconnect.com/wp-content/uploads/NC-Designz-2023pic-1-rotated-yXHXqk.tmp_.jpg
ORGANIZER;CN="Debbie Yanagihara":MAILTO:kauaiislandcf@hotmail.com
GEO:21.9035095;-159.4639758
X-APPLE-STRUCTURED-LOCATION;VALUE=URI;X-ADDRESS=Koloa Neighborhood Center 3461B Weliweli Rd. Koloa 96756;X-APPLE-RADIUS=500;X-TITLE=3461B Weliweli Rd.:geo:-159.4639758,21.9035095
END:VEVENT
BEGIN:VEVENT
DTSTART;TZID=Pacific/Honolulu:20241019T093000
DTEND;TZID=Pacific/Honolulu:20241019T123000
DTSTAMP:20260420T135430
CREATED:20240823T022044Z
LAST-MODIFIED:20241019T121915Z
UID:10000566-1729330200-1729341000@kauaiconnect.com
SUMMARY:Princeville Farmers and Arts Market
DESCRIPTION:A Weekly event in the beautiful Prince Albert Park in Princeville.  Featuring locally grown produce\, honey\, and value added products along with a vast array of Kauai designed and created products including handcrafts\, jewelry\, clothing\, photos\, artwork and more from Kauai’s talented artists. Live music and local food vendors make this a must stop for both visitors and locals alike!
URL:https://kauaiconnect.com/event/princeville-farmers-and-arts-market-17/
LOCATION:Prince Albert Park\, Princeville\, 4334 Emmalani Rd.\, Princeville\, HI\, 96722\, United States
CATEGORIES:Island Happenings,Market
ATTACH;FMTTYPE=image/jpeg:https://kauaiconnect.com/wp-content/uploads/IMG_0008-Ee3vDw.tmp_.jpg
ORGANIZER;CN="Bloom and Prosper Hawaii":MAILTO:mckenzie@bloomandprosperhawaii.com
GEO:22.2148061;-159.4716207
X-APPLE-STRUCTURED-LOCATION;VALUE=URI;X-ADDRESS=Prince Albert Park Princeville 4334 Emmalani Rd. Princeville HI 96722 United States;X-APPLE-RADIUS=500;X-TITLE=4334 Emmalani Rd.:geo:-159.4716207,22.2148061
END:VEVENT
BEGIN:VEVENT
DTSTART;TZID=Pacific/Honolulu:20241020T090000
DTEND;TZID=Pacific/Honolulu:20241020T130000
DTSTAMP:20260420T135430
CREATED:20240822T022108Z
LAST-MODIFIED:20240822T022108Z
UID:10000550-1729414800-1729429200@kauaiconnect.com
SUMMARY:Beach House Craft Fair
DESCRIPTION:A beautiful setting in Poipu just outside the Beach House Restaurant in Poipu!  More than 40 vendors offering quality handcrafted items including a wide variety of Kauai Keepsakes\, Clothing\, Jewelry\, Photographs\, Paintings\, Snacks\, and much more!! There is something for everyone!
URL:https://kauaiconnect.com/event/beach-house-craft-fair-13/
LOCATION:Beach House Restaurant\, 5022 Lawai Rd.\, Koloa\, 96756
CATEGORIES:Island Happenings
ATTACH;FMTTYPE=image/jpeg:https://kauaiconnect.com/wp-content/uploads/Beach-House-Craft-fair-image-TQWnUV.tmp_.jpg
ORGANIZER;CN="Jeannine Marin/Edwin Vea":MAILTO:mailto:jeannine@thebeachhousekauai.com
GEO:21.8811715;-159.4754205
X-APPLE-STRUCTURED-LOCATION;VALUE=URI;X-ADDRESS=Beach House Restaurant 5022 Lawai Rd. Koloa 96756;X-APPLE-RADIUS=500;X-TITLE=5022 Lawai Rd.:geo:-159.4754205,21.8811715
END:VEVENT
BEGIN:VEVENT
DTSTART;TZID=Pacific/Honolulu:20241026T093000
DTEND;TZID=Pacific/Honolulu:20241026T123000
DTSTAMP:20260420T135430
CREATED:20240823T022045Z
LAST-MODIFIED:20241026T124826Z
UID:10000567-1729935000-1729945800@kauaiconnect.com
SUMMARY:Princeville Farmers and Arts Market
DESCRIPTION:A Weekly event in the beautiful Prince Albert Park in Princeville.  Featuring locally grown produce\, honey\, and value added products along with a vast array of Kauai designed and created products including handcrafts\, jewelry\, clothing\, photos\, artwork and more from Kauai’s talented artists. Live music and local food vendors make this a must stop for both visitors and locals alike!
URL:https://kauaiconnect.com/event/princeville-farmers-and-arts-market-18/
LOCATION:Prince Albert Park\, Princeville\, 4334 Emmalani Rd.\, Princeville\, HI\, 96722\, United States
CATEGORIES:Island Happenings,Market
ATTACH;FMTTYPE=image/jpeg:https://kauaiconnect.com/wp-content/uploads/IMG_0008-Ee3vDw.tmp_.jpg
ORGANIZER;CN="Bloom and Prosper Hawaii":MAILTO:mckenzie@bloomandprosperhawaii.com
GEO:22.2148061;-159.4716207
X-APPLE-STRUCTURED-LOCATION;VALUE=URI;X-ADDRESS=Prince Albert Park Princeville 4334 Emmalani Rd. Princeville HI 96722 United States;X-APPLE-RADIUS=500;X-TITLE=4334 Emmalani Rd.:geo:-159.4716207,22.2148061
END:VEVENT
BEGIN:VEVENT
DTSTART;TZID=Pacific/Honolulu:20241027T090000
DTEND;TZID=Pacific/Honolulu:20241027T130000
DTSTAMP:20260420T135430
CREATED:20240822T022108Z
LAST-MODIFIED:20240822T022108Z
UID:10000551-1730019600-1730034000@kauaiconnect.com
SUMMARY:Beach House Craft Fair
DESCRIPTION:A beautiful setting in Poipu just outside the Beach House Restaurant in Poipu!  More than 40 vendors offering quality handcrafted items including a wide variety of Kauai Keepsakes\, Clothing\, Jewelry\, Photographs\, Paintings\, Snacks\, and much more!! There is something for everyone!
URL:https://kauaiconnect.com/event/beach-house-craft-fair-14/
LOCATION:Beach House Restaurant\, 5022 Lawai Rd.\, Koloa\, 96756
CATEGORIES:Island Happenings
ATTACH;FMTTYPE=image/jpeg:https://kauaiconnect.com/wp-content/uploads/Beach-House-Craft-fair-image-TQWnUV.tmp_.jpg
ORGANIZER;CN="Jeannine Marin/Edwin Vea":MAILTO:mailto:jeannine@thebeachhousekauai.com
GEO:21.8811715;-159.4754205
X-APPLE-STRUCTURED-LOCATION;VALUE=URI;X-ADDRESS=Beach House Restaurant 5022 Lawai Rd. Koloa 96756;X-APPLE-RADIUS=500;X-TITLE=5022 Lawai Rd.:geo:-159.4754205,21.8811715
END:VEVENT
BEGIN:VEVENT
DTSTART;TZID=Pacific/Honolulu:20241028T130000
DTEND;TZID=Pacific/Honolulu:20241031T190000
DTSTAMP:20260420T135430
CREATED:20240924T040345Z
LAST-MODIFIED:20241028T053334Z
UID:10000625-1730120400-1730401200@kauaiconnect.com
SUMMARY:Art In The Dark: A Glow-In-The-Dark Art Exhibition and Sale
DESCRIPTION:Art In The Dark: A Glow-In-The-Dark Art Exhibition & Sale \nExperience an immersive glow-in-the-dark art show by local artist KEO from October 28-31\, 2024\, at the Kauai Society of Artists space at Kukui Grove Center\, Lihue. \nExplore original glow-in-the-dark paintings\, color-changing sculptures\, photography and the “Cabinet of Curiosities” featuring rare treasures from around the globe\, all available for purchase. \nOpening reception on October 28 at 5 PM includes DJs\, a dance party\, and light refreshments. \nThis event is perfect for adults and older children\, coinciding with the Halloween festivities at Kukui Grove.
URL:https://kauaiconnect.com/event/art-in-the-dark-a-glow-in-the-dark-art-exhibition-and-sale/
LOCATION:Kauai Society of Artists\, 2600 Kaumualii Hwy #3\, Lihue\, 96766
CATEGORIES:Island Happenings
ATTACH;FMTTYPE=image/jpeg:https://kauaiconnect.com/wp-content/uploads/ArtInTheDark-dqYllo.tmp_.jpg
ORGANIZER;CN="Kaua&#8217%3Bi Society of Artists":MAILTO:artinkauai@gmail.com
GEO:21.969756;-159.3786872
X-APPLE-STRUCTURED-LOCATION;VALUE=URI;X-ADDRESS=Kauai Society of Artists 2600 Kaumualii Hwy #3 Lihue 96766;X-APPLE-RADIUS=500;X-TITLE=2600 Kaumualii Hwy #3:geo:-159.3786872,21.969756
END:VEVENT
END:VCALENDAR