BEGIN:VCALENDAR
VERSION:2.0
PRODID:-//Kauaʻi Connect - ECPv6.15.20//NONSGML v1.0//EN
CALSCALE:GREGORIAN
METHOD:PUBLISH
X-WR-CALNAME:Kauaʻi Connect
X-ORIGINAL-URL:https://kauaiconnect.com
X-WR-CALDESC:Events for Kauaʻi Connect
REFRESH-INTERVAL;VALUE=DURATION:PT1H
X-Robots-Tag:noindex
X-PUBLISHED-TTL:PT1H
BEGIN:VTIMEZONE
TZID:Pacific/Honolulu
BEGIN:STANDARD
TZOFFSETFROM:-1000
TZOFFSETTO:-1000
TZNAME:HST
DTSTART:20250101T000000
END:STANDARD
END:VTIMEZONE
BEGIN:VEVENT
DTSTART;TZID=Pacific/Honolulu:20260424T180000
DTEND;TZID=Pacific/Honolulu:20260424T210000
DTSTAMP:20260423T000326
CREATED:20260321T060003Z
LAST-MODIFIED:20260403T062948Z
UID:10002232-1777053600-1777064400@kauaiconnect.com
SUMMARY:Rotary Club of Hanalei Bay Night Mini Golf Fundraiser
DESCRIPTION:Join us for a fun and meaningful evening of community\, friendly competition\, and giving back at the Rotary Club of Hanalei Bay Night Mini Golf Fundraiser at Anaina Hou Community Park! \nOn Friday\, April 24th\, our beautiful botanical miniature golf course will come alive under the stars as teams compete in a 9-hole night miniature golf tournament. Teams will rotate through the illuminated course while enjoying a festive atmosphere\, friendly rivalry\, and the chance to win exciting prizes. \nProceeds from the event will support local elementary school teachers\, helping provide resources and recognition for the educators who make a lasting impact in our community. Funds will also help support the growth of the Rotary Club of Hanalei Bay Entrepreneur Club\, a new initiative designed to connect and support local entrepreneurs and service providers. \nThis fundraiser is more than just a game of mini golf\, it’s an opportunity to bring together local families\, business teams\, and friends for a memorable night that benefits our community. A dedicated food and beverage team will be available throughout the evening\, and every purchase helps support the fundraising mission. \nWhether you’re coming for the competition\, the prizes\, or simply to support local education\, this glowing night of mini golf promises fun for everyone. \nPrizes and Highlights\nParticipants will have the chance to compete for several exciting prizes: \nGrand Prize (Individual Winner): BRAND-NEW Electric Bicycle + Accessories (Retail Value: $2\,200) \nTeam Prizes \n\nTeam 2nd Place: $100 Gift Certificate to The Hanalei Dolphin Restaurant\nTeam 3nd Place: $100 Gift Certificate to B’s Kitchen & Bar (Princeville)\n\nContest Details\n\nLowest team score across 9-holes wins\nTie-breakers will be decided with a 3-hole playoff\nFinal winning team members advance to a 6-hole head-to-head playoff for ultimate bragging rights\n\nYour participation not only guarantees a night of fun but also helps us reach our fundraising goal of $2\,000+ in support of local education. Bring your best putting game\, rally your team\, and join us for a glowing night of mini golf\, prizes\, and community spirit—a true hole-in-one for the North Shore! \n\n\n\nWhat’s included\n\n\n9-holes of glow-in-the-dark night mini golf \n\n\nMini golf equipment and balls provided by AHCP \n\n\nOpportunity to compete for individual and team prizes \n\n\nAccess to dedicated food and beverage service \n\n\nEvent score tracking and tournament coordination \n\n\nFree parking on-site \n\n\nA fun and memorable community fundraising experience \n\n\n\n\nWhat’s not included\n\n\nFood and beverages (avavilable for purchase on-site) \n\n\nTransportation to and from Anaina Hou Community Park \n\n\nLodging or overnight accommodations \n\n\nAdditional mini golf rounds beyond the tournament play \n\n\n\n\nItinerary\n\n\n6:00 PM – Team Check-In and Registration\n6:30 PM – Tournament Tee-Off (teams rotate through 9 holes)\n8:30 PM (approx.) – Score Tally & Tie-Break Playoffs if needed\n9:00 PM (approx.) – Awards Presentation & Event Conclusion\n\nEnd time may vary depending on the number of teams and potential playoff rounds. \n\n\n\nHighlights\n\nBeyond the excitement of the competition\, this event helps support local elementary school teachers and strengthens community programs led by the Rotary Club of Hanalei Bay. Your participation helps recognize educators and build opportunities for the next generation of entrepreneurs and community leaders on Kaua’i’s North Shore. \n\n\n\n\n\n\n\nPricing\n\n\n\n\n\nIndividual Player: $25 per person\nTeam of Four (4) Players: $100 per team\nTeams must have a minimum of 4 players.
URL:https://kauaiconnect.com/event/rotary-club-of-hanalei-bay-night-mini-golf-fundraiser/
LOCATION:Kaua’i Miniature Golf & Botanical Gardens\, Anaina Hou Community Park\, Kuhio Highway 5-2723\, Kilauea\, HI\, 96754\, United States
CATEGORIES:Island Happenings
ATTACH;FMTTYPE=image/png:https://kauaiconnect.com/wp-content/uploads/RCHB_FUNDRAISER_FAREHARBOR-1-7gjZWF.png
ORGANIZER;CN="Anaina Hou Community Park":MAILTO:community@anainahou.org
GEO:22.2109829;-159.4160464
X-APPLE-STRUCTURED-LOCATION;VALUE=URI;X-ADDRESS=Kaua’i Miniature Golf & Botanical Gardens Anaina Hou Community Park Kuhio Highway 5-2723 Kilauea HI 96754 United States;X-APPLE-RADIUS=500;X-TITLE=Kuhio Highway 5-2723:geo:-159.4160464,22.2109829
END:VEVENT
BEGIN:VEVENT
DTSTART;TZID=Pacific/Honolulu:20260503T110000
DTEND;TZID=Pacific/Honolulu:20260503T160000
DTSTAMP:20260423T000326
CREATED:20260317T024513Z
LAST-MODIFIED:20260422T022855Z
UID:10002216-1777806000-1777824000@kauaiconnect.com
SUMMARY:Waipā ‘Āina Festival 2026
DESCRIPTION:Looking to connect with ʻāina\, culture\, and community? Waipā is hosting our third annual ʻĀina Festival on Sunday\, May 3rd\, from 11am to 4pm at Halulu Fishpond in Waipā\, located a half-mile past Hanalei Town. It’ll be a wonderful day of live music\, ‘ono food\, and cultural activities\, to celebrate everything ʻāina! It’ll also feature local artisans\, crafters\, hands-on keiki activities and a waterslide\, too. This is a fundraiser for Waipā Foundation and local entrepreneurs\, so gate fees ($10 general\, $1 keiki) and your purchases support our collective work! Visit WAIPAFOUNDATION.ORG or call (808) 826-9969 for more information. All are welcome — save the date!
URL:https://kauaiconnect.com/event/waipa-aina-festival-2026/
LOCATION:Waipā Community Complex\, Hanalei\, 5-5785 Kuhio Highway\, Hanalei\, 96714
CATEGORIES:Celebration,Featured Events,Island Happenings
ATTACH;FMTTYPE=image/jpeg:https://kauaiconnect.com/wp-content/uploads/Kalo-Fest-16-scaled-GE5lsb.jpg
ORGANIZER;CN="Waipa Foundation":MAILTO:waipaonline@gmail.com
GEO:22.2037294;-159.4925365
X-APPLE-STRUCTURED-LOCATION;VALUE=URI;X-ADDRESS=Waipā Community Complex Hanalei 5-5785 Kuhio Highway Hanalei 96714;X-APPLE-RADIUS=500;X-TITLE=5-5785 Kuhio Highway:geo:-159.4925365,22.2037294
END:VEVENT
BEGIN:VEVENT
DTSTART;TZID=Pacific/Honolulu:20260515T000000
DTEND;TZID=Pacific/Honolulu:20260515T235959
DTSTAMP:20260423T000326
CREATED:20260215T204522Z
LAST-MODIFIED:20260403T062959Z
UID:10002115-1778803200-1778889599@kauaiconnect.com
SUMMARY:2026 US Open: ProAm Tournament
DESCRIPTION:Be part of history as the USPMGA 28th Annual US Open comes to Hawai‘i for the very first time! The Friday Pro/Am Tournament invites businesses\, local clubs\, and community teams to step onto Kaua‘i’s award-winning Anaina Hou Mini Golf course for a one-of-a-kind competitive and community-focused experience. \nTeams of four will be paired with a professional mini golfer\, offering a rare opportunity to learn from the pros while enjoying friendly competition on our beautifully designed botanical garden course. This special event also raises funds for charity and provides an exceptional networking and entertainment opportunity for sponsors\, guests\, and golf fans alike. \nJoin us for a memorable kickoff to US Open weekend—uniting sport\, community\, and aloha spirit on the North Shore of Kaua‘i. \nABOUT THE US OPEN\nThe US Open of Mini Golf is one of the flagship tournaments of the United States ProMiniGolf Association (USPMGA). The event brings together professional and amateur mini golfers from across the country\, now coming to Hawai‘i for the very first time. \n\n\n\nWhat’s included\n\n\nEntry into the Friday Pro/Am Tournament\nTeam registration for 4 players\nPairing with a professional mini golfer for tournament play\nUse of Kaua’i’s 18-hole Botanical Garden Mini Golf Course\nAccess to tournament scoring and standings\nOn-site check-in support and event staff assistsance\nComplimentary parking at Anaina Hou Community Park\n\n\n\n\nWhat’s not included\n\n\nRegistration for the Saturday Main Tournament. To enter the main event\, visit anainahou.org/USOpen\nAirfaire\, transportation\, or lodging\nMeals beyond the post-round pūpūs\nGolf equipment beyond standard mini golf putters and balls\nSouvenirs\, merchandise\, or photo packages\,\nAlcoholic beverages (available for purchase at the Lanai)\n\n\n\n\nItinerary\n\nFriday\, May 15\, 2025 — Pro/Am Tournament\n(This form registers you for THIS event.) \n\nTeam entry includes 4 players\nPaired with a professional player\nNetworking\, charity fundraising\, and community fun\nPost-round pupus and reception included\n\nSaturday\, May 16\, 2025 — Main Tournament Round 1 – 8\nRegistration NOT included here. Register at anainahou.org/USOpen) \n\nStrict buy-in for pros and amateurs\nGroups of 5\, randomly assigned\nLowest scores progress to final rounds\nLive scoring broadcast on the Lanai\n\nSunday\, May 17\, 2025 — Tournament Rounds 9 and 10 – Awards Ceremony \n\nHosted at the Porter Pavilion at Anaina Hou Community Park\nLunch buffet and live Hawaiian music\nSponsor recognition and press photos\nTournament winners announced\n\nPro/Am Team Buy-In — $600\nIncludes: \n\nEntry for one team of four (4) players (not including applicable taxes and fees)\nProfessional player pairing provided\nRegistration Deadline: April 30\, 2026
URL:https://kauaiconnect.com/event/2026-us-open-proam-tournament/
LOCATION:Anaina Hou Community Park\, 5-2723 Kuhio Hwy.\, Kilauea\, HI\, 96754\, United States
CATEGORIES:Island Happenings
ATTACH;FMTTYPE=image/png:https://kauaiconnect.com/wp-content/uploads/V2.5-US-Open-Instagram-Post-45-1-WE4D6e.png
ORGANIZER;CN="Anaina Hou Community Park":MAILTO:community@anainahou.org
GEO:22.2109763;-159.4160471
X-APPLE-STRUCTURED-LOCATION;VALUE=URI;X-ADDRESS=Anaina Hou Community Park 5-2723 Kuhio Hwy. Kilauea HI 96754 United States;X-APPLE-RADIUS=500;X-TITLE=5-2723 Kuhio Hwy.:geo:-159.4160471,22.2109763
END:VEVENT
BEGIN:VEVENT
DTSTART;TZID=Pacific/Honolulu:20260516T000000
DTEND;TZID=Pacific/Honolulu:20260516T235959
DTSTAMP:20260423T000326
CREATED:20260215T204524Z
LAST-MODIFIED:20260403T063001Z
UID:10002116-1778889600-1778975999@kauaiconnect.com
SUMMARY:2026 US Open: Main Tournament
DESCRIPTION:Please Note: All players must be registered USPMGA members in order to compete in the US Open Main Tournament. To register for USPMGA membership\, please visit https://www.prominigolf.com/players/become-a-member/ before completing this booking. \nExperience the excitement of championship-level play at the USPMGA 28th Annual US Open Main Tournament\, taking place Saturday on Kaua‘i’s award-winning Anaina Hou Mini Golf course. This event features a strict buy-in format open to both amateur players and seasoned professionals\, bringing together top mini golfers for a full day of high-stakes competition. \nPlayers will compete in randomly assigned groups of five\, with the lowest scores advancing through the second and final rounds. As the competition intensifies\, guests and supporters can follow every moment—live scoring will be broadcast on our television leaderboard at the Lānai\, creating an energetic\, spectator-friendly atmosphere. \nJoin us for an unforgettable day of skill and strategy as competitors vie for their place in US Open history. \nABOUT THE US OPEN\nThe US Open of Mini Golf is one of the flagship tournaments of the United States ProMiniGolf Association (USPMGA). The event brings together professional and amateur mini golfers from across the country\, now coming to Hawai‘i for the very first time. \n\n\n\nWhat’s included\n\n\nEntry into the Saturday Main Tournament\nParticipation in all competition rounds you qualify for\nAccess to live scoring and leaderboard updates\nOn-site tournament staff and support\nComplimentary parking at Anaina Hou Community Park\n\n\n\n\nWhat’s not included\n\n\nEntry into the Friday Pro/Am Tournament\nMeals\, snacks\, or beverages (available for purchase at the Lānai)\nTransportation\, airfare\, or lodging\nSouvenirs\, merchandise\, or photo packages\nAlcoholic beverages (available for purchase at the Lānai)\n\n\n\n\nItinerary\n\nFriday\, May 15\, 2025 — Pro/Am Tournament\n(This form registers you for THIS event.) \n\nTeam entry includes 4 players\nPaired with a professional player\nNetworking\, charity fundraising\, and community fun\nPost-round pupus and reception included\n\nSaturday\, May 16\, 2025 — Main Tournament Round 1 – 8\nRegistration NOT included here. Register at anainahou.org/USOpen) \n\nStrict buy-in for pros and amateurs\nGroups of 5\, randomly assigned\nLowest scores progress to final rounds\nLive scoring broadcast on the Lanai\n\nSunday\, May 17\, 2025 — Tournament Rounds 9 and 10 – Awards Ceremony \n\nHosted at the Porter Pavilion at Anaina Hou Community Park\nLunch buffet and live Hawaiian music\nSponsor recognition and press photos\nTournament winners announced\n\n\n\n\nPricing\n\n\n\n\nUS Open Main Tournament Individual Player – $190\nNot including applicable taxes and fees \nPricing reflects the standard single-player tournament registration fee and covers player participation.
URL:https://kauaiconnect.com/event/2026-us-open-main-tournament/
LOCATION:Anaina Hou Community Park\, 5-2723 Kuhio Hwy.\, Kilauea\, HI\, 96754\, United States
CATEGORIES:Island Happenings
ATTACH;FMTTYPE=image/png:https://kauaiconnect.com/wp-content/uploads/V2.5-US-Open-Instagram-Post-45-1-1-yY5dV9.png
ORGANIZER;CN="Anaina Hou Community Park":MAILTO:community@anainahou.org
GEO:22.2109763;-159.4160471
X-APPLE-STRUCTURED-LOCATION;VALUE=URI;X-ADDRESS=Anaina Hou Community Park 5-2723 Kuhio Hwy. Kilauea HI 96754 United States;X-APPLE-RADIUS=500;X-TITLE=5-2723 Kuhio Hwy.:geo:-159.4160471,22.2109763
END:VEVENT
BEGIN:VEVENT
DTSTART;TZID=Pacific/Honolulu:20260718T000000
DTEND;TZID=Pacific/Honolulu:20260718T235959
DTSTAMP:20260423T000326
CREATED:20260419T071417Z
LAST-MODIFIED:20260419T071439Z
UID:10002328-1784332800-1784419199@kauaiconnect.com
SUMMARY:Anaina Hou Community Pāʻina 2026
DESCRIPTION:Join us for an all-day\, all-ages celebration at Anaina Hou Community Park! Starting at 10:00 AM\, guests can enjoy water attractions\, arcade and lawn games\, live entertainment\, and hands-on activities spread throughout the campus. \nLocal volunteers and community partners will be offering face painting and basket weaving\, adding to the festive\, community-driven spirit of the pāʻina. \nFood and Beverage\nFood and beverages will be available for purchase throughout the day from: \n\nAnaina Hou Kitchen\nAnaina Hou Lanai and Mini Golf\nAlly’s Cocina\nSilver Cloud Eatery\nVegetarian and vegan options will be available.\n\nPark Rules & Important Information\n\nNo outside food or beverages permitted.\nFood and beverage concessions will be available on site all day.\nThis is a general admission\, standing-style event with limited seating available throughout the park on a first-come\, first-served basis.\nThis event is rain or shine. Some covered areas will be available\, please plan accordingly and dress for the weather.\nAlcohol consumption is only permitted in designated areas. Drinking alcohol in parking lots or unauthorized areas will result in immediate removal from the property.\nThis is a family-centered event focused on our keiki\, please help us maintain a safe\, respectful\, and positive environment. Mahalo for your kōkua.\nAll guests are subject to a light bag check upon entry.\n\nActivities and Entertainment\nEnjoy a full day packed with games\, creativity\, and community fun: \nArcade & Games \n\nAtari Tempest Legacy\nFast & Furious Arcade\nGolden Axe Arcade\nMortal Kombat\nNBA Jam\nMs. Pac-Man\nStar Wars Pinball\n\nOutdoor & Lawn Games \n\nBucket Ball\nPutterball Golf\nCornhole\nGiant Jenga\nGiant Connect Four\nLadder Toss\nLawn Bowling\n\nFamily Fun \n\nWater Slides\nBounce Houses\nFace Painting\nBasket Weaving\n\nLive Entertainment TBA \n\n\n\n\n\n\n\nPricing\n\n\n\n\n\n\n\nGeneral Admission Wristband — $20 per person\nEnjoy a full day of fun at Anaina Hou Community Park with an all-day wristband that grants access to a wide variety of activities for all ages. \nChildren under 3 years old: Free admission \nMahalo for supporting Anaina Hou Community Park and helping us build an even stronger community. \nThis event is a fundraiser\, and all proceeds directly support Anaina Hou Community Park’s programs and community initiatives. \nSponsorship Opportunities\nWe invite local businesses\, organizations\, and community members to support the Community Pāʻina through sponsorship. Sponsorships help make this event possible while providing meaningful visibility and connection within the community. \nSponsorship opportunities include recognition on event signage\, the Anaina Hou website\, and social media promotions\, depending on sponsorship level. Community-level support and in-kind donations are also welcomed and deeply appreciated. \nIf you’re interested in becoming a sponsor or contributing in any way\, please reach out to us at info@anainahou.org.
URL:https://kauaiconnect.com/event/anaina-hou-community-pa%ca%bbina-2026/
LOCATION:Anaina Hou Porter Pavilion\, 5-2723 Kuhio Highway\, Kilauea\, 96754
CATEGORIES:Island Happenings
ATTACH;FMTTYPE=image/png:https://kauaiconnect.com/wp-content/uploads/FareHarbor_2026-PAINA-SAVE-THE-DATE-2-1600-x-700-px-1-syZMXm.png
ORGANIZER;CN="Anaina Hou Community Park":MAILTO:community@anainahou.org
GEO:22.2109763;-159.4160471
X-APPLE-STRUCTURED-LOCATION;VALUE=URI;X-ADDRESS=Anaina Hou Porter Pavilion 5-2723 Kuhio Highway Kilauea 96754;X-APPLE-RADIUS=500;X-TITLE=5-2723 Kuhio Highway:geo:-159.4160471,22.2109763
END:VEVENT
END:VCALENDAR