BEGIN:VCALENDAR
VERSION:2.0
PRODID:-//Kauaʻi Connect - ECPv6.15.20//NONSGML v1.0//EN
CALSCALE:GREGORIAN
METHOD:PUBLISH
X-WR-CALNAME:Kauaʻi Connect
X-ORIGINAL-URL:https://kauaiconnect.com
X-WR-CALDESC:Events for Kauaʻi Connect
REFRESH-INTERVAL;VALUE=DURATION:PT1H
X-Robots-Tag:noindex
X-PUBLISHED-TTL:PT1H
BEGIN:VTIMEZONE
TZID:Pacific/Honolulu
BEGIN:STANDARD
TZOFFSETFROM:-1000
TZOFFSETTO:-1000
TZNAME:HST
DTSTART:20250101T000000
END:STANDARD
END:VTIMEZONE
BEGIN:VEVENT
DTSTART;TZID=Pacific/Honolulu:20260604T160000
DTEND;TZID=Pacific/Honolulu:20260604T190000
DTSTAMP:20260422T155709
CREATED:20260306T024443Z
LAST-MODIFIED:20260403T063010Z
UID:10002153-1780588800-1780599600@kauaiconnect.com
SUMMARY:Free Hula Show & Craft Fair with Tamatea Nui O Kaua’i Every Thursday
DESCRIPTION:Tamatea Nui O Kaua’i brings to you a FREE Hula Show along with some of the Best Artists and Craft Vendors on Kauai! \nEnjoy a Free Hula show!  Watch the beautiful dancers perform to live Ukulele\, Singing and Talk a Little Story about Hawaiian History and Culture while shopping for Gifts and Souvenirs! \nOpen to Guests and Locals!  This is one of the BEST Events to find that perfect something for yourself or somone on your list\, any time of year!  From Artists to Jewelry\, Wood works to Clothing and Special Treats\, this weekly Fair has everything you need and more! \nEvery Thursday Evening from 4pm tp 7pm with the FREE Hula Show starting at 5:30pm. \nThis is an open to All ages event with Handicap access and is held rain or shine. \nEvent happens in the Lobby of the Hilton Garden Inn\, Wailua Bay  3-5920 Kuhio Highway\, Kapaa \nPull in\, Park and Play!!
URL:https://kauaiconnect.com/event/free-hula-show-craft-fair-with-tamatea-nui-o-kauai-every-thursday-20/
LOCATION:HILTON GARDEN IN WAILUA BAY\, KAPAA KAUAI\, 3-5920 Kuhio Hwy\, KAPAA\, 96746
CATEGORIES:Island Happenings
ATTACH;FMTTYPE=image/png:https://kauaiconnect.com/wp-content/uploads/HILTON-THURSDAY-WEEKLY-PNG-1-M3M52V.png
ORGANIZER;CN="HO&#8217%3BOHIWAHIWAFAIR":MAILTO:hoohiwahiwahgi@gmail.com
GEO:22.0427204;-159.3361068
X-APPLE-STRUCTURED-LOCATION;VALUE=URI;X-ADDRESS=HILTON GARDEN IN WAILUA BAY KAPAA KAUAI 3-5920 Kuhio Hwy KAPAA 96746;X-APPLE-RADIUS=500;X-TITLE=3-5920 Kuhio Hwy:geo:-159.3361068,22.0427204
END:VEVENT
BEGIN:VEVENT
DTSTART;TZID=Pacific/Honolulu:20260606T100000
DTEND;TZID=Pacific/Honolulu:20260606T140000
DTSTAMP:20260422T155709
CREATED:20260420T172853Z
LAST-MODIFIED:20260422T022857Z
UID:10002333-1780740000-1780754400@kauaiconnect.com
SUMMARY:Kaua’i Pride Parade & Festival – Saturday June 6\, 2026
DESCRIPTION:The 8th annual Kaua’i Pride Parade & Festival will take place in Līhu’e on Saturday June 6\, 2026. The Parade will be at 10:00 AM on Rice Street from Vidinha Stadium to the Historic County Building Lawn\, followed by a festival on the County Lawn until 2:00 PM. This is a free\, family-friendly event to celebrate and uplift our LGBTQ+ & mãhū community on Kaua’i. The festival will feature local hula\, local drag queens\, live bands and performance art\, food and beverage vendors\, small business and craft vendors\, local community resources and more! To sponsor or register for the parade\, visit KauaiPrideParade.com
URL:https://kauaiconnect.com/event/kauai-pride-parade-festival-saturday-june-6-2026/
LOCATION:Historic County Lawn\, 4396 Rice St\, Lihue\, HI\, 96766\, United States
CATEGORIES:Celebration,Featured Events,Island Happenings
ATTACH;FMTTYPE=image/png:https://kauaiconnect.com/wp-content/uploads/Copy-of-2026-HtDFP7.png
ORGANIZER;CN="Kaua&#8217%3Bi Pride Parade":MAILTO:matthew@ywcakauai.org
GEO:21.9751055;-159.3672007
X-APPLE-STRUCTURED-LOCATION;VALUE=URI;X-ADDRESS=Historic County Lawn 4396 Rice St Lihue HI 96766 United States;X-APPLE-RADIUS=500;X-TITLE=4396 Rice St:geo:-159.3672007,21.9751055
END:VEVENT
BEGIN:VEVENT
DTSTART;TZID=Pacific/Honolulu:20260611T160000
DTEND;TZID=Pacific/Honolulu:20260611T190000
DTSTAMP:20260422T155709
CREATED:20260313T024626Z
LAST-MODIFIED:20260403T063012Z
UID:10002202-1781193600-1781204400@kauaiconnect.com
SUMMARY:Free Hula Show & Craft Fair with Tamatea Nui O Kaua’i Every Thursday
DESCRIPTION:Tamatea Nui O Kaua’i brings to you a FREE Hula Show along with some of the Best Artists and Craft Vendors on Kauai! \nEnjoy a Free Hula show!  Watch the beautiful dancers perform to live Ukulele\, Singing and Talk a Little Story about Hawaiian History and Culture while shopping for Gifts and Souvenirs! \nOpen to Guests and Locals!  This is one of the BEST Events to find that perfect something for yourself or somone on your list\, any time of year!  From Artists to Jewelry\, Wood works to Clothing and Special Treats\, this weekly Fair has everything you need and more! \nEvery Thursday Evening from 4pm tp 7pm with the FREE Hula Show starting at 5:30pm. \nThis is an open to All ages event with Handicap access and is held rain or shine. \nEvent happens in the Lobby of the Hilton Garden Inn\, Wailua Bay  3-5920 Kuhio Highway\, Kapaa \nPull in\, Park and Play!!
URL:https://kauaiconnect.com/event/free-hula-show-craft-fair-with-tamatea-nui-o-kauai-every-thursday-21/
LOCATION:HILTON GARDEN IN WAILUA BAY\, KAPAA KAUAI\, 3-5920 Kuhio Hwy\, KAPAA\, 96746
CATEGORIES:Island Happenings
ATTACH;FMTTYPE=image/png:https://kauaiconnect.com/wp-content/uploads/HILTON-THURSDAY-WEEKLY-PNG-1-M3M52V.png
ORGANIZER;CN="HO&#8217%3BOHIWAHIWAFAIR":MAILTO:hoohiwahiwahgi@gmail.com
GEO:22.0427204;-159.3361068
X-APPLE-STRUCTURED-LOCATION;VALUE=URI;X-ADDRESS=HILTON GARDEN IN WAILUA BAY KAPAA KAUAI 3-5920 Kuhio Hwy KAPAA 96746;X-APPLE-RADIUS=500;X-TITLE=3-5920 Kuhio Hwy:geo:-159.3361068,22.0427204
END:VEVENT
BEGIN:VEVENT
DTSTART;TZID=Pacific/Honolulu:20260614T160000
DTEND;TZID=Pacific/Honolulu:20260614T200000
DTSTAMP:20260422T155709
CREATED:20260316T024529Z
LAST-MODIFIED:20260403T131421Z
UID:10002212-1781452800-1781467200@kauaiconnect.com
SUMMARY:Princeville Night Market
DESCRIPTION:Connect with 45 of Kauai’s best artisans at this monthly market. Food trucks\, restaurants\, and several musicians make it a market to remember! \nOur exact vendor line-up changes regularly\, but you’re sure to find paintings\, ceramics\, photography\, jewelry\, soaps & more\, plus meet the local artists who make it all. Three different music tents create a lively atmosphere\, and the food trucks and dessert options aren’t to be missed. \nThis free and family friendly event has been proudly running since 2015. You’ll find us on the Second Sunday of each month from 4-8pm\, only at the Princeville Shopping Center. Our open-air outdoor market is a rain or shine event. We hope to see you there! \nFollow us on instagram! @PrincevilleNightMarket
URL:https://kauaiconnect.com/event/princeville-night-market-26/
LOCATION:Princeville Shopping Center\, 5-4280 Kuhio Hwy\, Princeville\, HI\, 96722\, United States
CATEGORIES:Island Happenings,Market
ATTACH;FMTTYPE=image/jpeg:https://kauaiconnect.com/wp-content/uploads/Julie-qBjZS5.jpg
ORGANIZER;CN="Princeville Night Market":MAILTO:PrincevilleNightMarket@gmail.com
GEO:22.2138865;-159.4737941
X-APPLE-STRUCTURED-LOCATION;VALUE=URI;X-ADDRESS=Princeville Shopping Center 5-4280 Kuhio Hwy Princeville HI 96722 United States;X-APPLE-RADIUS=500;X-TITLE=5-4280 Kuhio Hwy:geo:-159.4737941,22.2138865
END:VEVENT
BEGIN:VEVENT
DTSTART;TZID=Pacific/Honolulu:20260618T160000
DTEND;TZID=Pacific/Honolulu:20260618T190000
DTSTAMP:20260422T155709
CREATED:20260320T060023Z
LAST-MODIFIED:20260403T063015Z
UID:10002225-1781798400-1781809200@kauaiconnect.com
SUMMARY:Free Hula Show & Craft Fair with Tamatea Nui O Kaua’i Every Thursday
DESCRIPTION:Tamatea Nui O Kaua’i brings to you a FREE Hula Show along with some of the Best Artists and Craft Vendors on Kauai! \nEnjoy a Free Hula show!  Watch the beautiful dancers perform to live Ukulele\, Singing and Talk a Little Story about Hawaiian History and Culture while shopping for Gifts and Souvenirs! \nOpen to Guests and Locals!  This is one of the BEST Events to find that perfect something for yourself or somone on your list\, any time of year!  From Artists to Jewelry\, Wood works to Clothing and Special Treats\, this weekly Fair has everything you need and more! \nEvery Thursday Evening from 4pm tp 7pm with the FREE Hula Show starting at 5:30pm. \nThis is an open to All ages event with Handicap access and is held rain or shine. \nEvent happens in the Lobby of the Hilton Garden Inn\, Wailua Bay  3-5920 Kuhio Highway\, Kapaa \nPull in\, Park and Play!!
URL:https://kauaiconnect.com/event/free-hula-show-craft-fair-with-tamatea-nui-o-kauai-every-thursday-22/
LOCATION:HILTON GARDEN IN WAILUA BAY\, KAPAA KAUAI\, 3-5920 Kuhio Hwy\, KAPAA\, 96746
CATEGORIES:Island Happenings
ATTACH;FMTTYPE=image/png:https://kauaiconnect.com/wp-content/uploads/HILTON-THURSDAY-WEEKLY-PNG-1-M3M52V.png
ORGANIZER;CN="HO&#8217%3BOHIWAHIWAFAIR":MAILTO:hoohiwahiwahgi@gmail.com
GEO:22.0427204;-159.3361068
X-APPLE-STRUCTURED-LOCATION;VALUE=URI;X-ADDRESS=HILTON GARDEN IN WAILUA BAY KAPAA KAUAI 3-5920 Kuhio Hwy KAPAA 96746;X-APPLE-RADIUS=500;X-TITLE=3-5920 Kuhio Hwy:geo:-159.3361068,22.0427204
END:VEVENT
BEGIN:VEVENT
DTSTART;TZID=Pacific/Honolulu:20260625T160000
DTEND;TZID=Pacific/Honolulu:20260625T190000
DTSTAMP:20260422T155709
CREATED:20260327T061514Z
LAST-MODIFIED:20260403T063018Z
UID:10002249-1782403200-1782414000@kauaiconnect.com
SUMMARY:Free Hula Show & Craft Fair with Tamatea Nui O Kaua’i Every Thursday
DESCRIPTION:Tamatea Nui O Kaua’i brings to you a FREE Hula Show along with some of the Best Artists and Craft Vendors on Kauai! \nEnjoy a Free Hula show!  Watch the beautiful dancers perform to live Ukulele\, Singing and Talk a Little Story about Hawaiian History and Culture while shopping for Gifts and Souvenirs! \nOpen to Guests and Locals!  This is one of the BEST Events to find that perfect something for yourself or somone on your list\, any time of year!  From Artists to Jewelry\, Wood works to Clothing and Special Treats\, this weekly Fair has everything you need and more! \nEvery Thursday Evening from 4pm tp 7pm with the FREE Hula Show starting at 5:30pm. \nThis is an open to All ages event with Handicap access and is held rain or shine. \nEvent happens in the Lobby of the Hilton Garden Inn\, Wailua Bay  3-5920 Kuhio Highway\, Kapaa \nPull in\, Park and Play!!
URL:https://kauaiconnect.com/event/free-hula-show-craft-fair-with-tamatea-nui-o-kauai-every-thursday-23/
LOCATION:HILTON GARDEN IN WAILUA BAY\, KAPAA KAUAI\, 3-5920 Kuhio Hwy\, KAPAA\, 96746
CATEGORIES:Island Happenings
ATTACH;FMTTYPE=image/png:https://kauaiconnect.com/wp-content/uploads/HILTON-THURSDAY-WEEKLY-PNG-1-M3M52V.png
ORGANIZER;CN="HO&#8217%3BOHIWAHIWAFAIR":MAILTO:hoohiwahiwahgi@gmail.com
GEO:22.0427204;-159.3361068
X-APPLE-STRUCTURED-LOCATION;VALUE=URI;X-ADDRESS=HILTON GARDEN IN WAILUA BAY KAPAA KAUAI 3-5920 Kuhio Hwy KAPAA 96746;X-APPLE-RADIUS=500;X-TITLE=3-5920 Kuhio Hwy:geo:-159.3361068,22.0427204
END:VEVENT
END:VCALENDAR