BEGIN:VCALENDAR
VERSION:2.0
PRODID:-//Kauaʻi Connect - ECPv6.15.20//NONSGML v1.0//EN
CALSCALE:GREGORIAN
METHOD:PUBLISH
X-ORIGINAL-URL:https://kauaiconnect.com
X-WR-CALDESC:Events for Kauaʻi Connect
REFRESH-INTERVAL;VALUE=DURATION:PT1H
X-Robots-Tag:noindex
X-PUBLISHED-TTL:PT1H
BEGIN:VTIMEZONE
TZID:Pacific/Honolulu
BEGIN:STANDARD
TZOFFSETFROM:-1000
TZOFFSETTO:-1000
TZNAME:HST
DTSTART:20250101T000000
END:STANDARD
END:VTIMEZONE
BEGIN:VEVENT
DTSTART;TZID=Pacific/Honolulu:20260419T100000
DTEND;TZID=Pacific/Honolulu:20260419T160000
DTSTAMP:20260419T150511
CREATED:20260223T211425Z
LAST-MODIFIED:20260419T235903Z
UID:10002128-1776592800-1776614400@kauaiconnect.com
SUMMARY:Kauaʻi ʻUkulele Festival
DESCRIPTION:The Kauaʻi ʻUkulele Festival\, a celebration of all things ʻukulele\, takes place on Sunday\, April 19\, 2026\, at the Kukui Grove Center\, Līhue\, Kauaʻi\, Hawaiʻi from 11 am – 4 pm. Discover the cultural significance the ʻukulele plays as Hawaiʻi’s ambassador of Aloha. ʻUkulele enthusiasts can look forward to this free event with live stage entertainment on the stage including well-known artists plus emerging artists. This is an opportunity to meet and engage Kauaʻi’s local ʻukulele community. Enjoy community information booths\, ʻukulele merchants and ʻukulele inspired merchandise. Plus there will be a Hawaiian cultural activities zone and free ʻukulele lesson zone. \nFor more information or vendor applications\, visit http://www.kauaiukulelefestival.com/ or call Amy Hammond at (808) 223-6040. Follow us on Facebook at facebook.com/kauaiukulelefestival or Instagram at instagram.com/kauaiukulelefestival.
URL:https://kauaiconnect.com/event/kaua%ca%bbi-%ca%bbukulele-festival/
LOCATION:Kukui Grove Center- Center Stage\, 3-2600 Kaumualii Hwy\, Lihue\, 96766
CATEGORIES:Celebration,Featured Events,Island Happenings
ATTACH;FMTTYPE=image/png:https://kauaiconnect.com/wp-content/uploads/Kauai-Ukulele-Festival-NEW-1-2-zgrC2Y.png
ORGANIZER;CN="Special Events Hawaii":MAILTO:info@kauaichocolateandcoffeefestival.com
GEO:21.9697415;-159.3787253
X-APPLE-STRUCTURED-LOCATION;VALUE=URI;X-ADDRESS=Kukui Grove Center- Center Stage 3-2600 Kaumualii Hwy Lihue 96766;X-APPLE-RADIUS=500;X-TITLE=3-2600 Kaumualii Hwy:geo:-159.3787253,21.9697415
END:VEVENT
BEGIN:VEVENT
DTSTART;TZID=Pacific/Honolulu:20260422T130000
DTEND;TZID=Pacific/Honolulu:20260422T170000
DTSTAMP:20260419T150511
CREATED:20260122T171611Z
LAST-MODIFIED:20260403T062947Z
UID:10002044-1776862800-1776877200@kauaiconnect.com
SUMMARY:Makai Music & Art Festival Kauai
DESCRIPTION:Come share the Aloha with us every Wednesday from 1-5pm at our Makai Music and Art Festival Kaua’i.  Free-entry\, free event parking and FREE live music concerts  Shop our 20+ wonderful\, eclectic\, talented local artisans and vendors each week while being entertained by our fabulous live musicians here on our beautiful Garden Isle of Kaua’i. Buy handmade and support local small businesses. Mahalo for your support.  The Makai Grill is also open serving food and drinks for you to enjoy while listening to our live free music concerts. Plus\, we have alternating dessert vendors and Chunks Cookies\, with yummy treats too.\n\nLike/Follow our Facebook and Instagram pages:https://www.facebook.com/MakaiMusicAndArtFest\n\nhttps://www.instagram.com/makaimusicandartfestivalkauai
URL:https://kauaiconnect.com/event/makai-music-art-festival-kauai-18/
LOCATION:Princeville Makai Golf Course\, 4080 Lei O Papa\, Princeville\, HI\, 96722\, United States
CATEGORIES:Island Happenings
ATTACH;FMTTYPE=image/jpeg:https://kauaiconnect.com/wp-content/uploads/963fd97c-47c1-4332-868f-3b3528fc6506-2-1zJMQD.jpg
ORGANIZER;CN="Makai Music &amp%3B Art Festival Kauai":MAILTO:jersoulgood@gmail.com
GEO:22.2228711;-159.4681506
X-APPLE-STRUCTURED-LOCATION;VALUE=URI;X-ADDRESS=Princeville Makai Golf Course 4080 Lei O Papa Princeville HI 96722 United States;X-APPLE-RADIUS=500;X-TITLE=4080 Lei O Papa:geo:-159.4681506,22.2228711
END:VEVENT
BEGIN:VEVENT
DTSTART;TZID=Pacific/Honolulu:20260423T160000
DTEND;TZID=Pacific/Honolulu:20260423T190000
DTSTAMP:20260419T150511
CREATED:20260123T171500Z
LAST-MODIFIED:20260403T062947Z
UID:10002045-1776960000-1776970800@kauaiconnect.com
SUMMARY:Free Hula Show & Craft Fair with Tamatea Nui O Kaua’i Every Thursday
DESCRIPTION:Tamatea Nui O Kaua’i brings to you a FREE Hula Show along with some of the Best Artists and Craft Vendors on Kauai! \nEnjoy a Free Hula show!  Watch the beautiful dancers perform to live Ukulele\, Singing and Talk a Little Story about Hawaiian History and Culture while shopping for Gifts and Souvenirs! \nOpen to Guests and Locals!  This is one of the BEST Events to find that perfect something for yourself or somone on your list\, any time of year!  From Artists to Jewelry\, Wood works to Clothing and Special Treats\, this weekly Fair has everything you need and more! \nEvery Thursday Evening from 4pm tp 7pm with the FREE Hula Show starting at 5:30pm. \nThis is an open to All ages event with Handicap access and is held rain or shine. \nEvent happens in the Lobby of the Hilton Garden Inn\, Wailua Bay  3-5920 Kuhio Highway\, Kapaa \nPull in\, Park and Play!!
URL:https://kauaiconnect.com/event/free-hula-show-craft-fair-with-tamatea-nui-o-kauai-every-thursday-14/
LOCATION:HILTON GARDEN IN WAILUA BAY\, KAPAA KAUAI\, 3-5920 Kuhio Hwy\, KAPAA\, 96746
CATEGORIES:Island Happenings
ATTACH;FMTTYPE=image/png:https://kauaiconnect.com/wp-content/uploads/HILTON-THURSDAY-WEEKLY-PNG-1-M3M52V.png
ORGANIZER;CN="HO&#8217%3BOHIWAHIWAFAIR":MAILTO:hoohiwahiwahgi@gmail.com
GEO:22.0427204;-159.3361068
X-APPLE-STRUCTURED-LOCATION;VALUE=URI;X-ADDRESS=HILTON GARDEN IN WAILUA BAY KAPAA KAUAI 3-5920 Kuhio Hwy KAPAA 96746;X-APPLE-RADIUS=500;X-TITLE=3-5920 Kuhio Hwy:geo:-159.3361068,22.0427204
END:VEVENT
BEGIN:VEVENT
DTSTART;TZID=Pacific/Honolulu:20260424T173000
DTEND;TZID=Pacific/Honolulu:20260424T203000
DTSTAMP:20260419T150511
CREATED:20260321T060002Z
LAST-MODIFIED:20260403T062948Z
UID:10002231-1777051800-1777062600@kauaiconnect.com
SUMMARY:Aloha Friday: Hawaiian Music & Hula Kanikapila-Style
DESCRIPTION:Join us for Aloha Friday: Hawaiian Music & Hula – Kanikapila-Style\, an evening of live Hawaiian music\, hula\, and community connection at Anaina Hou Community Park. \nHeld under the open-air Porter Pavilion\, this special Aloha Friday gathering celebrates the spirit of Kanikapila\, the joy of coming together through music\, storytelling\, and shared aloha. As the evening unfolds\, enjoy the sounds of classic Hawaiian songs\, contemporary favorites\, and heartfelt performances that honor Hawai’i’s rich musical traditions. \nLed by Coppin Colburn and his ‘ohana\, the night features live Hawaiian music and hula in an intimate\, welcoming setting where guests are invited to relax\, connect\, and soak in the rhythm of the islands. \nWhether you’re a locla or visiting from afar\, Aloha Friday offers warm\, authentic experience rooted in community\, culture\, and aloha. Come celebrate music\, movement\, and meaningful moments together\, Kanikapila-style. \n\n\n\nWhat’s included\n\n\nLive Hawaiian music and hula performances in relaxed\, open-air setting \n\n\nFree admission with registration \n\n\nAccess to the Porter Pavilion at Anaina Hou Communtiy Park \n\n\nA welcoming\, all-ages community experience rooted in aloha and connection \n\n\n\n\nWhat’s not included\n\nIn order to keep entry free for all guests\, food and beverage will be available for purchase on-site throughout the evening. \n\n\n\nItinerary\n\n5:30 PM: Doors open for general admission ticket holders. Food and beverages available for purchase immediately upon doors open \n6:30 PM: Gather in Pavilion for Kanikapila \n8:30 PM: Event Concludes \nRunning Late? Let us know (808)977-7726 \n\n\n\n\n\n\n\nPricing\n\n\n\n\n\nGeneral Admission: FREE\nFood and beverages will be available for purchase on-site to help support continued free community programming.
URL:https://kauaiconnect.com/event/aloha-friday-hawaiian-music-hula-kanikapila-style-3/
LOCATION:Anaina Hou Porter Pavilion\, 5-2723 Kuhio Highway\, Kilauea\, 96754
CATEGORIES:Island Happenings
ATTACH;FMTTYPE=image/png:https://kauaiconnect.com/wp-content/uploads/2026_AlohaFriday_Kanikapila-FXT5tu.png
ORGANIZER;CN="Anaina Hou Community Park":MAILTO:community@anainahou.org
GEO:22.2109763;-159.4160471
X-APPLE-STRUCTURED-LOCATION;VALUE=URI;X-ADDRESS=Anaina Hou Porter Pavilion 5-2723 Kuhio Highway Kilauea 96754;X-APPLE-RADIUS=500;X-TITLE=5-2723 Kuhio Highway:geo:-159.4160471,22.2109763
END:VEVENT
BEGIN:VEVENT
DTSTART;TZID=Pacific/Honolulu:20260425T080000
DTEND;TZID=Pacific/Honolulu:20260425T140000
DTSTAMP:20260419T150511
CREATED:20260305T024434Z
LAST-MODIFIED:20260403T131420Z
UID:10002149-1777104000-1777125600@kauaiconnect.com
SUMMARY:Artisans & Crafters Fair
DESCRIPTION:🌺 Artisans & Crafters Fair Event 🌺\nHosted by Kauai Island Crafters Fair \nDiscover the heart and soul of Kauai at our Artisans & Crafters Fair Event\, where creativity\, culture\, and community come together in the most inspiring way. With over 12 years of celebrating local talent\, the Kauai Island Crafters Fair has hosted these events becoming a beloved gathering place for those who value authenticity\, craftsmanship\, and the stories behind handmade goods. \nEach month\, we transform our indoor venue into a vibrant marketplace filled with the sights\, textures\, and aloha spirit that make Kauai so special. From meticulously handcrafted jewelry and island-inspired artwork to sewn textiles\, home décor\, apparel\, and one-of-a-kind gifts\, every booth offers something meaningful and truly made on Kauai. \nThis is more than shopping—it’s an experience. Wander the aisles\, meet the makers\, and connect directly with the artisans who pour their passion into every piece. Whether you’re a visitor searching for the perfect keepsake or a local supporting your community\, you’ll feel the magic that only a handmade market can bring. \n✨ Why You’ll Love Our Monthly Markets: \n\nHandmade with Aloha: Shop an ever-changing collection of locally crafted goods you won’t find anywhere else.\nMeet the Artisans: Hear the stories\, inspirations\, and traditions behind each creation.\nSupport Local: Your purchases directly support Kauai’s small businesses and creative community.\nEasy & Comfortable: Enjoy an indoor shopping experience with convenient outdoor parking.\n\nBring your family\, invite your friends\, and make it a monthly tradition to celebrate Kauai’s incredible creative talent. Every event offers something new\, something special\, and something unforgettable. \n📍 Location: Indoors | Convenient Outdoor Parking\n📣 Interested Vendors: kauaiislandcraftersfair@gmail.com\n📲 IG Follow & share the love: @kauaiislandcraftersfair \nCome experience the joy of handmade\, the power of community\, and the spirit of Kauai—we can’t wait to welcome you! \n#KauaiIslandCraftersFair #HandmadeWithAloha #ShopLocalKauai #SupportLocalArtisans #MadeOnKauai #KauaiCraftMarket #KauaiEvents #HawaiiCraftFair #ShopSmallKauai #KauaiGifts #KauaiCreatives #IslandMade #KauaiShopping
URL:https://kauaiconnect.com/event/artisans-crafters-fair-13/
LOCATION:Koloa Neighborhood Center\, 3461B Weliweli Rd.\, Koloa\, 96756
CATEGORIES:Island Happenings,Market
ATTACH;FMTTYPE=image/jpeg:https://kauaiconnect.com/wp-content/uploads/Watercolor-paintings-mry6AG.jpg
ORGANIZER;CN="Debbie Yanagihara":MAILTO:kauaiislandcf@hotmail.com
GEO:21.9035095;-159.4639758
X-APPLE-STRUCTURED-LOCATION;VALUE=URI;X-ADDRESS=Koloa Neighborhood Center 3461B Weliweli Rd. Koloa 96756;X-APPLE-RADIUS=500;X-TITLE=3461B Weliweli Rd.:geo:-159.4639758,21.9035095
END:VEVENT
BEGIN:VEVENT
DTSTART;TZID=Pacific/Honolulu:20260425T160000
DTEND;TZID=Pacific/Honolulu:20260425T180000
DTSTAMP:20260419T150511
CREATED:20260414T071428Z
LAST-MODIFIED:20260414T071428Z
UID:10002316-1777132800-1777140000@kauaiconnect.com
SUMMARY:Sea Scout Open House and Recruiting Event
DESCRIPTION:The Kauai Sea Scouts invite you to an Openhouse Recruitment event to be held April 25th at the Nawiliwili Small Boat Harbor from 4-6 pm. The Sea Scouts are looking for boys and girls ages 12-18 who want to learn Seamanship\, Leadership\, Citizenship and Friendship. We are all about ships.  Come check out our new boat the Sun Seeker\, a 61 foot luxury yacht that is the biggest boat on Kauai. April 25th from 4-6 pm at the Nawilwili Small Boat Harbor.  If you have questions about Sea Scouts call Tom Worthen 435-994-0023 or email kauaiseascouts@gmail.com.
URL:https://kauaiconnect.com/event/sea-scout-open-house-and-recruiting-event/
LOCATION:Nawiliwili Harbor\, 2494 Waapa Rd\, Lihue\, 96766
CATEGORIES:Island Happenings
ATTACH;FMTTYPE=image/jpeg:https://kauaiconnect.com/wp-content/uploads/657333717_1262101796066933_5583415069428482726_n-0vqf5k.jpg
ORGANIZER;CN="Kauai Sea Scouts":MAILTO:kauaiseascouts@gmail.com
GEO:21.9527328;-159.3620504
X-APPLE-STRUCTURED-LOCATION;VALUE=URI;X-ADDRESS=Nawiliwili Harbor 2494 Waapa Rd Lihue 96766;X-APPLE-RADIUS=500;X-TITLE=2494 Waapa Rd:geo:-159.3620504,21.9527328
END:VEVENT
BEGIN:VEVENT
DTSTART;TZID=Pacific/Honolulu:20260425T190000
DTEND;TZID=Pacific/Honolulu:20260425T210000
DTSTAMP:20260419T150511
CREATED:20260408T065909Z
LAST-MODIFIED:20260408T065909Z
UID:10002298-1777143600-1777150800@kauaiconnect.com
SUMMARY:Ray Obiedo’s Latin Jazz Quartet
DESCRIPTION:Never has contemporary jazz guitarist Ray Obiedo’s genuine lifelong affection for the San Francisco Bay Area’s unique musical personality been more clearly evident or remarkably celebrated than in his newest CD “Latin Jazz Project Vol 1”\, released nationwide on the Rhythmus Records label.\n\nEventually launching his own solo recording career on the Windham Hill Jazz label\, Obiedo recorded and released no less than five contemporary jazz albums over the following few years to steadily increasing levels of critical praise and commercial success.\n\nIndeed\, the world of contemporary jazz guitarist Ray Obiedo is a highly energized and hypnotically rhythmic soundscape revealing all the passion\, flavor\, color\, and style of the Northern California region which conceived\, nourished and inspired the musical soul of this fascinating and prolific jazz artist.\n\nRay will perform for one night only on Kauai!
URL:https://kauaiconnect.com/event/ray-obiedos-latin-jazz-quartet/
LOCATION:Kauai Community College  Performing Arts Center\, 3-1901 Kaumualii Hwy\, Lihue\, HI\, 96766\, United States
CATEGORIES:Island Happenings
ATTACH;FMTTYPE=image/jpeg:https://kauaiconnect.com/wp-content/uploads/Ray-Obiedo-Flyer-FINAL-jpg-AaDZUf.jpg
ORGANIZER;CN="Kauai Concert Association":MAILTO:admin@kauai-concert.org
GEO:21.9649125;-159.4213563
X-APPLE-STRUCTURED-LOCATION;VALUE=URI;X-ADDRESS=Kauai Community College  Performing Arts Center 3-1901 Kaumualii Hwy Lihue HI 96766 United States;X-APPLE-RADIUS=500;X-TITLE=3-1901 Kaumualii Hwy:geo:-159.4213563,21.9649125
END:VEVENT
END:VCALENDAR