BEGIN:VCALENDAR
VERSION:2.0
PRODID:-//Kauaʻi Connect - ECPv6.15.20//NONSGML v1.0//EN
CALSCALE:GREGORIAN
METHOD:PUBLISH
X-WR-CALNAME:Kauaʻi Connect
X-ORIGINAL-URL:https://kauaiconnect.com
X-WR-CALDESC:Events for Kauaʻi Connect
REFRESH-INTERVAL;VALUE=DURATION:PT1H
X-Robots-Tag:noindex
X-PUBLISHED-TTL:PT1H
BEGIN:VTIMEZONE
TZID:Pacific/Honolulu
BEGIN:STANDARD
TZOFFSETFROM:-1000
TZOFFSETTO:-1000
TZNAME:HST
DTSTART:20250101T000000
END:STANDARD
END:VTIMEZONE
BEGIN:VEVENT
DTSTART;TZID=Pacific/Honolulu:20260305T160000
DTEND;TZID=Pacific/Honolulu:20260305T190000
DTSTAMP:20260420T011738
CREATED:20251208T084431Z
LAST-MODIFIED:20251213T115945Z
UID:10001929-1772726400-1772737200@kauaiconnect.com
SUMMARY:CHRISTMAS FREE HULA & CRAFT SHOW WITH TAMATEA NUI O’ KAUAI
DESCRIPTION:Kauai’s finest Christmas Shopping is located at the Hilton Garden Inn at Wailua Bay with many available shopping dates! \nSome of the Best Kauai Crafters\, Artists and Vendors will be set up with Amazing Gifts for everyone on your list! \nThurday December 11th and 18th from 4-7pm \nas well as \nTuesday December 23 from 4-7pm ~ Perfect for Last Minute Shopping \nHula Show will be at 5:30pm on Each Day! \nThere is no charge for these event dates! \nRain or Shine! \nHilton Garden Inn at Wailua Bay 3-5920 Kuhio Hwy\, Kapaʻa\, HI 96746
URL:https://kauaiconnect.com/event/christmas-free-hula-craft-show-with-tamatea-nui-o-kauai-14/
LOCATION:Hilton Garden Inn Kauai at Wailua Bay\, 3-5920 Kuhio Hwy\,\, Kapaa\, 96746
CATEGORIES:Island Happenings
ATTACH;FMTTYPE=image/jpeg:https://kauaiconnect.com/wp-content/uploads/thursday-nights-SZEC4L.jpg
ORGANIZER;CN="HO&#8217%3BOHIWAHIWAFAIR":MAILTO:hoohiwahiwahgi@gmail.com
GEO:22.0427204;-159.3361068
X-APPLE-STRUCTURED-LOCATION;VALUE=URI;X-ADDRESS=Hilton Garden Inn Kauai at Wailua Bay 3-5920 Kuhio Hwy Kapaa 96746;X-APPLE-RADIUS=500;X-TITLE=3-5920 Kuhio Hwy\,:geo:-159.3361068,22.0427204
END:VEVENT
BEGIN:VEVENT
DTSTART;TZID=Pacific/Honolulu:20260305T160000
DTEND;TZID=Pacific/Honolulu:20260305T190000
DTSTAMP:20260420T011738
CREATED:20260120T165948Z
LAST-MODIFIED:20260305T024359Z
UID:10002036-1772726400-1772737200@kauaiconnect.com
SUMMARY:Free Hula Show & Craft Fair with Tamatea Nui O Kaua’i Every Thursday
DESCRIPTION:Tamatea Nui O Kaua’i brings to you a FREE Hula Show along with some of the Best Artists and Craft Vendors on Kauai! \nEnjoy a Free Hula show!  Watch the beautiful dancers perform to live Ukulele\, Singing and Talk a Little Story about Hawaiian History and Culture while shopping for Gifts and Souvenirs! \nOpen to Guests and Locals!  This is one of the BEST Events to find that perfect something for yourself or somone on your list\, any time of year!  From Artists to Jewelry\, Wood works to Clothing and Special Treats\, this weekly Fair has everything you need and more! \nEvery Thursday Evening from 4pm tp 7pm with the FREE Hula Show starting at 5:30pm. \nThis is an open to All ages event with Handicap access and is held rain or shine. \nEvent happens in the Lobby of the Hilton Garden Inn\, Wailua Bay  3-5920 Kuhio Highway\, Kapaa \nPull in\, Park and Play!!
URL:https://kauaiconnect.com/event/free-hula-show-craft-fair-with-tamatea-nui-o-kauai-every-thursday-7/
LOCATION:HILTON GARDEN IN WAILUA BAY\, KAPAA KAUAI\, 3-5920 Kuhio Hwy\, KAPAA\, 96746
CATEGORIES:Island Happenings
ATTACH;FMTTYPE=image/png:https://kauaiconnect.com/wp-content/uploads/HILTON-THURSDAY-WEEKLY-PNG-1-M3M52V.png
ORGANIZER;CN="HO&#8217%3BOHIWAHIWAFAIR":MAILTO:hoohiwahiwahgi@gmail.com
GEO:22.0427204;-159.3361068
X-APPLE-STRUCTURED-LOCATION;VALUE=URI;X-ADDRESS=HILTON GARDEN IN WAILUA BAY KAPAA KAUAI 3-5920 Kuhio Hwy KAPAA 96746;X-APPLE-RADIUS=500;X-TITLE=3-5920 Kuhio Hwy:geo:-159.3361068,22.0427204
END:VEVENT
BEGIN:VEVENT
DTSTART;TZID=Pacific/Honolulu:20260312T160000
DTEND;TZID=Pacific/Honolulu:20260312T190000
DTSTAMP:20260420T011738
CREATED:20251212T115955Z
LAST-MODIFIED:20251213T115946Z
UID:10001933-1773331200-1773342000@kauaiconnect.com
SUMMARY:CHRISTMAS FREE HULA & CRAFT SHOW WITH TAMATEA NUI O’ KAUAI
DESCRIPTION:Kauai’s finest Christmas Shopping is located at the Hilton Garden Inn at Wailua Bay with many available shopping dates! \nSome of the Best Kauai Crafters\, Artists and Vendors will be set up with Amazing Gifts for everyone on your list! \nThurday December 11th and 18th from 4-7pm \nas well as \nTuesday December 23 from 4-7pm ~ Perfect for Last Minute Shopping \nHula Show will be at 5:30pm on Each Day! \nThere is no charge for these event dates! \nRain or Shine! \nHilton Garden Inn at Wailua Bay 3-5920 Kuhio Hwy\, Kapaʻa\, HI 96746
URL:https://kauaiconnect.com/event/christmas-free-hula-craft-show-with-tamatea-nui-o-kauai-15/
LOCATION:Hilton Garden Inn Kauai at Wailua Bay\, 3-5920 Kuhio Hwy\,\, Kapaa\, 96746
CATEGORIES:Island Happenings
ATTACH;FMTTYPE=image/jpeg:https://kauaiconnect.com/wp-content/uploads/thursday-nights-SZEC4L.jpg
ORGANIZER;CN="HO&#8217%3BOHIWAHIWAFAIR":MAILTO:hoohiwahiwahgi@gmail.com
GEO:22.0427204;-159.3361068
X-APPLE-STRUCTURED-LOCATION;VALUE=URI;X-ADDRESS=Hilton Garden Inn Kauai at Wailua Bay 3-5920 Kuhio Hwy Kapaa 96746;X-APPLE-RADIUS=500;X-TITLE=3-5920 Kuhio Hwy\,:geo:-159.3361068,22.0427204
END:VEVENT
BEGIN:VEVENT
DTSTART;TZID=Pacific/Honolulu:20260312T160000
DTEND;TZID=Pacific/Honolulu:20260312T190000
DTSTAMP:20260420T011738
CREATED:20260120T165948Z
LAST-MODIFIED:20260312T024424Z
UID:10002037-1773331200-1773342000@kauaiconnect.com
SUMMARY:Free Hula Show & Craft Fair with Tamatea Nui O Kaua’i Every Thursday
DESCRIPTION:Tamatea Nui O Kaua’i brings to you a FREE Hula Show along with some of the Best Artists and Craft Vendors on Kauai! \nEnjoy a Free Hula show!  Watch the beautiful dancers perform to live Ukulele\, Singing and Talk a Little Story about Hawaiian History and Culture while shopping for Gifts and Souvenirs! \nOpen to Guests and Locals!  This is one of the BEST Events to find that perfect something for yourself or somone on your list\, any time of year!  From Artists to Jewelry\, Wood works to Clothing and Special Treats\, this weekly Fair has everything you need and more! \nEvery Thursday Evening from 4pm tp 7pm with the FREE Hula Show starting at 5:30pm. \nThis is an open to All ages event with Handicap access and is held rain or shine. \nEvent happens in the Lobby of the Hilton Garden Inn\, Wailua Bay  3-5920 Kuhio Highway\, Kapaa \nPull in\, Park and Play!!
URL:https://kauaiconnect.com/event/free-hula-show-craft-fair-with-tamatea-nui-o-kauai-every-thursday-8/
LOCATION:HILTON GARDEN IN WAILUA BAY\, KAPAA KAUAI\, 3-5920 Kuhio Hwy\, KAPAA\, 96746
CATEGORIES:Island Happenings
ATTACH;FMTTYPE=image/png:https://kauaiconnect.com/wp-content/uploads/HILTON-THURSDAY-WEEKLY-PNG-1-M3M52V.png
ORGANIZER;CN="HO&#8217%3BOHIWAHIWAFAIR":MAILTO:hoohiwahiwahgi@gmail.com
GEO:22.0427204;-159.3361068
X-APPLE-STRUCTURED-LOCATION;VALUE=URI;X-ADDRESS=HILTON GARDEN IN WAILUA BAY KAPAA KAUAI 3-5920 Kuhio Hwy KAPAA 96746;X-APPLE-RADIUS=500;X-TITLE=3-5920 Kuhio Hwy:geo:-159.3361068,22.0427204
END:VEVENT
BEGIN:VEVENT
DTSTART;TZID=Pacific/Honolulu:20260319T160000
DTEND;TZID=Pacific/Honolulu:20260319T190000
DTSTAMP:20260420T011738
CREATED:20260120T165949Z
LAST-MODIFIED:20260319T054405Z
UID:10002038-1773936000-1773946800@kauaiconnect.com
SUMMARY:Free Hula Show & Craft Fair with Tamatea Nui O Kaua’i Every Thursday
DESCRIPTION:Tamatea Nui O Kaua’i brings to you a FREE Hula Show along with some of the Best Artists and Craft Vendors on Kauai! \nEnjoy a Free Hula show!  Watch the beautiful dancers perform to live Ukulele\, Singing and Talk a Little Story about Hawaiian History and Culture while shopping for Gifts and Souvenirs! \nOpen to Guests and Locals!  This is one of the BEST Events to find that perfect something for yourself or somone on your list\, any time of year!  From Artists to Jewelry\, Wood works to Clothing and Special Treats\, this weekly Fair has everything you need and more! \nEvery Thursday Evening from 4pm tp 7pm with the FREE Hula Show starting at 5:30pm. \nThis is an open to All ages event with Handicap access and is held rain or shine. \nEvent happens in the Lobby of the Hilton Garden Inn\, Wailua Bay  3-5920 Kuhio Highway\, Kapaa \nPull in\, Park and Play!!
URL:https://kauaiconnect.com/event/free-hula-show-craft-fair-with-tamatea-nui-o-kauai-every-thursday-9/
LOCATION:HILTON GARDEN IN WAILUA BAY\, KAPAA KAUAI\, 3-5920 Kuhio Hwy\, KAPAA\, 96746
CATEGORIES:Island Happenings
ATTACH;FMTTYPE=image/png:https://kauaiconnect.com/wp-content/uploads/HILTON-THURSDAY-WEEKLY-PNG-1-M3M52V.png
ORGANIZER;CN="HO&#8217%3BOHIWAHIWAFAIR":MAILTO:hoohiwahiwahgi@gmail.com
GEO:22.0427204;-159.3361068
X-APPLE-STRUCTURED-LOCATION;VALUE=URI;X-ADDRESS=HILTON GARDEN IN WAILUA BAY KAPAA KAUAI 3-5920 Kuhio Hwy KAPAA 96746;X-APPLE-RADIUS=500;X-TITLE=3-5920 Kuhio Hwy:geo:-159.3361068,22.0427204
END:VEVENT
BEGIN:VEVENT
DTSTART;TZID=Pacific/Honolulu:20260326T160000
DTEND;TZID=Pacific/Honolulu:20260326T190000
DTSTAMP:20260420T011738
CREATED:20260120T165950Z
LAST-MODIFIED:20260326T061421Z
UID:10002039-1774540800-1774551600@kauaiconnect.com
SUMMARY:Free Hula Show & Craft Fair with Tamatea Nui O Kaua’i Every Thursday
DESCRIPTION:Tamatea Nui O Kaua’i brings to you a FREE Hula Show along with some of the Best Artists and Craft Vendors on Kauai! \nEnjoy a Free Hula show!  Watch the beautiful dancers perform to live Ukulele\, Singing and Talk a Little Story about Hawaiian History and Culture while shopping for Gifts and Souvenirs! \nOpen to Guests and Locals!  This is one of the BEST Events to find that perfect something for yourself or somone on your list\, any time of year!  From Artists to Jewelry\, Wood works to Clothing and Special Treats\, this weekly Fair has everything you need and more! \nEvery Thursday Evening from 4pm tp 7pm with the FREE Hula Show starting at 5:30pm. \nThis is an open to All ages event with Handicap access and is held rain or shine. \nEvent happens in the Lobby of the Hilton Garden Inn\, Wailua Bay  3-5920 Kuhio Highway\, Kapaa \nPull in\, Park and Play!!
URL:https://kauaiconnect.com/event/free-hula-show-craft-fair-with-tamatea-nui-o-kauai-every-thursday-10/
LOCATION:HILTON GARDEN IN WAILUA BAY\, KAPAA KAUAI\, 3-5920 Kuhio Hwy\, KAPAA\, 96746
CATEGORIES:Island Happenings
ATTACH;FMTTYPE=image/png:https://kauaiconnect.com/wp-content/uploads/HILTON-THURSDAY-WEEKLY-PNG-1-M3M52V.png
ORGANIZER;CN="HO&#8217%3BOHIWAHIWAFAIR":MAILTO:hoohiwahiwahgi@gmail.com
GEO:22.0427204;-159.3361068
X-APPLE-STRUCTURED-LOCATION;VALUE=URI;X-ADDRESS=HILTON GARDEN IN WAILUA BAY KAPAA KAUAI 3-5920 Kuhio Hwy KAPAA 96746;X-APPLE-RADIUS=500;X-TITLE=3-5920 Kuhio Hwy:geo:-159.3361068,22.0427204
END:VEVENT
BEGIN:VEVENT
DTSTART;TZID=Pacific/Honolulu:20260327T183000
DTEND;TZID=Pacific/Honolulu:20260327T203000
DTSTAMP:20260420T011738
CREATED:20260204T201506Z
LAST-MODIFIED:20260327T061404Z
UID:10002087-1774636200-1774643400@kauaiconnect.com
SUMMARY:Every Dancer Is A Star
DESCRIPTION:Every Dancer Is A Star is a vibrant multimedia dance performance featuring Kaua‘i student dancers alongside guest professional artists. Presented by Performing Arts For All (PAFA)\, the show brings together ballet\, hip hop\, and modern dance in a dynamic evening that celebrates youth\, artistry\, and community. \n\nThe performance includes special guest gymnasts from CLC’s Gymnastics Academy and guest professional dancers from Cleo Parker Robinson Dance\, from Denver Colorado\, offering students the rare opportunity to share the stage with accomplished artists. Set in a professional theater environment at the War Memorial Convention Hall\, the show highlights the dedication\, creativity\, and talent of Kaua‘i’s young performers.\n\nLearn more about the show at gardenislanddance.org. & Cleoparkerdance.org \nDate: Friday\, March 27Location: War Memorial Convention Hall\, Līhu‘eAdmission: 🎟 Tickets: $25 adults / $12 childrenLearn more at gardenislanddance.org
URL:https://kauaiconnect.com/event/every-dancer-is-a-star-2/
LOCATION:Kauai War Memorial Convention Hall\, 4191 Hardy Street\, Lihue\, 96766
CATEGORIES:Island Happenings
ATTACH;FMTTYPE=image/png:https://kauaiconnect.com/wp-content/uploads/every-dancer-a-star_2026purple-poster-_-copy-2-j8J4a0.png
ORGANIZER;CN="Jennifer Schwartz":MAILTO:jenballet@gmail.com
GEO:21.9733597;-159.3638919
X-APPLE-STRUCTURED-LOCATION;VALUE=URI;X-ADDRESS=Kauai War Memorial Convention Hall 4191 Hardy Street Lihue 96766;X-APPLE-RADIUS=500;X-TITLE=4191 Hardy Street:geo:-159.3638919,21.9733597
END:VEVENT
END:VCALENDAR