BEGIN:VCALENDAR
VERSION:2.0
PRODID:-//Kauaʻi Connect - ECPv6.15.20//NONSGML v1.0//EN
CALSCALE:GREGORIAN
METHOD:PUBLISH
X-ORIGINAL-URL:https://kauaiconnect.com
X-WR-CALDESC:Events for Kauaʻi Connect
REFRESH-INTERVAL;VALUE=DURATION:PT1H
X-Robots-Tag:noindex
X-PUBLISHED-TTL:PT1H
BEGIN:VTIMEZONE
TZID:Pacific/Honolulu
BEGIN:STANDARD
TZOFFSETFROM:-1000
TZOFFSETTO:-1000
TZNAME:HST
DTSTART:20240101T000000
END:STANDARD
END:VTIMEZONE
BEGIN:VEVENT
DTSTART;TZID=Pacific/Honolulu:20251101T090000
DTEND;TZID=Pacific/Honolulu:20251101T160000
DTSTAMP:20260420T195318
CREATED:20240804T010408Z
LAST-MODIFIED:20251101T071525Z
UID:10000513-1761987600-1762012800@kauaiconnect.com
SUMMARY:2025 Eo e Emalani
DESCRIPTION:The 37th Annual Emalani Festival takes place on Saturday\, November 1\, 2025\, in Kōke‘e\, Kaua‘i\, from 9:00 AM to 4:00 PM. \nTents featuring lei-making\, exhibits\, and food will surround the performance and seating area\, creating an immersive cultural experience. Hawaiian music begins at 9:00 AM\, setting the stage for the day’s festivities. \nAt the heart of the festival is the arrival of Queen Emma\, her attendant\, and her guide\, Kaluahi\, on horseback at 10:00 AM. Protocol ceremonies will pay homage to the Queen\, with performances dedicated to her throughout the day. In a special moment\, the Queen may offer a dance of her own. Sponsors and guests are invited to witness this historical event\, authentic Hawaiian protocol\, and genuine Hawaiian cuisine. \nThe event remains free to attend\, but VIP packages will be available on the Eō e Emalani website https://www.eventeny.com/events/ticket/?id=23479. VIP tickets are designed to encourage attendees to use the shuttle service\, reducing traffic\, parking congestion\, and the overall carbon footprint in Kōke‘e. \nVIP Tickets Include:\n\nShuttle service from Kekaha Neighborhood Center (Park and Ride)\nVIP covered seating (bench seating under cover\, fronting the performance area)\nVIP meal (catered by Hālau Ka Pā Hula O Hinano)\nFestival shirt\n\nSupported by the Hawai‘i Tourism Authority through the Community Enrichment Program.
URL:https://kauaiconnect.com/event/2024-eo-e-emalani/
LOCATION:Kokee State Park\, Koke'e\, HI\, 96716\, United States
CATEGORIES:Celebration,Featured Events,Island Happenings
ATTACH;FMTTYPE=image/jpeg:https://kauaiconnect.com/wp-content/uploads/EOE-Queens-entry-AWgEHX.jpg
ORGANIZER;CN="Historic Waimea Theater and Cultural Arts Center":MAILTO:historicwaimeatheater@gmail.com
END:VEVENT
BEGIN:VEVENT
DTSTART;TZID=Pacific/Honolulu:20251121T190000
DTEND;TZID=Pacific/Honolulu:20251121T213000
DTSTAMP:20260420T195318
CREATED:20250926T233813Z
LAST-MODIFIED:20251121T083001Z
UID:10001768-1763751600-1763760600@kauaiconnect.com
SUMMARY:HCTʻs Mainstage Presents: The Music Man
DESCRIPTION:The Music Man – Presented by Hawaiʻi Children’s Theatre\n Step into River City\, Iowa\, with Hawaiʻi Children’s Theatre’s dazzling production of The Music Man\, November 21–30 at the Kauaʻi War Memorial Convention Hall. This beloved Broadway classic is filled with unforgettable songs\, lively dance numbers\, and a heartwarming story about love\, community\, and the power of music. Perfect for families and theater lovers of all ages\, it’s a show that celebrates togetherness and the joy of live performance. \nHawaiʻi Children’s Theatre is proud to be a nationally award-winning theater company\, recently honored with the prestigious 2024/2025 Stand for the Arts Award from Spectrum and Ovation TV. \nShowtimes: Fridays at 7 pm\, Saturdays at 2 pm & 7 pm\, and Sundays at 3 pm.\n Tickets and info: www.hctkauai.org
URL:https://kauaiconnect.com/event/hct%ca%bbs-mainstage-presents-the-music-man/
LOCATION:Kauai War Memorial Convention Hall\, 4191 Hardy Street\, Lihue\, 96766
CATEGORIES:Island Happenings
ATTACH;FMTTYPE=image/jpeg:https://kauaiconnect.com/wp-content/uploads/The-Music-Man-2-gYiX3s.jpg
ORGANIZER;CN="Hawaii Childrens Theatre":MAILTO:hawaiichildrenstheatre@hotmail.com
GEO:21.9733597;-159.3638919
X-APPLE-STRUCTURED-LOCATION;VALUE=URI;X-ADDRESS=Kauai War Memorial Convention Hall 4191 Hardy Street Lihue 96766;X-APPLE-RADIUS=500;X-TITLE=4191 Hardy Street:geo:-159.3638919,21.9733597
END:VEVENT
BEGIN:VEVENT
DTSTART;TZID=Pacific/Honolulu:20251122T183000
DTEND;TZID=Pacific/Honolulu:20251122T210000
DTSTAMP:20260420T195318
CREATED:20250619T171851Z
LAST-MODIFIED:20251121T083002Z
UID:10001604-1763836200-1763845200@kauaiconnect.com
SUMMARY:Free Oldies Rock & Roll Concert On The Green at Poipu Beach Park; Saturday\, November 22nd\, 6:30-9pm
DESCRIPTION:Free community concert on Saturday\, November 22nd\, 6:30-9pm in Poipu\, at the Poipu Beach Main Pavilion right across the street from Brenneckes! We’re combining our two bands\, Dirk Debonaire and the Golden Nuggets and Da Funk! again for the best in Oldies Rock and Roll and Funk dance music. Free\, open to everyone and all ages\, bring a beach chair\, BYOB\, invite friends and guests\, and get ready to boogie! Should be a beautiful night so let’s have some fun!
URL:https://kauaiconnect.com/event/free-oldies-rock-roll-concert-on-the-green-at-poipu-beach-park-saturday-june-21st-630-9pm/
LOCATION:Poipu Beach Park\, 2179 Hoone Rd\, Koloa\, HI\, 96756\, United States
CATEGORIES:Island Happenings
ATTACH;FMTTYPE=image/jpeg:https://kauaiconnect.com/wp-content/uploads/8-9-25-poipu-3-1-scaled-mtAyK7.jpg
ORGANIZER;CN="Dirk Debonaire and the Golden Nuggets":MAILTO:dirkdebonaire@gmail.com
GEO:21.873589;-159.455153
X-APPLE-STRUCTURED-LOCATION;VALUE=URI;X-ADDRESS=Poipu Beach Park 2179 Hoone Rd Koloa HI 96756 United States;X-APPLE-RADIUS=500;X-TITLE=2179 Hoone Rd:geo:-159.455153,21.873589
END:VEVENT
BEGIN:VEVENT
DTSTART;TZID=Pacific/Honolulu:20251123T170000
DTEND;TZID=Pacific/Honolulu:20251123T190000
DTSTAMP:20260420T195318
CREATED:20250825T204057Z
LAST-MODIFIED:20251123T084356Z
UID:10001707-1763917200-1763924400@kauaiconnect.com
SUMMARY:NOBUNTU PREMIERS ON KAUAI!
DESCRIPTION:Join us for a rare opportunity to hear this award-winning all-female a cappella quartet from Zimbabwe. They will share traditional songs\, Afro-jazz and gospel\, complete with traditional percussion and authentic dance movements.
URL:https://kauaiconnect.com/event/nobuntu-premiers-on-kauai/
LOCATION:KCC Performing Arts Center\, Lihue\, HI\, 96766\, United States
CATEGORIES:Island Happenings
ATTACH;FMTTYPE=image/jpeg:https://kauaiconnect.com/wp-content/uploads/NOBUNTU_7229_cSaDee-LensWorks-scaled-mecFZ7.jpg
ORGANIZER;CN="Kauai Concert Association":MAILTO:admin@kauai-concert.org
GEO:21.9649125;-159.4213563
END:VEVENT
END:VCALENDAR