BEGIN:VCALENDAR
VERSION:2.0
PRODID:-//Kauaʻi Connect - ECPv6.15.20//NONSGML v1.0//EN
CALSCALE:GREGORIAN
METHOD:PUBLISH
X-WR-CALNAME:Kauaʻi Connect
X-ORIGINAL-URL:https://kauaiconnect.com
X-WR-CALDESC:Events for Kauaʻi Connect
REFRESH-INTERVAL;VALUE=DURATION:PT1H
X-Robots-Tag:noindex
X-PUBLISHED-TTL:PT1H
BEGIN:VTIMEZONE
TZID:Pacific/Honolulu
BEGIN:STANDARD
TZOFFSETFROM:-1000
TZOFFSETTO:-1000
TZNAME:HST
DTSTART:20250101T000000
END:STANDARD
END:VTIMEZONE
BEGIN:VEVENT
DTSTART;TZID=Pacific/Honolulu:20260423T190000
DTEND;TZID=Pacific/Honolulu:20260423T210000
DTSTAMP:20260419T193838
CREATED:20260310T024546Z
LAST-MODIFIED:20260327T061432Z
UID:10002178-1776970800-1776978000@kauaiconnect.com
SUMMARY:Assassins: A Musical by Stephen Sondheim
DESCRIPTION:Proudly presented by Kaua’i Community Players. Stephen Sondheim’s “Assassins” takes the audience on a dark and surprisingly funny thrill ride through the twisted underside of the “American Dream”. Viewed through the disaffected eyes of a group of Presidential assassins looking to be understood\, this Tony Award winning musical is guaranteed to make you think.  . .and be thankful that you are not one of the people singing\, “The Other National Anthem (For the Ones Who Can’t Get in to the Ballpark)”. Get your tickets today\, before they disappear!
URL:https://kauaiconnect.com/event/assassins-a-musical-by-stephen-sondheim-16/
LOCATION:Puhi Theatrical Warehouse\, 4411 Kikowaena St\, Lihue\, 96766
CATEGORIES:Island Happenings
ATTACH;FMTTYPE=image/png:https://kauaiconnect.com/wp-content/uploads/Assassins-poster-compressed-E1CmeA.png
ORGANIZER;CN="Kauai Community Players":MAILTO:kauaicommunityplayers@gmail.com
GEO:21.9645173;-159.3956754
X-APPLE-STRUCTURED-LOCATION;VALUE=URI;X-ADDRESS=Puhi Theatrical Warehouse 4411 Kikowaena St Lihue 96766;X-APPLE-RADIUS=500;X-TITLE=4411 Kikowaena St:geo:-159.3956754,21.9645173
END:VEVENT
BEGIN:VEVENT
DTSTART;TZID=Pacific/Honolulu:20260424T190000
DTEND;TZID=Pacific/Honolulu:20260424T210000
DTSTAMP:20260419T193838
CREATED:20260310T024547Z
LAST-MODIFIED:20260327T061433Z
UID:10002179-1777057200-1777064400@kauaiconnect.com
SUMMARY:Assassins: A Musical by Stephen Sondheim
DESCRIPTION:Proudly presented by Kaua’i Community Players. Stephen Sondheim’s “Assassins” takes the audience on a dark and surprisingly funny thrill ride through the twisted underside of the “American Dream”. Viewed through the disaffected eyes of a group of Presidential assassins looking to be understood\, this Tony Award winning musical is guaranteed to make you think.  . .and be thankful that you are not one of the people singing\, “The Other National Anthem (For the Ones Who Can’t Get in to the Ballpark)”. Get your tickets today\, before they disappear!
URL:https://kauaiconnect.com/event/assassins-a-musical-by-stephen-sondheim-17/
LOCATION:Puhi Theatrical Warehouse\, 4411 Kikowaena St\, Lihue\, 96766
CATEGORIES:Island Happenings
ATTACH;FMTTYPE=image/png:https://kauaiconnect.com/wp-content/uploads/Assassins-poster-compressed-E1CmeA.png
ORGANIZER;CN="Kauai Community Players":MAILTO:kauaicommunityplayers@gmail.com
GEO:21.9645173;-159.3956754
X-APPLE-STRUCTURED-LOCATION;VALUE=URI;X-ADDRESS=Puhi Theatrical Warehouse 4411 Kikowaena St Lihue 96766;X-APPLE-RADIUS=500;X-TITLE=4411 Kikowaena St:geo:-159.3956754,21.9645173
END:VEVENT
BEGIN:VEVENT
DTSTART;TZID=Pacific/Honolulu:20260425T190000
DTEND;TZID=Pacific/Honolulu:20260425T210000
DTSTAMP:20260419T193838
CREATED:20260310T024548Z
LAST-MODIFIED:20260327T061434Z
UID:10002180-1777143600-1777150800@kauaiconnect.com
SUMMARY:Assassins: A Musical by Stephen Sondheim
DESCRIPTION:Proudly presented by Kaua’i Community Players. Stephen Sondheim’s “Assassins” takes the audience on a dark and surprisingly funny thrill ride through the twisted underside of the “American Dream”. Viewed through the disaffected eyes of a group of Presidential assassins looking to be understood\, this Tony Award winning musical is guaranteed to make you think.  . .and be thankful that you are not one of the people singing\, “The Other National Anthem (For the Ones Who Can’t Get in to the Ballpark)”. Get your tickets today\, before they disappear!
URL:https://kauaiconnect.com/event/assassins-a-musical-by-stephen-sondheim-18/
LOCATION:Puhi Theatrical Warehouse\, 4411 Kikowaena St\, Lihue\, 96766
CATEGORIES:Island Happenings
ATTACH;FMTTYPE=image/png:https://kauaiconnect.com/wp-content/uploads/Assassins-poster-compressed-E1CmeA.png
ORGANIZER;CN="Kauai Community Players":MAILTO:kauaicommunityplayers@gmail.com
GEO:21.9645173;-159.3956754
X-APPLE-STRUCTURED-LOCATION;VALUE=URI;X-ADDRESS=Puhi Theatrical Warehouse 4411 Kikowaena St Lihue 96766;X-APPLE-RADIUS=500;X-TITLE=4411 Kikowaena St:geo:-159.3956754,21.9645173
END:VEVENT
BEGIN:VEVENT
DTSTART;TZID=Pacific/Honolulu:20260425T190000
DTEND;TZID=Pacific/Honolulu:20260425T210000
DTSTAMP:20260419T193838
CREATED:20260408T065909Z
LAST-MODIFIED:20260408T065909Z
UID:10002298-1777143600-1777150800@kauaiconnect.com
SUMMARY:Ray Obiedo’s Latin Jazz Quartet
DESCRIPTION:Never has contemporary jazz guitarist Ray Obiedo’s genuine lifelong affection for the San Francisco Bay Area’s unique musical personality been more clearly evident or remarkably celebrated than in his newest CD “Latin Jazz Project Vol 1”\, released nationwide on the Rhythmus Records label.\n\nEventually launching his own solo recording career on the Windham Hill Jazz label\, Obiedo recorded and released no less than five contemporary jazz albums over the following few years to steadily increasing levels of critical praise and commercial success.\n\nIndeed\, the world of contemporary jazz guitarist Ray Obiedo is a highly energized and hypnotically rhythmic soundscape revealing all the passion\, flavor\, color\, and style of the Northern California region which conceived\, nourished and inspired the musical soul of this fascinating and prolific jazz artist.\n\nRay will perform for one night only on Kauai!
URL:https://kauaiconnect.com/event/ray-obiedos-latin-jazz-quartet/
LOCATION:Kauai Community College  Performing Arts Center\, 3-1901 Kaumualii Hwy\, Lihue\, HI\, 96766\, United States
CATEGORIES:Island Happenings
ATTACH;FMTTYPE=image/jpeg:https://kauaiconnect.com/wp-content/uploads/Ray-Obiedo-Flyer-FINAL-jpg-AaDZUf.jpg
ORGANIZER;CN="Kauai Concert Association":MAILTO:admin@kauai-concert.org
GEO:21.9649125;-159.4213563
X-APPLE-STRUCTURED-LOCATION;VALUE=URI;X-ADDRESS=Kauai Community College  Performing Arts Center 3-1901 Kaumualii Hwy Lihue HI 96766 United States;X-APPLE-RADIUS=500;X-TITLE=3-1901 Kaumualii Hwy:geo:-159.4213563,21.9649125
END:VEVENT
BEGIN:VEVENT
DTSTART;TZID=Pacific/Honolulu:20260430T190000
DTEND;TZID=Pacific/Honolulu:20260430T210000
DTSTAMP:20260419T193838
CREATED:20260310T024548Z
LAST-MODIFIED:20260327T061436Z
UID:10002181-1777575600-1777582800@kauaiconnect.com
SUMMARY:Assassins: A Musical by Stephen Sondheim
DESCRIPTION:Proudly presented by Kaua’i Community Players. Stephen Sondheim’s “Assassins” takes the audience on a dark and surprisingly funny thrill ride through the twisted underside of the “American Dream”. Viewed through the disaffected eyes of a group of Presidential assassins looking to be understood\, this Tony Award winning musical is guaranteed to make you think.  . .and be thankful that you are not one of the people singing\, “The Other National Anthem (For the Ones Who Can’t Get in to the Ballpark)”. Get your tickets today\, before they disappear!
URL:https://kauaiconnect.com/event/assassins-a-musical-by-stephen-sondheim-19/
LOCATION:Puhi Theatrical Warehouse\, 4411 Kikowaena St\, Lihue\, 96766
CATEGORIES:Island Happenings
ATTACH;FMTTYPE=image/png:https://kauaiconnect.com/wp-content/uploads/Assassins-poster-compressed-E1CmeA.png
ORGANIZER;CN="Kauai Community Players":MAILTO:kauaicommunityplayers@gmail.com
GEO:21.9645173;-159.3956754
X-APPLE-STRUCTURED-LOCATION;VALUE=URI;X-ADDRESS=Puhi Theatrical Warehouse 4411 Kikowaena St Lihue 96766;X-APPLE-RADIUS=500;X-TITLE=4411 Kikowaena St:geo:-159.3956754,21.9645173
END:VEVENT
END:VCALENDAR