BEGIN:VCALENDAR
VERSION:2.0
PRODID:-//Kauaʻi Connect - ECPv6.15.20//NONSGML v1.0//EN
CALSCALE:GREGORIAN
METHOD:PUBLISH
X-ORIGINAL-URL:https://kauaiconnect.com
X-WR-CALDESC:Events for Kauaʻi Connect
REFRESH-INTERVAL;VALUE=DURATION:PT1H
X-Robots-Tag:noindex
X-PUBLISHED-TTL:PT1H
BEGIN:VTIMEZONE
TZID:Pacific/Honolulu
BEGIN:STANDARD
TZOFFSETFROM:-1000
TZOFFSETTO:-1000
TZNAME:HST
DTSTART:20250101T000000
END:STANDARD
END:VTIMEZONE
BEGIN:VEVENT
DTSTART;TZID=Pacific/Honolulu:20260305T160000
DTEND;TZID=Pacific/Honolulu:20260305T190000
DTSTAMP:20260419T213013
CREATED:20251208T084431Z
LAST-MODIFIED:20251213T115945Z
UID:10001929-1772726400-1772737200@kauaiconnect.com
SUMMARY:CHRISTMAS FREE HULA & CRAFT SHOW WITH TAMATEA NUI O’ KAUAI
DESCRIPTION:Kauai’s finest Christmas Shopping is located at the Hilton Garden Inn at Wailua Bay with many available shopping dates! \nSome of the Best Kauai Crafters\, Artists and Vendors will be set up with Amazing Gifts for everyone on your list! \nThurday December 11th and 18th from 4-7pm \nas well as \nTuesday December 23 from 4-7pm ~ Perfect for Last Minute Shopping \nHula Show will be at 5:30pm on Each Day! \nThere is no charge for these event dates! \nRain or Shine! \nHilton Garden Inn at Wailua Bay 3-5920 Kuhio Hwy\, Kapaʻa\, HI 96746
URL:https://kauaiconnect.com/event/christmas-free-hula-craft-show-with-tamatea-nui-o-kauai-14/
LOCATION:Hilton Garden Inn Kauai at Wailua Bay\, 3-5920 Kuhio Hwy\,\, Kapaa\, 96746
CATEGORIES:Island Happenings
ATTACH;FMTTYPE=image/jpeg:https://kauaiconnect.com/wp-content/uploads/thursday-nights-SZEC4L.jpg
ORGANIZER;CN="HO&#8217%3BOHIWAHIWAFAIR":MAILTO:hoohiwahiwahgi@gmail.com
GEO:22.0427204;-159.3361068
X-APPLE-STRUCTURED-LOCATION;VALUE=URI;X-ADDRESS=Hilton Garden Inn Kauai at Wailua Bay 3-5920 Kuhio Hwy Kapaa 96746;X-APPLE-RADIUS=500;X-TITLE=3-5920 Kuhio Hwy\,:geo:-159.3361068,22.0427204
END:VEVENT
BEGIN:VEVENT
DTSTART;TZID=Pacific/Honolulu:20260312T160000
DTEND;TZID=Pacific/Honolulu:20260312T190000
DTSTAMP:20260419T213013
CREATED:20251212T115955Z
LAST-MODIFIED:20251213T115946Z
UID:10001933-1773331200-1773342000@kauaiconnect.com
SUMMARY:CHRISTMAS FREE HULA & CRAFT SHOW WITH TAMATEA NUI O’ KAUAI
DESCRIPTION:Kauai’s finest Christmas Shopping is located at the Hilton Garden Inn at Wailua Bay with many available shopping dates! \nSome of the Best Kauai Crafters\, Artists and Vendors will be set up with Amazing Gifts for everyone on your list! \nThurday December 11th and 18th from 4-7pm \nas well as \nTuesday December 23 from 4-7pm ~ Perfect for Last Minute Shopping \nHula Show will be at 5:30pm on Each Day! \nThere is no charge for these event dates! \nRain or Shine! \nHilton Garden Inn at Wailua Bay 3-5920 Kuhio Hwy\, Kapaʻa\, HI 96746
URL:https://kauaiconnect.com/event/christmas-free-hula-craft-show-with-tamatea-nui-o-kauai-15/
LOCATION:Hilton Garden Inn Kauai at Wailua Bay\, 3-5920 Kuhio Hwy\,\, Kapaa\, 96746
CATEGORIES:Island Happenings
ATTACH;FMTTYPE=image/jpeg:https://kauaiconnect.com/wp-content/uploads/thursday-nights-SZEC4L.jpg
ORGANIZER;CN="HO&#8217%3BOHIWAHIWAFAIR":MAILTO:hoohiwahiwahgi@gmail.com
GEO:22.0427204;-159.3361068
X-APPLE-STRUCTURED-LOCATION;VALUE=URI;X-ADDRESS=Hilton Garden Inn Kauai at Wailua Bay 3-5920 Kuhio Hwy Kapaa 96746;X-APPLE-RADIUS=500;X-TITLE=3-5920 Kuhio Hwy\,:geo:-159.3361068,22.0427204
END:VEVENT
BEGIN:VEVENT
DTSTART;TZID=Pacific/Honolulu:20260315T090000
DTEND;TZID=Pacific/Honolulu:20260315T133000
DTSTAMP:20260419T213013
CREATED:20260307T024444Z
LAST-MODIFIED:20260315T095852Z
UID:10002155-1773565200-1773581400@kauaiconnect.com
SUMMARY:The Kauaʻi Kings Parade Presents: “The Hawaiʻi Equestrian Tradition of Pāʻū Riding”
DESCRIPTION:Experience the Hawaiian Tradition of Pāʻū Riding – Free Workshop \nThe Kauaʻi Kings Parade invites the community to learn about the beautiful Hawaiian equestrian tradition of pāʻū  riding\, where women riders honor Hawaiian culture through horsemanship\, dress\, and protocol. \nLed by Pāʻū  Riding Master Leiala Cook\, President of Hawaiʻi Pāʻū Riders\, this workshop will share the history\, cultural significance\, and foundational riding traditions passed down through generations. \nThis free educational workshop welcomes anyone interested in Hawaiian culture\, equestrian traditions\, or the legacy of Pāʻū riders. \n📅 Sunday\, March 15\, 2026⏰ 9:00 AM – 1:30 PM📍 Sheraton Kauaʻi Coconut Beach Resort – Grand Pavilion \nAdvance registration encouraged. Sign up using the QR code  \n 
URL:https://kauaiconnect.com/event/the-kaua%ca%bbi-kings-parade-presents-the-hawai%ca%bbi-equestrian-tradition-of-pa%ca%bbu-riding/
LOCATION:HI
CATEGORIES:Celebration,Featured Events,Island Happenings
ORGANIZER;CN="M%C4%81lie Foundation":MAILTO:kkcc.kauai@gmail.com
END:VEVENT
BEGIN:VEVENT
DTSTART;TZID=Pacific/Honolulu:20260326T190000
DTEND;TZID=Pacific/Honolulu:20260326T210000
DTSTAMP:20260419T213013
CREATED:20260310T024536Z
LAST-MODIFIED:20260326T061422Z
UID:10002163-1774551600-1774558800@kauaiconnect.com
SUMMARY:Assassins: A Musical by Stephen Sondheim
DESCRIPTION:Proudly presented by Kaua’i Community Players. Stephen Sondheim’s “Assassins” takes the audience on a dark and surprisingly funny thrill ride through the twisted underside of the “American Dream”. Viewed through the disaffected eyes of a group of Presidential assassins looking to be understood\, this Tony Award winning musical is guaranteed to make you think.  . .and be thankful that you are not one of the people singing\, “The Other National Anthem (For the Ones Who Can’t Get in to the Ballpark)”. Get your tickets today\, before they disappear!
URL:https://kauaiconnect.com/event/assassins-a-musical-by-stephen-sondheim/
LOCATION:Puhi Theatrical Warehouse\, 4411 Kikowaena St\, Lihue\, 96766
CATEGORIES:Island Happenings
ATTACH;FMTTYPE=image/png:https://kauaiconnect.com/wp-content/uploads/Assassins-poster-compressed-E1CmeA.png
ORGANIZER;CN="Kauai Community Players":MAILTO:kauaicommunityplayers@gmail.com
GEO:21.9645173;-159.3956754
X-APPLE-STRUCTURED-LOCATION;VALUE=URI;X-ADDRESS=Puhi Theatrical Warehouse 4411 Kikowaena St Lihue 96766;X-APPLE-RADIUS=500;X-TITLE=4411 Kikowaena St:geo:-159.3956754,21.9645173
END:VEVENT
BEGIN:VEVENT
DTSTART;TZID=Pacific/Honolulu:20260327T183000
DTEND;TZID=Pacific/Honolulu:20260327T203000
DTSTAMP:20260419T213013
CREATED:20260204T201506Z
LAST-MODIFIED:20260327T061404Z
UID:10002087-1774636200-1774643400@kauaiconnect.com
SUMMARY:Every Dancer Is A Star
DESCRIPTION:Every Dancer Is A Star is a vibrant multimedia dance performance featuring Kaua‘i student dancers alongside guest professional artists. Presented by Performing Arts For All (PAFA)\, the show brings together ballet\, hip hop\, and modern dance in a dynamic evening that celebrates youth\, artistry\, and community. \n\nThe performance includes special guest gymnasts from CLC’s Gymnastics Academy and guest professional dancers from Cleo Parker Robinson Dance\, from Denver Colorado\, offering students the rare opportunity to share the stage with accomplished artists. Set in a professional theater environment at the War Memorial Convention Hall\, the show highlights the dedication\, creativity\, and talent of Kaua‘i’s young performers.\n\nLearn more about the show at gardenislanddance.org. & Cleoparkerdance.org \nDate: Friday\, March 27Location: War Memorial Convention Hall\, Līhu‘eAdmission: 🎟 Tickets: $25 adults / $12 childrenLearn more at gardenislanddance.org
URL:https://kauaiconnect.com/event/every-dancer-is-a-star-2/
LOCATION:Kauai War Memorial Convention Hall\, 4191 Hardy Street\, Lihue\, 96766
CATEGORIES:Island Happenings
ATTACH;FMTTYPE=image/png:https://kauaiconnect.com/wp-content/uploads/every-dancer-a-star_2026purple-poster-_-copy-2-j8J4a0.png
ORGANIZER;CN="Jennifer Schwartz":MAILTO:jenballet@gmail.com
GEO:21.9733597;-159.3638919
X-APPLE-STRUCTURED-LOCATION;VALUE=URI;X-ADDRESS=Kauai War Memorial Convention Hall 4191 Hardy Street Lihue 96766;X-APPLE-RADIUS=500;X-TITLE=4191 Hardy Street:geo:-159.3638919,21.9733597
END:VEVENT
BEGIN:VEVENT
DTSTART;TZID=Pacific/Honolulu:20260327T190000
DTEND;TZID=Pacific/Honolulu:20260327T210000
DTSTAMP:20260419T213013
CREATED:20260310T024538Z
LAST-MODIFIED:20260327T061404Z
UID:10002164-1774638000-1774645200@kauaiconnect.com
SUMMARY:Assassins: A Musical by Stephen Sondheim
DESCRIPTION:Proudly presented by Kaua’i Community Players. Stephen Sondheim’s “Assassins” takes the audience on a dark and surprisingly funny thrill ride through the twisted underside of the “American Dream”. Viewed through the disaffected eyes of a group of Presidential assassins looking to be understood\, this Tony Award winning musical is guaranteed to make you think.  . .and be thankful that you are not one of the people singing\, “The Other National Anthem (For the Ones Who Can’t Get in to the Ballpark)”. Get your tickets today\, before they disappear!
URL:https://kauaiconnect.com/event/assassins-a-musical-by-stephen-sondheim-2/
LOCATION:Puhi Theatrical Warehouse\, 4411 Kikowaena St\, Lihue\, 96766
CATEGORIES:Island Happenings
ATTACH;FMTTYPE=image/png:https://kauaiconnect.com/wp-content/uploads/Assassins-poster-compressed-E1CmeA.png
ORGANIZER;CN="Kauai Community Players":MAILTO:kauaicommunityplayers@gmail.com
GEO:21.9645173;-159.3956754
X-APPLE-STRUCTURED-LOCATION;VALUE=URI;X-ADDRESS=Puhi Theatrical Warehouse 4411 Kikowaena St Lihue 96766;X-APPLE-RADIUS=500;X-TITLE=4411 Kikowaena St:geo:-159.3956754,21.9645173
END:VEVENT
BEGIN:VEVENT
DTSTART;TZID=Pacific/Honolulu:20260328T190000
DTEND;TZID=Pacific/Honolulu:20260328T210000
DTSTAMP:20260419T213013
CREATED:20260310T024539Z
LAST-MODIFIED:20260328T061406Z
UID:10002165-1774724400-1774731600@kauaiconnect.com
SUMMARY:Assassins: A Musical by Stephen Sondheim
DESCRIPTION:Proudly presented by Kaua’i Community Players. Stephen Sondheim’s “Assassins” takes the audience on a dark and surprisingly funny thrill ride through the twisted underside of the “American Dream”. Viewed through the disaffected eyes of a group of Presidential assassins looking to be understood\, this Tony Award winning musical is guaranteed to make you think.  . .and be thankful that you are not one of the people singing\, “The Other National Anthem (For the Ones Who Can’t Get in to the Ballpark)”. Get your tickets today\, before they disappear!
URL:https://kauaiconnect.com/event/assassins-a-musical-by-stephen-sondheim-3/
LOCATION:Puhi Theatrical Warehouse\, 4411 Kikowaena St\, Lihue\, 96766
CATEGORIES:Island Happenings
ATTACH;FMTTYPE=image/png:https://kauaiconnect.com/wp-content/uploads/Assassins-poster-compressed-E1CmeA.png
ORGANIZER;CN="Kauai Community Players":MAILTO:kauaicommunityplayers@gmail.com
GEO:21.9645173;-159.3956754
X-APPLE-STRUCTURED-LOCATION;VALUE=URI;X-ADDRESS=Puhi Theatrical Warehouse 4411 Kikowaena St Lihue 96766;X-APPLE-RADIUS=500;X-TITLE=4411 Kikowaena St:geo:-159.3956754,21.9645173
END:VEVENT
BEGIN:VEVENT
DTSTART;TZID=Pacific/Honolulu:20260329T160000
DTEND;TZID=Pacific/Honolulu:20260329T180000
DTSTAMP:20260419T213013
CREATED:20260310T024540Z
LAST-MODIFIED:20260329T061400Z
UID:10002166-1774800000-1774807200@kauaiconnect.com
SUMMARY:Assassins: A Musical by Stephen Sondheim
DESCRIPTION:Proudly presented by Kaua’i Community Players. Stephen Sondheim’s “Assassins” takes the audience on a dark and surprisingly funny thrill ride through the twisted underside of the “American Dream”. Viewed through the disaffected eyes of a group of Presidential assassins looking to be understood\, this Tony Award winning musical is guaranteed to make you think.  . .and be thankful that you are not one of the people singing\, “The Other National Anthem (For the Ones Who Can’t Get in to the Ballpark)”. Get your tickets today\, before they disappear!
URL:https://kauaiconnect.com/event/assassins-a-musical-by-stephen-sondheim-4/
LOCATION:Puhi Theatrical Warehouse\, 4411 Kikowaena St\, Lihue\, 96766
CATEGORIES:Island Happenings
ATTACH;FMTTYPE=image/png:https://kauaiconnect.com/wp-content/uploads/Assassins-poster-compressed-E1CmeA.png
ORGANIZER;CN="Kauai Community Players":MAILTO:kauaicommunityplayers@gmail.com
GEO:21.9645173;-159.3956754
X-APPLE-STRUCTURED-LOCATION;VALUE=URI;X-ADDRESS=Puhi Theatrical Warehouse 4411 Kikowaena St Lihue 96766;X-APPLE-RADIUS=500;X-TITLE=4411 Kikowaena St:geo:-159.3956754,21.9645173
END:VEVENT
END:VCALENDAR