BEGIN:VCALENDAR
VERSION:2.0
PRODID:-//Kauaʻi Connect - ECPv6.15.20//NONSGML v1.0//EN
CALSCALE:GREGORIAN
METHOD:PUBLISH
X-ORIGINAL-URL:https://kauaiconnect.com
X-WR-CALDESC:Events for Kauaʻi Connect
REFRESH-INTERVAL;VALUE=DURATION:PT1H
X-Robots-Tag:noindex
X-PUBLISHED-TTL:PT1H
BEGIN:VTIMEZONE
TZID:Pacific/Honolulu
BEGIN:STANDARD
TZOFFSETFROM:-1000
TZOFFSETTO:-1000
TZNAME:HST
DTSTART:20250101T000000
END:STANDARD
END:VTIMEZONE
BEGIN:VEVENT
DTSTART;TZID=Pacific/Honolulu:20260101T160000
DTEND;TZID=Pacific/Honolulu:20260101T190000
DTSTAMP:20260423T031714
CREATED:20251208T084426Z
LAST-MODIFIED:20251213T115926Z
UID:10001920-1767283200-1767294000@kauaiconnect.com
SUMMARY:CHRISTMAS FREE HULA & CRAFT SHOW WITH TAMATEA NUI O’ KAUAI
DESCRIPTION:Kauai’s finest Christmas Shopping is located at the Hilton Garden Inn at Wailua Bay with many available shopping dates! \nSome of the Best Kauai Crafters\, Artists and Vendors will be set up with Amazing Gifts for everyone on your list! \nThurday December 11th and 18th from 4-7pm \nas well as \nTuesday December 23 from 4-7pm ~ Perfect for Last Minute Shopping \nHula Show will be at 5:30pm on Each Day! \nThere is no charge for these event dates! \nRain or Shine! \nHilton Garden Inn at Wailua Bay 3-5920 Kuhio Hwy\, Kapaʻa\, HI 96746
URL:https://kauaiconnect.com/event/christmas-free-hula-craft-show-with-tamatea-nui-o-kauai-5/
LOCATION:Hilton Garden Inn Kauai at Wailua Bay\, 3-5920 Kuhio Hwy\,\, Kapaa\, 96746
CATEGORIES:Island Happenings
ATTACH;FMTTYPE=image/jpeg:https://kauaiconnect.com/wp-content/uploads/thursday-nights-SZEC4L.jpg
ORGANIZER;CN="HO&#8217%3BOHIWAHIWAFAIR":MAILTO:hoohiwahiwahgi@gmail.com
GEO:22.0427204;-159.3361068
X-APPLE-STRUCTURED-LOCATION;VALUE=URI;X-ADDRESS=Hilton Garden Inn Kauai at Wailua Bay 3-5920 Kuhio Hwy Kapaa 96746;X-APPLE-RADIUS=500;X-TITLE=3-5920 Kuhio Hwy\,:geo:-159.3361068,22.0427204
END:VEVENT
BEGIN:VEVENT
DTSTART;TZID=Pacific/Honolulu:20260107T130000
DTEND;TZID=Pacific/Honolulu:20260107T170000
DTSTAMP:20260423T031714
CREATED:20251224T131418Z
LAST-MODIFIED:20260107T154411Z
UID:10001953-1767790800-1767805200@kauaiconnect.com
SUMMARY:Makai Music & Art Festival Kauai
DESCRIPTION:Come share the Aloha with us every Wednesday from 1-5pm at our Makai Music and Art Festival Kaua’i.  Free-entry\, free event parking and FREE live music concerts  Shop our 20+ wonderful\, eclectic\, talented local artisans and vendors each week while being entertained by our fabulous live musicians here on our beautiful Garden Isle of Kaua’i. Buy handmade and support local small businesses. Mahalo for your support.  The Makai Grill is also open serving food and drinks for you to enjoy while listening to our live free music concerts. Plus\, we have alternating dessert vendors and Chunks Cookies\, with yummy treats too.\n\nLike/Follow our Facebook and Instagram pages:https://www.facebook.com/MakaiMusicAndArtFest\n\nhttps://www.instagram.com/makaimusicandartfestivalkauai
URL:https://kauaiconnect.com/event/makai-music-art-festival-kauai-3/
LOCATION:Princeville Makai Golf Course\, 4080 Lei O Papa\, Princeville\, HI\, 96722\, United States
CATEGORIES:Island Happenings
ATTACH;FMTTYPE=image/jpeg:https://kauaiconnect.com/wp-content/uploads/963fd97c-47c1-4332-868f-3b3528fc6506-2-1zJMQD.jpg
ORGANIZER;CN="Makai Music &amp%3B Art Festival Kauai":MAILTO:jersoulgood@gmail.com
GEO:22.2228711;-159.4681506
X-APPLE-STRUCTURED-LOCATION;VALUE=URI;X-ADDRESS=Princeville Makai Golf Course 4080 Lei O Papa Princeville HI 96722 United States;X-APPLE-RADIUS=500;X-TITLE=4080 Lei O Papa:geo:-159.4681506,22.2228711
END:VEVENT
BEGIN:VEVENT
DTSTART;TZID=Pacific/Honolulu:20260108T160000
DTEND;TZID=Pacific/Honolulu:20260108T190000
DTSTAMP:20260423T031714
CREATED:20251208T084426Z
LAST-MODIFIED:20251213T115927Z
UID:10001921-1767888000-1767898800@kauaiconnect.com
SUMMARY:CHRISTMAS FREE HULA & CRAFT SHOW WITH TAMATEA NUI O’ KAUAI
DESCRIPTION:Kauai’s finest Christmas Shopping is located at the Hilton Garden Inn at Wailua Bay with many available shopping dates! \nSome of the Best Kauai Crafters\, Artists and Vendors will be set up with Amazing Gifts for everyone on your list! \nThurday December 11th and 18th from 4-7pm \nas well as \nTuesday December 23 from 4-7pm ~ Perfect for Last Minute Shopping \nHula Show will be at 5:30pm on Each Day! \nThere is no charge for these event dates! \nRain or Shine! \nHilton Garden Inn at Wailua Bay 3-5920 Kuhio Hwy\, Kapaʻa\, HI 96746
URL:https://kauaiconnect.com/event/christmas-free-hula-craft-show-with-tamatea-nui-o-kauai-6/
LOCATION:Hilton Garden Inn Kauai at Wailua Bay\, 3-5920 Kuhio Hwy\,\, Kapaa\, 96746
CATEGORIES:Island Happenings
ATTACH;FMTTYPE=image/jpeg:https://kauaiconnect.com/wp-content/uploads/thursday-nights-SZEC4L.jpg
ORGANIZER;CN="HO&#8217%3BOHIWAHIWAFAIR":MAILTO:hoohiwahiwahgi@gmail.com
GEO:22.0427204;-159.3361068
X-APPLE-STRUCTURED-LOCATION;VALUE=URI;X-ADDRESS=Hilton Garden Inn Kauai at Wailua Bay 3-5920 Kuhio Hwy Kapaa 96746;X-APPLE-RADIUS=500;X-TITLE=3-5920 Kuhio Hwy\,:geo:-159.3361068,22.0427204
END:VEVENT
BEGIN:VEVENT
DTSTART;TZID=Pacific/Honolulu:20260114T130000
DTEND;TZID=Pacific/Honolulu:20260114T170000
DTSTAMP:20260423T031714
CREATED:20251224T131420Z
LAST-MODIFIED:20260114T162914Z
UID:10001954-1768395600-1768410000@kauaiconnect.com
SUMMARY:Makai Music & Art Festival Kauai
DESCRIPTION:Come share the Aloha with us every Wednesday from 1-5pm at our Makai Music and Art Festival Kaua’i.  Free-entry\, free event parking and FREE live music concerts  Shop our 20+ wonderful\, eclectic\, talented local artisans and vendors each week while being entertained by our fabulous live musicians here on our beautiful Garden Isle of Kaua’i. Buy handmade and support local small businesses. Mahalo for your support.  The Makai Grill is also open serving food and drinks for you to enjoy while listening to our live free music concerts. Plus\, we have alternating dessert vendors and Chunks Cookies\, with yummy treats too.\n\nLike/Follow our Facebook and Instagram pages:https://www.facebook.com/MakaiMusicAndArtFest\n\nhttps://www.instagram.com/makaimusicandartfestivalkauai
URL:https://kauaiconnect.com/event/makai-music-art-festival-kauai-4/
LOCATION:Princeville Makai Golf Course\, 4080 Lei O Papa\, Princeville\, HI\, 96722\, United States
CATEGORIES:Island Happenings
ATTACH;FMTTYPE=image/jpeg:https://kauaiconnect.com/wp-content/uploads/963fd97c-47c1-4332-868f-3b3528fc6506-2-1zJMQD.jpg
ORGANIZER;CN="Makai Music &amp%3B Art Festival Kauai":MAILTO:jersoulgood@gmail.com
GEO:22.2228711;-159.4681506
X-APPLE-STRUCTURED-LOCATION;VALUE=URI;X-ADDRESS=Princeville Makai Golf Course 4080 Lei O Papa Princeville HI 96722 United States;X-APPLE-RADIUS=500;X-TITLE=4080 Lei O Papa:geo:-159.4681506,22.2228711
END:VEVENT
BEGIN:VEVENT
DTSTART;TZID=Pacific/Honolulu:20260115T160000
DTEND;TZID=Pacific/Honolulu:20260115T190000
DTSTAMP:20260423T031714
CREATED:20251208T084427Z
LAST-MODIFIED:20251213T115929Z
UID:10001922-1768492800-1768503600@kauaiconnect.com
SUMMARY:CHRISTMAS FREE HULA & CRAFT SHOW WITH TAMATEA NUI O’ KAUAI
DESCRIPTION:Kauai’s finest Christmas Shopping is located at the Hilton Garden Inn at Wailua Bay with many available shopping dates! \nSome of the Best Kauai Crafters\, Artists and Vendors will be set up with Amazing Gifts for everyone on your list! \nThurday December 11th and 18th from 4-7pm \nas well as \nTuesday December 23 from 4-7pm ~ Perfect for Last Minute Shopping \nHula Show will be at 5:30pm on Each Day! \nThere is no charge for these event dates! \nRain or Shine! \nHilton Garden Inn at Wailua Bay 3-5920 Kuhio Hwy\, Kapaʻa\, HI 96746
URL:https://kauaiconnect.com/event/christmas-free-hula-craft-show-with-tamatea-nui-o-kauai-7/
LOCATION:Hilton Garden Inn Kauai at Wailua Bay\, 3-5920 Kuhio Hwy\,\, Kapaa\, 96746
CATEGORIES:Island Happenings
ATTACH;FMTTYPE=image/jpeg:https://kauaiconnect.com/wp-content/uploads/thursday-nights-SZEC4L.jpg
ORGANIZER;CN="HO&#8217%3BOHIWAHIWAFAIR":MAILTO:hoohiwahiwahgi@gmail.com
GEO:22.0427204;-159.3361068
X-APPLE-STRUCTURED-LOCATION;VALUE=URI;X-ADDRESS=Hilton Garden Inn Kauai at Wailua Bay 3-5920 Kuhio Hwy Kapaa 96746;X-APPLE-RADIUS=500;X-TITLE=3-5920 Kuhio Hwy\,:geo:-159.3361068,22.0427204
END:VEVENT
BEGIN:VEVENT
DTSTART;TZID=Pacific/Honolulu:20260117T080000
DTEND;TZID=Pacific/Honolulu:20260117T140000
DTSTAMP:20260423T031714
CREATED:20251019T032534Z
LAST-MODIFIED:20260117T165951Z
UID:10001795-1768636800-1768658400@kauaiconnect.com
SUMMARY:Kauai Island Crafters Fair
DESCRIPTION:🌺 Artisans & Crafters Fair hosted by Kauai Island Crafters Fair! 🌺 \nEmbark on a journey of creativity and culture at the Kauai Island Crafters Fair\, a celebrated event with a 15-year tradition of bringing together the best of Kauai’s local artisans and crafters.  Nestled in the heart of this breathtaking island\, our fair showcases the essence of Kauai’s craftsmanship\, offering a unique opportunity for both visitors and locals to connect with the vibrant artistic spirit of the community.  Step into a world where every item tells a story\, as skilled Kauai artisans proudly display their locally handmade treasures.  Immerse yourself in a shopping experience where each handcrafted product is a piece of Kauai’s soul\, inviting you to take home a special memento of your island vacation. \n✨ Event Highlights: \n\nShop Handmade: Explore a diverse selection of locally crafted items\, from jewelry to home décor\, art\, clothing\, sewn textiles\, and more.\nMeet the Makers: Get to know the talented artisans behind the creations and hear the stories that inspire their work.\nSupport Local: By attending\, you’re helping small Kauai businesses thrive and preserving the island’s rich cultural artistry.\n\n📍 Location: Indoors with convenient outdoor parking. \nBring your family and friends and immerse yourself in the warmth and creativity of Kauai’s local community. Don’t miss this opportunity to discover that perfect handmade treasure! \n📣 Interested vendors can reach out to kauaiislandcraftersfair@gmail.com.  Spread the word\, tag your friends\, and follow @kauaiislandcraftersfair – Let’s support Kauai’s local artisans together! \n  \n#KauaiIslandCraftersFair #ShopSmallKauai #SupportLocalArtisans #HandmadeWithAloha #KauaiCraftFair #MadeOnKauai #KauaiGifts #KauaiVacationVibes #SupportSmallBusiness #KauaiShopping #KauaiSouvenirs #HawaiiCraftMarket #CraftFairFinds #KauaiEvents
URL:https://kauaiconnect.com/event/kauai-island-crafters-fair-58/
LOCATION:Kauai Veterans Center\, 3215 Kapule Hwy\, Lihue\, HI\, 96766\, United States
CATEGORIES:Island Happenings,Market
ATTACH;FMTTYPE=image/jpeg:https://kauaiconnect.com/wp-content/uploads/Pink-Futon-Baby-rotated-5QIOUO.jpg
ORGANIZER;CN="Debbie Yanagihara":MAILTO:kauaiislandcf@hotmail.com
GEO:21.9748624;-159.3537295
X-APPLE-STRUCTURED-LOCATION;VALUE=URI;X-ADDRESS=Kauai Veterans Center 3215 Kapule Hwy Lihue HI 96766 United States;X-APPLE-RADIUS=500;X-TITLE=3215 Kapule Hwy:geo:-159.3537295,21.9748624
END:VEVENT
BEGIN:VEVENT
DTSTART;TZID=Pacific/Honolulu:20260121T130000
DTEND;TZID=Pacific/Honolulu:20260121T170000
DTSTAMP:20260423T031714
CREATED:20251224T131422Z
LAST-MODIFIED:20260121T171407Z
UID:10001955-1769000400-1769014800@kauaiconnect.com
SUMMARY:Makai Music & Art Festival Kauai
DESCRIPTION:Come share the Aloha with us every Wednesday from 1-5pm at our Makai Music and Art Festival Kaua’i.  Free-entry\, free event parking and FREE live music concerts  Shop our 20+ wonderful\, eclectic\, talented local artisans and vendors each week while being entertained by our fabulous live musicians here on our beautiful Garden Isle of Kaua’i. Buy handmade and support local small businesses. Mahalo for your support.  The Makai Grill is also open serving food and drinks for you to enjoy while listening to our live free music concerts. Plus\, we have alternating dessert vendors and Chunks Cookies\, with yummy treats too.\n\nLike/Follow our Facebook and Instagram pages:https://www.facebook.com/MakaiMusicAndArtFest\n\nhttps://www.instagram.com/makaimusicandartfestivalkauai
URL:https://kauaiconnect.com/event/makai-music-art-festival-kauai-5/
LOCATION:Princeville Makai Golf Course\, 4080 Lei O Papa\, Princeville\, HI\, 96722\, United States
CATEGORIES:Island Happenings
ATTACH;FMTTYPE=image/jpeg:https://kauaiconnect.com/wp-content/uploads/963fd97c-47c1-4332-868f-3b3528fc6506-2-1zJMQD.jpg
ORGANIZER;CN="Makai Music &amp%3B Art Festival Kauai":MAILTO:jersoulgood@gmail.com
GEO:22.2228711;-159.4681506
X-APPLE-STRUCTURED-LOCATION;VALUE=URI;X-ADDRESS=Princeville Makai Golf Course 4080 Lei O Papa Princeville HI 96722 United States;X-APPLE-RADIUS=500;X-TITLE=4080 Lei O Papa:geo:-159.4681506,22.2228711
END:VEVENT
BEGIN:VEVENT
DTSTART;TZID=Pacific/Honolulu:20260122T160000
DTEND;TZID=Pacific/Honolulu:20260122T190000
DTSTAMP:20260423T031714
CREATED:20251208T084427Z
LAST-MODIFIED:20251213T115934Z
UID:10001923-1769097600-1769108400@kauaiconnect.com
SUMMARY:CHRISTMAS FREE HULA & CRAFT SHOW WITH TAMATEA NUI O’ KAUAI
DESCRIPTION:Kauai’s finest Christmas Shopping is located at the Hilton Garden Inn at Wailua Bay with many available shopping dates! \nSome of the Best Kauai Crafters\, Artists and Vendors will be set up with Amazing Gifts for everyone on your list! \nThurday December 11th and 18th from 4-7pm \nas well as \nTuesday December 23 from 4-7pm ~ Perfect for Last Minute Shopping \nHula Show will be at 5:30pm on Each Day! \nThere is no charge for these event dates! \nRain or Shine! \nHilton Garden Inn at Wailua Bay 3-5920 Kuhio Hwy\, Kapaʻa\, HI 96746
URL:https://kauaiconnect.com/event/christmas-free-hula-craft-show-with-tamatea-nui-o-kauai-8/
LOCATION:Hilton Garden Inn Kauai at Wailua Bay\, 3-5920 Kuhio Hwy\,\, Kapaa\, 96746
CATEGORIES:Island Happenings
ATTACH;FMTTYPE=image/jpeg:https://kauaiconnect.com/wp-content/uploads/thursday-nights-SZEC4L.jpg
ORGANIZER;CN="HO&#8217%3BOHIWAHIWAFAIR":MAILTO:hoohiwahiwahgi@gmail.com
GEO:22.0427204;-159.3361068
X-APPLE-STRUCTURED-LOCATION;VALUE=URI;X-ADDRESS=Hilton Garden Inn Kauai at Wailua Bay 3-5920 Kuhio Hwy Kapaa 96746;X-APPLE-RADIUS=500;X-TITLE=3-5920 Kuhio Hwy\,:geo:-159.3361068,22.0427204
END:VEVENT
BEGIN:VEVENT
DTSTART;TZID=Pacific/Honolulu:20260122T160000
DTEND;TZID=Pacific/Honolulu:20260122T190000
DTSTAMP:20260423T031714
CREATED:20260120T165937Z
LAST-MODIFIED:20260122T171525Z
UID:10002028-1769097600-1769108400@kauaiconnect.com
SUMMARY:Free Hula Show & Craft Fair with Tamatea Nui O Kaua’i Every Thursday
DESCRIPTION:Tamatea Nui O Kaua’i brings to you a FREE Hula Show along with some of the Best Artists and Craft Vendors on Kauai! \nEnjoy a Free Hula show!  Watch the beautiful dancers perform to live Ukulele\, Singing and Talk a Little Story about Hawaiian History and Culture while shopping for Gifts and Souvenirs! \nOpen to Guests and Locals!  This is one of the BEST Events to find that perfect something for yourself or somone on your list\, any time of year!  From Artists to Jewelry\, Wood works to Clothing and Special Treats\, this weekly Fair has everything you need and more! \nEvery Thursday Evening from 4pm tp 7pm with the FREE Hula Show starting at 5:30pm. \nThis is an open to All ages event with Handicap access and is held rain or shine. \nEvent happens in the Lobby of the Hilton Garden Inn\, Wailua Bay  3-5920 Kuhio Highway\, Kapaa \nPull in\, Park and Play!!
URL:https://kauaiconnect.com/event/free-hula-show-craft-fair-with-tamatea-nui-o-kauai-every-thursday/
LOCATION:HILTON GARDEN IN WAILUA BAY\, KAPAA KAUAI\, 3-5920 Kuhio Hwy\, KAPAA\, 96746
CATEGORIES:Island Happenings
ATTACH;FMTTYPE=image/png:https://kauaiconnect.com/wp-content/uploads/HILTON-THURSDAY-WEEKLY-PNG-1-M3M52V.png
ORGANIZER;CN="HO&#8217%3BOHIWAHIWAFAIR":MAILTO:hoohiwahiwahgi@gmail.com
GEO:22.0427204;-159.3361068
X-APPLE-STRUCTURED-LOCATION;VALUE=URI;X-ADDRESS=HILTON GARDEN IN WAILUA BAY KAPAA KAUAI 3-5920 Kuhio Hwy KAPAA 96746;X-APPLE-RADIUS=500;X-TITLE=3-5920 Kuhio Hwy:geo:-159.3361068,22.0427204
END:VEVENT
BEGIN:VEVENT
DTSTART;TZID=Pacific/Honolulu:20260124T080000
DTEND;TZID=Pacific/Honolulu:20260124T140000
DTSTAMP:20260423T031714
CREATED:20260101T141404Z
LAST-MODIFIED:20260124T173016Z
UID:10001989-1769241600-1769263200@kauaiconnect.com
SUMMARY:Artisans & Crafters Fair
DESCRIPTION:🌺 Artisans & Crafters Fair Event 🌺\nHosted by Kauai Island Crafters Fair \nDiscover the heart and soul of Kauai at our Artisans & Crafters Fair Event\, where creativity\, culture\, and community come together in the most inspiring way. With over 12 years of celebrating local talent\, the Kauai Island Crafters Fair has hosted these events becoming a beloved gathering place for those who value authenticity\, craftsmanship\, and the stories behind handmade goods. \nEach month\, we transform our indoor venue into a vibrant marketplace filled with the sights\, textures\, and aloha spirit that make Kauai so special. From meticulously handcrafted jewelry and island-inspired artwork to sewn textiles\, home décor\, apparel\, and one-of-a-kind gifts\, every booth offers something meaningful and truly made on Kauai. \nThis is more than shopping—it’s an experience. Wander the aisles\, meet the makers\, and connect directly with the artisans who pour their passion into every piece. Whether you’re a visitor searching for the perfect keepsake or a local supporting your community\, you’ll feel the magic that only a handmade market can bring. \n✨ Why You’ll Love Our Monthly Markets: \n\nHandmade with Aloha: Shop an ever-changing collection of locally crafted goods you won’t find anywhere else.\nMeet the Artisans: Hear the stories\, inspirations\, and traditions behind each creation.\nSupport Local: Your purchases directly support Kauai’s small businesses and creative community.\nEasy & Comfortable: Enjoy an indoor shopping experience with convenient outdoor parking.\n\nBring your family\, invite your friends\, and make it a monthly tradition to celebrate Kauai’s incredible creative talent. Every event offers something new\, something special\, and something unforgettable. \n📍 Location: Indoors | Convenient Outdoor Parking\n📣 Interested Vendors: kauaiislandcraftersfair@gmail.com\n📲 IG Follow & share the love: @kauaiislandcraftersfair \nCome experience the joy of handmade\, the power of community\, and the spirit of Kauai—we can’t wait to welcome you! \n#KauaiIslandCraftersFair #HandmadeWithAloha #ShopLocalKauai #SupportLocalArtisans #MadeOnKauai #KauaiCraftMarket #KauaiEvents #HawaiiCraftFair #ShopSmallKauai #KauaiGifts #KauaiCreatives #IslandMade #KauaiShopping
URL:https://kauaiconnect.com/event/artisans-crafters-fair/
LOCATION:Koloa Neighborhood Center\, 3461B Weliweli Rd.\, Koloa\, 96756
CATEGORIES:Island Happenings,Market
ATTACH;FMTTYPE=image/jpeg:https://kauaiconnect.com/wp-content/uploads/Futon-stack-rotated-YA1Oma.jpg
ORGANIZER;CN="Debbie Yanagihara":MAILTO:kauaiislandcf@hotmail.com
GEO:21.9035095;-159.4639758
X-APPLE-STRUCTURED-LOCATION;VALUE=URI;X-ADDRESS=Koloa Neighborhood Center 3461B Weliweli Rd. Koloa 96756;X-APPLE-RADIUS=500;X-TITLE=3461B Weliweli Rd.:geo:-159.4639758,21.9035095
END:VEVENT
BEGIN:VEVENT
DTSTART;TZID=Pacific/Honolulu:20260125T100000
DTEND;TZID=Pacific/Honolulu:20260125T140000
DTSTAMP:20260423T031714
CREATED:20260116T164409Z
LAST-MODIFIED:20260125T174422Z
UID:10002020-1769335200-1769349600@kauaiconnect.com
SUMMARY:HO’OHIWAHIWA FAIR ~ CRAFTS and GIFTS\, FREE HULA AND MUSIC
DESCRIPTION:It’s our first HO’OHIWAHIWA FAIR of the year! \nStarting at 10:00am Some of Kauai’s Best Known Artists and Vendors will be offering a wide assortment of Handmade Items and Gifts\, Jewelry\, Clothing and Souvenirs! \nFrom 10:00am to 11:00am come see TROPICAL GROOVE\nand\nFrom 12:30pm to 1:30pm See the Beautiful Hula Show and Musical performance by Tamatea Nui O Kauai \nThis is a FREE EVENT for all ages! \nThis is a Rain or Shine Event\, Indoors\, with Handicap Access \n  \n  \n 
URL:https://kauaiconnect.com/event/hoohiwahiwa-fair-crafts-and-gifts-free-hula-and-music/
LOCATION:HILTON GARDEN IN WAILUA BAY\, KAPAA KAUAI\, 3-5920 Kuhio Hwy\, KAPAA\, 96746
CATEGORIES:Island Happenings
ATTACH;FMTTYPE=image/jpeg:https://kauaiconnect.com/wp-content/uploads/d54c7ef6-6e78-441d-a5c2-2a3b5a10cab9-akNBnp.jpg
ORGANIZER;CN="HO&#8217%3BOHIWAHIWAFAIR":MAILTO:hoohiwahiwahgi@gmail.com
GEO:22.0427204;-159.3361068
X-APPLE-STRUCTURED-LOCATION;VALUE=URI;X-ADDRESS=HILTON GARDEN IN WAILUA BAY KAPAA KAUAI 3-5920 Kuhio Hwy KAPAA 96746;X-APPLE-RADIUS=500;X-TITLE=3-5920 Kuhio Hwy:geo:-159.3361068,22.0427204
END:VEVENT
BEGIN:VEVENT
DTSTART;TZID=Pacific/Honolulu:20260128T130000
DTEND;TZID=Pacific/Honolulu:20260128T170000
DTSTAMP:20260423T031714
CREATED:20251224T131422Z
LAST-MODIFIED:20260128T174411Z
UID:10001956-1769605200-1769619600@kauaiconnect.com
SUMMARY:Makai Music & Art Festival Kauai
DESCRIPTION:Come share the Aloha with us every Wednesday from 1-5pm at our Makai Music and Art Festival Kaua’i.  Free-entry\, free event parking and FREE live music concerts  Shop our 20+ wonderful\, eclectic\, talented local artisans and vendors each week while being entertained by our fabulous live musicians here on our beautiful Garden Isle of Kaua’i. Buy handmade and support local small businesses. Mahalo for your support.  The Makai Grill is also open serving food and drinks for you to enjoy while listening to our live free music concerts. Plus\, we have alternating dessert vendors and Chunks Cookies\, with yummy treats too.\n\nLike/Follow our Facebook and Instagram pages:https://www.facebook.com/MakaiMusicAndArtFest\n\nhttps://www.instagram.com/makaimusicandartfestivalkauai
URL:https://kauaiconnect.com/event/makai-music-art-festival-kauai-6/
LOCATION:Princeville Makai Golf Course\, 4080 Lei O Papa\, Princeville\, HI\, 96722\, United States
CATEGORIES:Island Happenings
ATTACH;FMTTYPE=image/jpeg:https://kauaiconnect.com/wp-content/uploads/963fd97c-47c1-4332-868f-3b3528fc6506-2-1zJMQD.jpg
ORGANIZER;CN="Makai Music &amp%3B Art Festival Kauai":MAILTO:jersoulgood@gmail.com
GEO:22.2228711;-159.4681506
X-APPLE-STRUCTURED-LOCATION;VALUE=URI;X-ADDRESS=Princeville Makai Golf Course 4080 Lei O Papa Princeville HI 96722 United States;X-APPLE-RADIUS=500;X-TITLE=4080 Lei O Papa:geo:-159.4681506,22.2228711
END:VEVENT
BEGIN:VEVENT
DTSTART;TZID=Pacific/Honolulu:20260129T160000
DTEND;TZID=Pacific/Honolulu:20260129T190000
DTSTAMP:20260423T031714
CREATED:20251208T084428Z
LAST-MODIFIED:20251213T115936Z
UID:10001924-1769702400-1769713200@kauaiconnect.com
SUMMARY:CHRISTMAS FREE HULA & CRAFT SHOW WITH TAMATEA NUI O’ KAUAI
DESCRIPTION:Kauai’s finest Christmas Shopping is located at the Hilton Garden Inn at Wailua Bay with many available shopping dates! \nSome of the Best Kauai Crafters\, Artists and Vendors will be set up with Amazing Gifts for everyone on your list! \nThurday December 11th and 18th from 4-7pm \nas well as \nTuesday December 23 from 4-7pm ~ Perfect for Last Minute Shopping \nHula Show will be at 5:30pm on Each Day! \nThere is no charge for these event dates! \nRain or Shine! \nHilton Garden Inn at Wailua Bay 3-5920 Kuhio Hwy\, Kapaʻa\, HI 96746
URL:https://kauaiconnect.com/event/christmas-free-hula-craft-show-with-tamatea-nui-o-kauai-9/
LOCATION:Hilton Garden Inn Kauai at Wailua Bay\, 3-5920 Kuhio Hwy\,\, Kapaa\, 96746
CATEGORIES:Island Happenings
ATTACH;FMTTYPE=image/jpeg:https://kauaiconnect.com/wp-content/uploads/thursday-nights-SZEC4L.jpg
ORGANIZER;CN="HO&#8217%3BOHIWAHIWAFAIR":MAILTO:hoohiwahiwahgi@gmail.com
GEO:22.0427204;-159.3361068
X-APPLE-STRUCTURED-LOCATION;VALUE=URI;X-ADDRESS=Hilton Garden Inn Kauai at Wailua Bay 3-5920 Kuhio Hwy Kapaa 96746;X-APPLE-RADIUS=500;X-TITLE=3-5920 Kuhio Hwy\,:geo:-159.3361068,22.0427204
END:VEVENT
BEGIN:VEVENT
DTSTART;TZID=Pacific/Honolulu:20260129T160000
DTEND;TZID=Pacific/Honolulu:20260129T190000
DTSTAMP:20260423T031714
CREATED:20260120T165941Z
LAST-MODIFIED:20260129T174400Z
UID:10002030-1769702400-1769713200@kauaiconnect.com
SUMMARY:Free Hula Show & Craft Fair with Tamatea Nui O Kaua’i Every Thursday
DESCRIPTION:Tamatea Nui O Kaua’i brings to you a FREE Hula Show along with some of the Best Artists and Craft Vendors on Kauai! \nEnjoy a Free Hula show!  Watch the beautiful dancers perform to live Ukulele\, Singing and Talk a Little Story about Hawaiian History and Culture while shopping for Gifts and Souvenirs! \nOpen to Guests and Locals!  This is one of the BEST Events to find that perfect something for yourself or somone on your list\, any time of year!  From Artists to Jewelry\, Wood works to Clothing and Special Treats\, this weekly Fair has everything you need and more! \nEvery Thursday Evening from 4pm tp 7pm with the FREE Hula Show starting at 5:30pm. \nThis is an open to All ages event with Handicap access and is held rain or shine. \nEvent happens in the Lobby of the Hilton Garden Inn\, Wailua Bay  3-5920 Kuhio Highway\, Kapaa \nPull in\, Park and Play!!
URL:https://kauaiconnect.com/event/free-hula-show-craft-fair-with-tamatea-nui-o-kauai-every-thursday-2/
LOCATION:HILTON GARDEN IN WAILUA BAY\, KAPAA KAUAI\, 3-5920 Kuhio Hwy\, KAPAA\, 96746
CATEGORIES:Island Happenings
ATTACH;FMTTYPE=image/png:https://kauaiconnect.com/wp-content/uploads/HILTON-THURSDAY-WEEKLY-PNG-1-M3M52V.png
ORGANIZER;CN="HO&#8217%3BOHIWAHIWAFAIR":MAILTO:hoohiwahiwahgi@gmail.com
GEO:22.0427204;-159.3361068
X-APPLE-STRUCTURED-LOCATION;VALUE=URI;X-ADDRESS=HILTON GARDEN IN WAILUA BAY KAPAA KAUAI 3-5920 Kuhio Hwy KAPAA 96746;X-APPLE-RADIUS=500;X-TITLE=3-5920 Kuhio Hwy:geo:-159.3361068,22.0427204
END:VEVENT
BEGIN:VEVENT
DTSTART;TZID=Pacific/Honolulu:20260131T080000
DTEND;TZID=Pacific/Honolulu:20260131T140000
DTSTAMP:20260423T031714
CREATED:20260101T141406Z
LAST-MODIFIED:20260131T174418Z
UID:10001990-1769846400-1769868000@kauaiconnect.com
SUMMARY:Artisans & Crafters Fair
DESCRIPTION:🌺 Artisans & Crafters Fair Event 🌺\nHosted by Kauai Island Crafters Fair \nDiscover the heart and soul of Kauai at our Artisans & Crafters Fair Event\, where creativity\, culture\, and community come together in the most inspiring way. With over 12 years of celebrating local talent\, the Kauai Island Crafters Fair has hosted these events becoming a beloved gathering place for those who value authenticity\, craftsmanship\, and the stories behind handmade goods. \nEach month\, we transform our indoor venue into a vibrant marketplace filled with the sights\, textures\, and aloha spirit that make Kauai so special. From meticulously handcrafted jewelry and island-inspired artwork to sewn textiles\, home décor\, apparel\, and one-of-a-kind gifts\, every booth offers something meaningful and truly made on Kauai. \nThis is more than shopping—it’s an experience. Wander the aisles\, meet the makers\, and connect directly with the artisans who pour their passion into every piece. Whether you’re a visitor searching for the perfect keepsake or a local supporting your community\, you’ll feel the magic that only a handmade market can bring. \n✨ Why You’ll Love Our Monthly Markets: \n\nHandmade with Aloha: Shop an ever-changing collection of locally crafted goods you won’t find anywhere else.\nMeet the Artisans: Hear the stories\, inspirations\, and traditions behind each creation.\nSupport Local: Your purchases directly support Kauai’s small businesses and creative community.\nEasy & Comfortable: Enjoy an indoor shopping experience with convenient outdoor parking.\n\nBring your family\, invite your friends\, and make it a monthly tradition to celebrate Kauai’s incredible creative talent. Every event offers something new\, something special\, and something unforgettable. \n📍 Location: Indoors | Convenient Outdoor Parking\n📣 Interested Vendors: kauaiislandcraftersfair@gmail.com\n📲 IG Follow & share the love: @kauaiislandcraftersfair \nCome experience the joy of handmade\, the power of community\, and the spirit of Kauai—we can’t wait to welcome you! \n#KauaiIslandCraftersFair #HandmadeWithAloha #ShopLocalKauai #SupportLocalArtisans #MadeOnKauai #KauaiCraftMarket #KauaiEvents #HawaiiCraftFair #ShopSmallKauai #KauaiGifts #KauaiCreatives #IslandMade #KauaiShopping
URL:https://kauaiconnect.com/event/artisans-crafters-fair-2/
LOCATION:Church of the Pacific\, Princeville\, 4520 Kapaka Street\, Princeville\, HI\, 96722\, United States
CATEGORIES:Island Happenings,Market
ATTACH;FMTTYPE=image/jpeg:https://kauaiconnect.com/wp-content/uploads/Bone-Turtle-Heart-carving-rotated-gZUwjE.jpg
ORGANIZER;CN="Debbie Yanagihara":MAILTO:kauaiislandcf@hotmail.com
GEO:22.2089875;-159.4643377
X-APPLE-STRUCTURED-LOCATION;VALUE=URI;X-ADDRESS=Church of the Pacific Princeville 4520 Kapaka Street Princeville HI 96722 United States;X-APPLE-RADIUS=500;X-TITLE=4520 Kapaka Street:geo:-159.4643377,22.2089875
END:VEVENT
END:VCALENDAR