BEGIN:VCALENDAR
VERSION:2.0
PRODID:-//Kauaʻi Connect - ECPv6.15.20//NONSGML v1.0//EN
CALSCALE:GREGORIAN
METHOD:PUBLISH
X-ORIGINAL-URL:https://kauaiconnect.com
X-WR-CALDESC:Events for Kauaʻi Connect
REFRESH-INTERVAL;VALUE=DURATION:PT1H
X-Robots-Tag:noindex
X-PUBLISHED-TTL:PT1H
BEGIN:VTIMEZONE
TZID:Pacific/Honolulu
BEGIN:STANDARD
TZOFFSETFROM:-1000
TZOFFSETTO:-1000
TZNAME:HST
DTSTART:20230101T000000
END:STANDARD
END:VTIMEZONE
BEGIN:VEVENT
DTSTART;TZID=Pacific/Honolulu:20240608T110000
DTEND;TZID=Pacific/Honolulu:20240608T180000
DTSTAMP:20260423T014944
CREATED:20240523T210519Z
LAST-MODIFIED:20240608T230703Z
UID:10000169-1717844400-1717869600@kauaiconnect.com
SUMMARY:Kauai Comic Con
DESCRIPTION:The excitement is building as the highly anticipated Kauai Comic Con gears up to take place at the beautiful Royal Sonesta Kaua’i Resort on Saturday\, June 8\, 2024. Bringing together comics\, movies\, TV\, anime\, toys\, art\, music\, tabletop\, and video games\, this event promises an unforgettable experience for attendees of all ages. \nSpecial guests include actor Ban Daisuke (Kikaida)\, Sifu Mimi Chan (Disney’s Mulan)\, celebrated artist Matt Frank (Godzilla/Ultraman/Transformers)\, Ming Chen (Comic Book Men)\, artist Derick Fabian (7 Sketches)\, cartoonist Jon Murakami (Local Kine Greeting Cards)\, writer Moana McAdams (Disney’s Lilo and Stitch Comic Book)\, among others. \nAdditionally\, attendees will be treated to special performances by Console\, a captivating Video Game Music Band\, and Kimberly Hope\, a professional violinist extraordinaire. \nHighlighting the convention’s offerings is the exclusive signing event featuring 50th Anniversary Ban Daisuke merchandise imported from Japan\, a rare opportunity for Kikaida fans to commemorate this iconic milestone. \nEnthusiasts are also encouraged to showcase their creativity at Night Darling’s cosplay contest and partake in various other engaging activities throughout the day. \nIn addition to the guest lineup and activities\, the Kauai Comic Con will feature a diverse array of vendors offering a wide range of merchandise and collectibles. From rare comics and action figures to unique artwork and handmade crafts\, attendees will have the opportunity to explore and purchase items from a variety of vendors. \nMoreover\, as this marks our third event\, it promises to be an exciting experience for both seasoned attendees and first-timers alike\, providing a unique chance to dive into pop culture and hang out with fellow fans. \nAttendees can also enjoy playing retro video games like Pac-Man\, Star Wars\, Dragon’s Lair\, and Street Fighter\, adding to the excitement of the event. \nWhile it’s delightful to see attendees in costumes\, it’s important to emphasize that dressing up is entirely optional. \nAttendees do not need to dress up in cosplay to attend; all are welcome to join in the festivities. \nThe Kauai Comic Con will run from 11 AM to 6 PM\, promising a day full of fun family entertainment. \nTickets will be available for purchase at the door for $25 for adults\, with children aged 12 and under can enjoy complimentary admission when accompanied by a paying adult. \nFor those seeking discounted tickets\, online purchases are available for $17.00 until May 25th. \nFor further details and ticket purchases\, please visit www.KauaiComicConvention.com. \nDon’t miss your chance to be part of this fun celebration of pop culture!
URL:https://kauaiconnect.com/event/kauai-comic-con/
LOCATION:Royal Sonesta Kaua’i Resort\, Rice Street\, Lihue\, Hawaii\, 96766\, United States
CATEGORIES:Celebration,Featured Events,Island Happenings
ATTACH;FMTTYPE=image/jpeg:https://kauaiconnect.com/wp-content/uploads/KCC3poster-6AUCqN.tmp_.jpg
ORGANIZER;CN="aaron yamasato":MAILTO:ayamasato@gmail.com
GEO:21.9620979;-159.3499131
X-APPLE-STRUCTURED-LOCATION;VALUE=URI;X-ADDRESS=Royal Sonesta Kaua’i Resort Rice Street Lihue Hawaii 96766 United States;X-APPLE-RADIUS=500;X-TITLE=Rice Street:geo:-159.3499131,21.9620979
END:VEVENT
BEGIN:VEVENT
DTSTART;TZID=Pacific/Honolulu:20240623T090000
DTEND;TZID=Pacific/Honolulu:20240623T130000
DTSTAMP:20260423T014944
CREATED:20240526T213506Z
LAST-MODIFIED:20240623T172306Z
UID:10000256-1719133200-1719147600@kauaiconnect.com
SUMMARY:Beach House Craft Fair
DESCRIPTION:A beautiful setting in Poipu just outside the Beach House Restaurant in Poipu!  More than 40 vendors offering quality handcrafted items including a wide variety of Kauai Keepsakes\, Clothing\, Jewelry\, Photographs\, Paintings\, Snacks\, and much more with something for everyone!
URL:https://kauaiconnect.com/event/beach-house-craft-fair/
LOCATION:Beach House Restaurant\, 5022 Lawai Rd.\, Koloa\, 96756
CATEGORIES:Island Happenings
ATTACH;FMTTYPE=image/jpeg:https://kauaiconnect.com/wp-content/uploads/Beach-House-Craft-fair-image-TQWnUV.tmp_.jpg
ORGANIZER;CN="Jeannine Marin/Edwin Vea":MAILTO:mailto:jeannine@thebeachhousekauai.com
GEO:21.8811715;-159.4754205
X-APPLE-STRUCTURED-LOCATION;VALUE=URI;X-ADDRESS=Beach House Restaurant 5022 Lawai Rd. Koloa 96756;X-APPLE-RADIUS=500;X-TITLE=5022 Lawai Rd.:geo:-159.4754205,21.8811715
END:VEVENT
END:VCALENDAR