BEGIN:VCALENDAR
VERSION:2.0
PRODID:-//Kauaʻi Connect - ECPv6.15.20//NONSGML v1.0//EN
CALSCALE:GREGORIAN
METHOD:PUBLISH
X-ORIGINAL-URL:https://kauaiconnect.com
X-WR-CALDESC:Events for Kauaʻi Connect
REFRESH-INTERVAL;VALUE=DURATION:PT1H
X-Robots-Tag:noindex
X-PUBLISHED-TTL:PT1H
BEGIN:VTIMEZONE
TZID:Pacific/Honolulu
BEGIN:STANDARD
TZOFFSETFROM:-1000
TZOFFSETTO:-1000
TZNAME:HST
DTSTART:20250101T000000
END:STANDARD
END:VTIMEZONE
BEGIN:VEVENT
DTSTART;TZID=Pacific/Honolulu:20260702T160000
DTEND;TZID=Pacific/Honolulu:20260702T190000
DTSTAMP:20260422T114201
CREATED:20260403T063024Z
LAST-MODIFIED:20260403T063024Z
UID:10002289-1783008000-1783018800@kauaiconnect.com
SUMMARY:Free Hula Show & Craft Fair with Tamatea Nui O Kaua’i Every Thursday
DESCRIPTION:Tamatea Nui O Kaua’i brings to you a FREE Hula Show along with some of the Best Artists and Craft Vendors on Kauai! \nEnjoy a Free Hula show!  Watch the beautiful dancers perform to live Ukulele\, Singing and Talk a Little Story about Hawaiian History and Culture while shopping for Gifts and Souvenirs! \nOpen to Guests and Locals!  This is one of the BEST Events to find that perfect something for yourself or somone on your list\, any time of year!  From Artists to Jewelry\, Wood works to Clothing and Special Treats\, this weekly Fair has everything you need and more! \nEvery Thursday Evening from 4pm tp 7pm with the FREE Hula Show starting at 5:30pm. \nThis is an open to All ages event with Handicap access and is held rain or shine. \nEvent happens in the Lobby of the Hilton Garden Inn\, Wailua Bay  3-5920 Kuhio Highway\, Kapaa \nPull in\, Park and Play!!
URL:https://kauaiconnect.com/event/free-hula-show-craft-fair-with-tamatea-nui-o-kauai-every-thursday-24/
LOCATION:HILTON GARDEN IN WAILUA BAY\, KAPAA KAUAI\, 3-5920 Kuhio Hwy\, KAPAA\, 96746
CATEGORIES:Island Happenings
ATTACH;FMTTYPE=image/png:https://kauaiconnect.com/wp-content/uploads/HILTON-THURSDAY-WEEKLY-PNG-1-M3M52V.png
ORGANIZER;CN="HO&#8217%3BOHIWAHIWAFAIR":MAILTO:hoohiwahiwahgi@gmail.com
GEO:22.0427204;-159.3361068
X-APPLE-STRUCTURED-LOCATION;VALUE=URI;X-ADDRESS=HILTON GARDEN IN WAILUA BAY KAPAA KAUAI 3-5920 Kuhio Hwy KAPAA 96746;X-APPLE-RADIUS=500;X-TITLE=3-5920 Kuhio Hwy:geo:-159.3361068,22.0427204
END:VEVENT
BEGIN:VEVENT
DTSTART;TZID=Pacific/Honolulu:20260709T160000
DTEND;TZID=Pacific/Honolulu:20260709T190000
DTSTAMP:20260422T114201
CREATED:20260410T065928Z
LAST-MODIFIED:20260410T065928Z
UID:10002307-1783612800-1783623600@kauaiconnect.com
SUMMARY:Free Hula Show & Craft Fair with Tamatea Nui O Kaua’i Every Thursday
DESCRIPTION:Tamatea Nui O Kaua’i brings to you a FREE Hula Show along with some of the Best Artists and Craft Vendors on Kauai! \nEnjoy a Free Hula show!  Watch the beautiful dancers perform to live Ukulele\, Singing and Talk a Little Story about Hawaiian History and Culture while shopping for Gifts and Souvenirs! \nOpen to Guests and Locals!  This is one of the BEST Events to find that perfect something for yourself or somone on your list\, any time of year!  From Artists to Jewelry\, Wood works to Clothing and Special Treats\, this weekly Fair has everything you need and more! \nEvery Thursday Evening from 4pm tp 7pm with the FREE Hula Show starting at 5:30pm. \nThis is an open to All ages event with Handicap access and is held rain or shine. \nEvent happens in the Lobby of the Hilton Garden Inn\, Wailua Bay  3-5920 Kuhio Highway\, Kapaa \nPull in\, Park and Play!!
URL:https://kauaiconnect.com/event/free-hula-show-craft-fair-with-tamatea-nui-o-kauai-every-thursday-25/
LOCATION:HILTON GARDEN IN WAILUA BAY\, KAPAA KAUAI\, 3-5920 Kuhio Hwy\, KAPAA\, 96746
CATEGORIES:Island Happenings
ATTACH;FMTTYPE=image/png:https://kauaiconnect.com/wp-content/uploads/HILTON-THURSDAY-WEEKLY-PNG-1-M3M52V.png
ORGANIZER;CN="HO&#8217%3BOHIWAHIWAFAIR":MAILTO:hoohiwahiwahgi@gmail.com
GEO:22.0427204;-159.3361068
X-APPLE-STRUCTURED-LOCATION;VALUE=URI;X-ADDRESS=HILTON GARDEN IN WAILUA BAY KAPAA KAUAI 3-5920 Kuhio Hwy KAPAA 96746;X-APPLE-RADIUS=500;X-TITLE=3-5920 Kuhio Hwy:geo:-159.3361068,22.0427204
END:VEVENT
BEGIN:VEVENT
DTSTART;TZID=Pacific/Honolulu:20260716T160000
DTEND;TZID=Pacific/Honolulu:20260716T190000
DTSTAMP:20260422T114201
CREATED:20260417T071427Z
LAST-MODIFIED:20260417T071427Z
UID:10002324-1784217600-1784228400@kauaiconnect.com
SUMMARY:Free Hula Show & Craft Fair with Tamatea Nui O Kaua’i Every Thursday
DESCRIPTION:Tamatea Nui O Kaua’i brings to you a FREE Hula Show along with some of the Best Artists and Craft Vendors on Kauai! \nEnjoy a Free Hula show!  Watch the beautiful dancers perform to live Ukulele\, Singing and Talk a Little Story about Hawaiian History and Culture while shopping for Gifts and Souvenirs! \nOpen to Guests and Locals!  This is one of the BEST Events to find that perfect something for yourself or somone on your list\, any time of year!  From Artists to Jewelry\, Wood works to Clothing and Special Treats\, this weekly Fair has everything you need and more! \nEvery Thursday Evening from 4pm tp 7pm with the FREE Hula Show starting at 5:30pm. \nThis is an open to All ages event with Handicap access and is held rain or shine. \nEvent happens in the Lobby of the Hilton Garden Inn\, Wailua Bay  3-5920 Kuhio Highway\, Kapaa \nPull in\, Park and Play!!
URL:https://kauaiconnect.com/event/free-hula-show-craft-fair-with-tamatea-nui-o-kauai-every-thursday-26/
LOCATION:HILTON GARDEN IN WAILUA BAY\, KAPAA KAUAI\, 3-5920 Kuhio Hwy\, KAPAA\, 96746
CATEGORIES:Island Happenings
ATTACH;FMTTYPE=image/png:https://kauaiconnect.com/wp-content/uploads/HILTON-THURSDAY-WEEKLY-PNG-1-M3M52V.png
ORGANIZER;CN="HO&#8217%3BOHIWAHIWAFAIR":MAILTO:hoohiwahiwahgi@gmail.com
GEO:22.0427204;-159.3361068
X-APPLE-STRUCTURED-LOCATION;VALUE=URI;X-ADDRESS=HILTON GARDEN IN WAILUA BAY KAPAA KAUAI 3-5920 Kuhio Hwy KAPAA 96746;X-APPLE-RADIUS=500;X-TITLE=3-5920 Kuhio Hwy:geo:-159.3361068,22.0427204
END:VEVENT
BEGIN:VEVENT
DTSTART;TZID=Pacific/Honolulu:20260718T100000
DTEND;TZID=Pacific/Honolulu:20260718T180000
DTSTAMP:20260422T114201
CREATED:20260419T071421Z
LAST-MODIFIED:20260419T071439Z
UID:10002330-1784368800-1784397600@kauaiconnect.com
SUMMARY:Kauai Comic Con 5
DESCRIPTION:The excitement is building as the highly anticipated Kauai Comic Con gears up to take place at the Kauai War Memorial Convention Hall on Saturday\, July 18\, 2026. \nBringing together comics\, movies\, TV\, anime\, toys\, art\, music\, tabletop\, cosplay and video games\, this event promises an unforgettable experience for attendees of all ages. \nIn addition to the special guests lineup and activities\, the Kauai Comic Con will feature a diverse array of vendors offering a wide range of merchandise and collectibles. From rare comics and action figures to unique artwork and handmade crafts\, attendees will have the opportunity to explore and purchase items from a variety of vendors. \nMoreover\, as this marks our fifth event\, it promises to be an exciting experience for both seasoned attendees and first-timers alike\, providing a unique chance to dive into pop culture and hang out with fellow fans. \nAttendees can also enjoy playing retro video games like Pac-Man\, Star Wars\, Dragon’s Lair\, and Street Fighter\, adding to the excitement of the event. \nWhile it’s delightful to see attendees in costumes\, it’s important to emphasize that dressing up is entirely optional. \nAttendees do not need to dress up in cosplay to attend; all are welcome to join in the festivities. \nFor further details\, please visit www.KauaiComicConvention.com. \nDon’t miss your chance to be part of this fun celebration of pop culture!
URL:https://kauaiconnect.com/event/kauai-comic-con-5/
LOCATION:Kauai War Memorial Convention Hall\, 4191 Hardy Street\, Lihue\, 96766
CATEGORIES:Island Happenings
ATTACH;FMTTYPE=image/jpeg:https://kauaiconnect.com/wp-content/uploads/KauaiComicCon5-nQQzDH.jpg
ORGANIZER;CN="aaron yamasato":MAILTO:ayamasato@gmail.com
GEO:21.9733597;-159.3638919
X-APPLE-STRUCTURED-LOCATION;VALUE=URI;X-ADDRESS=Kauai War Memorial Convention Hall 4191 Hardy Street Lihue 96766;X-APPLE-RADIUS=500;X-TITLE=4191 Hardy Street:geo:-159.3638919,21.9733597
END:VEVENT
END:VCALENDAR