BEGIN:VCALENDAR
VERSION:2.0
PRODID:-//Kauaʻi Connect - ECPv6.15.20//NONSGML v1.0//EN
CALSCALE:GREGORIAN
METHOD:PUBLISH
X-WR-CALNAME:Kauaʻi Connect
X-ORIGINAL-URL:https://kauaiconnect.com
X-WR-CALDESC:Events for Kauaʻi Connect
REFRESH-INTERVAL;VALUE=DURATION:PT1H
X-Robots-Tag:noindex
X-PUBLISHED-TTL:PT1H
BEGIN:VTIMEZONE
TZID:Pacific/Honolulu
BEGIN:STANDARD
TZOFFSETFROM:-1000
TZOFFSETTO:-1000
TZNAME:HST
DTSTART:20250101T000000
END:STANDARD
END:VTIMEZONE
BEGIN:VEVENT
DTSTART;TZID=Pacific/Honolulu:20260425T173000
DTEND;TZID=Pacific/Honolulu:20260425T213000
DTSTAMP:20260420T113643
CREATED:20260321T060005Z
LAST-MODIFIED:20260403T062949Z
UID:10002233-1777138200-1777152600@kauaiconnect.com
SUMMARY:Anuhea Concert at The Porter Pavilion\, Anaina Hou Community Park
DESCRIPTION:Anuhea\nAnuhea embodies the perfect blend of talent\, determination\, passion\, and Hawaiian sunshine. A singer-songwriter from Maui\, she has over 15 years of experience in the music industry\, carving out a unique space for herself by combining everything from island reggae\, acoustic soul\, pop\, and even hip-hop into a sound that is honest\, emotional\, and unmistakably her own. \nHer catalogue of self-written songs has garnered multiple Nā Hōkū Hanohano Awards\, including Female Vocalist of the Year in 2019\, and she has been featured on both Grammy-nominated and Grammy-winning albums. However\, referring to her solely as a musician does not capture her full range of talents. Anuhea is also an actor\, graphic designer\, creative director\, merch maker\, tour planner\, website builder\, content creator\, and a full-time mom. From album covers and logos to tour posters and social media visuals\, if you see something with her name on it\, there’s a good chance she created it herself. \nHer latest album\, “Lotus” commemorates 15 years since her debut and reflects the growth\, strength\, and self-discovery that come from forging one’s own path through all of life’s seasons. Anuhea skillfully balances her full-time music career with raising her son\, Ikena Jack\, who began touring with her even before he was born. Additionally\, she gives back to the community through her mental health podcast “Just Keep Jamming”\, her work with local non-profits and mentorship programs\, and her Aloha Always Foundation provides scholarships for Hawai’i students. \nWhether performing on a festival stage or jamming with keiki in a school gym\, Anuhea infuses humility\, humor\, and heart into everything she does. She is not just Hawai‘i’s sweetheart; she is a one-woman creative force with a voice\, a vision\, and a supportive community behind her. \nShow Date\nSaturday\, April 25\, 2026 \nShow Details\n5:30 PM: Doors Open\n6:30 PM: Opener TBD\n7:30 PM: Anuhea \nTimes subject to change. Any changes will be confirmed via email closer to the show date \n\n\n\nWhat’s included\n\nTickets\nAll tickets subject to tax and fees\nGA Tickets $50.00\nDay of Show Tickets $60 if Available \nShow Details and Venue Rules\nThis show is all ages. Children 5 and under free. \nNo outside food or beverage permitted in the venue. Empty bottes to fill with water are encouraged but must be empty upon arrival. No Glass. \nBeverage Concessions both Alcoholic and Non Alcoholic will be available throughout the show. \nFood will be available for purchase on site. The Pavilion Kitchen is open with a full menu of hot meals and snacks. Vegan/ Vegetarian options will be available. \nThis is GA standing room show. We will have some seating sections set up throughout the venue available on a first come first serve basis. \nWe will have some covered raised tables available around the perimeter of the lawned area. \nGonna need seating?? Bring your own! We encourage you to bring your own folding chairs for the lawn. Please note\, folding chairs are not allowed to be set up inside the pavilion. \nDrinking alcohol on property outside of designated areas including in our parking lots is not permitted and will be grounds for immediate removal from property. Please kokua. \nThis event is rain or shine. Please plan accordingly. \nThere will be a light bag search upon entrance. \nShirt and Shoes required for entrance. \nNo Re-Entry \n\n\n\nItinerary\n\n3:00 PM Community Pre-Party Music – Lanai Stage (No Ticket Required)\n5:30 PM Pavilion Doors Open\n6:30 PM Opening Artist TBA\n7:30 PM Anuhea \n\n\nPricing\n\n\n\n\nAdvance Tickets: $50 General Admission Tickets \n$60 At the Door if available
URL:https://kauaiconnect.com/event/anuhea-concert-at-the-porter-pavilion-anaina-hou-community-park/
LOCATION:Anaina Hou Porter Pavilion\, 5-2723 Kuhio Highway\, Kilauea\, 96754
CATEGORIES:Island Happenings
ATTACH;FMTTYPE=image/png:https://kauaiconnect.com/wp-content/uploads/ANUHEA-Facebook-Cover-FbDmgX.png
ORGANIZER;CN="Anaina Hou Community Park":MAILTO:community@anainahou.org
GEO:22.2109763;-159.4160471
X-APPLE-STRUCTURED-LOCATION;VALUE=URI;X-ADDRESS=Anaina Hou Porter Pavilion 5-2723 Kuhio Highway Kilauea 96754;X-APPLE-RADIUS=500;X-TITLE=5-2723 Kuhio Highway:geo:-159.4160471,22.2109763
END:VEVENT
BEGIN:VEVENT
DTSTART;TZID=Pacific/Honolulu:20260425T190000
DTEND;TZID=Pacific/Honolulu:20260425T210000
DTSTAMP:20260420T113643
CREATED:20260408T065909Z
LAST-MODIFIED:20260408T065909Z
UID:10002298-1777143600-1777150800@kauaiconnect.com
SUMMARY:Ray Obiedo’s Latin Jazz Quartet
DESCRIPTION:Never has contemporary jazz guitarist Ray Obiedo’s genuine lifelong affection for the San Francisco Bay Area’s unique musical personality been more clearly evident or remarkably celebrated than in his newest CD “Latin Jazz Project Vol 1”\, released nationwide on the Rhythmus Records label.\n\nEventually launching his own solo recording career on the Windham Hill Jazz label\, Obiedo recorded and released no less than five contemporary jazz albums over the following few years to steadily increasing levels of critical praise and commercial success.\n\nIndeed\, the world of contemporary jazz guitarist Ray Obiedo is a highly energized and hypnotically rhythmic soundscape revealing all the passion\, flavor\, color\, and style of the Northern California region which conceived\, nourished and inspired the musical soul of this fascinating and prolific jazz artist.\n\nRay will perform for one night only on Kauai!
URL:https://kauaiconnect.com/event/ray-obiedos-latin-jazz-quartet/
LOCATION:Kauai Community College  Performing Arts Center\, 3-1901 Kaumualii Hwy\, Lihue\, HI\, 96766\, United States
CATEGORIES:Island Happenings
ATTACH;FMTTYPE=image/jpeg:https://kauaiconnect.com/wp-content/uploads/Ray-Obiedo-Flyer-FINAL-jpg-AaDZUf.jpg
ORGANIZER;CN="Kauai Concert Association":MAILTO:admin@kauai-concert.org
GEO:21.9649125;-159.4213563
X-APPLE-STRUCTURED-LOCATION;VALUE=URI;X-ADDRESS=Kauai Community College  Performing Arts Center 3-1901 Kaumualii Hwy Lihue HI 96766 United States;X-APPLE-RADIUS=500;X-TITLE=3-1901 Kaumualii Hwy:geo:-159.4213563,21.9649125
END:VEVENT
BEGIN:VEVENT
DTSTART;TZID=Pacific/Honolulu:20260501T190000
DTEND;TZID=Pacific/Honolulu:20260501T220000
DTSTAMP:20260420T113643
CREATED:20260408T065911Z
LAST-MODIFIED:20260408T065911Z
UID:10002299-1777662000-1777672800@kauaiconnect.com
SUMMARY:Kauaʻi Community College Wind Symphony and Kauaʻi Youth Honor Band 2026 Spring Concert
DESCRIPTION:Join us for an evening of music with special guest conductor\, CW5 Curtis Hiyane! Hiyane was the band director at Mililani High School and most recently retired as the Commander of the United States Army’s National Guard Bands. He will conduct the Kauaʻi Youth Honor Band\, which is comprised of students from public school band programs on Kauaʻi. He will also conduct the KCC Wind Symphony\, the only concert band ensemble in the University of Hawaiʻi System.\nDate: May 1\, 2026\n\nTime: 7:00 pm\nWhere: Kauaiʻi Community College Performing Arts Center\nCost: FREE! (No tickets required.)\nContact Sarah Tochiki at tochikis@hawaii.edu or 808-387-6772
URL:https://kauaiconnect.com/event/kaua%ca%bbi-community-college-wind-symphony-and-kaua%ca%bbi-youth-honor-band-2026-spring-concert/
LOCATION:Kauai Community College  Performing Arts Center\, 3-1901 Kaumualii Hwy\, Lihue\, HI\, 96766\, United States
CATEGORIES:Island Happenings
ATTACH;FMTTYPE=image/jpeg:https://kauaiconnect.com/wp-content/uploads/Wind-Spring-2026-S4Awkg.jpg
GEO:21.9649125;-159.4213563
X-APPLE-STRUCTURED-LOCATION;VALUE=URI;X-ADDRESS=Kauai Community College  Performing Arts Center 3-1901 Kaumualii Hwy Lihue HI 96766 United States;X-APPLE-RADIUS=500;X-TITLE=3-1901 Kaumualii Hwy:geo:-159.4213563,21.9649125
END:VEVENT
BEGIN:VEVENT
DTSTART;TZID=Pacific/Honolulu:20260509T173000
DTEND;TZID=Pacific/Honolulu:20260509T213000
DTSTAMP:20260420T113643
CREATED:20260321T060016Z
LAST-MODIFIED:20260404T062953Z
UID:10002235-1778347800-1778362200@kauaiconnect.com
SUMMARY:Paula Fuga Concert at the Porter Pavilion\, Anaina Hou Community Park
DESCRIPTION:Show Date\nSaturday\, May 9\, 2026 \nPaula Fuga\nAcclaimed for her originality in song composition and spellbinding\, soulful vocals\, Paula Fuga is one of Hawaii’s top female musicians in generations. \nA poet at heart and an accomplished ukulele player under Master Instructor\, Roy Sakuma\, she has intertwined her passions into award-winning songwriting. Her debut album\, Lilikoi lauded the prestigious Nā Hōkū Hanohano Award for ‘Most Promising Artist.’ Since the release of her EP Misery’s End\, which featured guest appearances by Ziggy Marley and Jack Johnson\, Fuga has headlined the global music circuit and performed on the stages of Madison Square Garden\, The Sydney Opera House Forecourt and is a three-time return guest artist to The White House. \nShow Details\n5:30 PM: Doors Open\n6:30 PM: Music \nTimes subject to change. Any changes will be confirmed via email closer to the show date \n\n\n\nWhat’s included\n\nThis is a tiered ticketing level show with variable pricing for different ticket tiers. \nVIP Pavilion Seating includes access to the front row of seats in the pavilion. The first row of seating will be reserved for VIP Ticket Holders. Seating will be available on a first come first serve basis for VIP ticket holders. All patrons\, regardless of age require a ticket to sit in this section. \nVIP Super Loft includes 8 tickets and access to our raised loft seating area. Seating for this section includes a couch and padded chairs as well as convenient tables for concessions and drinks during the show. This section is located conveniently towards the rear of the pavilion with easy entrance and exit as well as excellent site lines to the stage. \nPavilion Seating includes access to our padded theater chairs on a first come first serve basis. Fully weather protected for a comfortable show experience. All patrons\, regardless of age require a ticket to sit in this section. \nLawn Seating is BYOC (Bring your own chair or blanket). We have some scattered raised seating around the perimeter of the lawn available on a first come first serve basis. Lawn chairs strongly recommended for this ticket tier. \nShow Details and Venue Rules\nThis show is all ages. \nPatrons under 18 years old must be accompanied by an adult. All patrons\, regardless of age require a ticket for Pavilion or VIP tickets. \nChildren 5 and under free on lawn ONLY. \nNo outside food or beverage permitted in the venue. Empty bottes to fill with water are encouraged but must be empty upon arrival. No Glass. \nBeverage Concessions both Alcoholic and Non Alcoholic will be available throughout the show. \nFood will be available for purchase on site. The Pavilion Kitchen is open with a full menu of hot meals and snacks. Vegan/ Vegetarian options will be available. \nWe will have some covered raised tables available around the perimeter of the lawned area. \nGonna need seating?? Bring your own! We encourage you to bring your own folding chairs for the lawn. Please note\, folding chairs are not allowed to be set up inside the pavilion. \nDrinking alcohol on property outside of designated areas including in our parking lots is not permitted and will be grounds for immediate removal from property. Please kokua. \nThis event is rain or shine. Please plan accordingly. \nThere will be a light bag search upon entrance. \nShirt and Shoes required for entrance. \nNo Re-Entry \n\n\n\nWhat’s not included\n\nLawn Tickets do not include seating. Patrons are responsible to provide their own chairs or blankets. \nBeverage Concessions both Alcoholic and Non Alcoholic will be available for purchase throughout the show. \nFood will be available for purchase on site. The Pavilion Kitchen is open with a full menu of hot meals and snacks. Vegan/ Vegetarian options will be available. \n\n\n\nItinerary\n\nShow Details\n5:30 PM: Doors Open\n6:30 PM: Music \nTimes subject to change. Any changes will be confirmed via email closer to the show date \n\n\n\n\n\n\n\nPricing\n\n\n\n\nTickets\nAll tickets subject to tax and fees\nVIP Super Loft (includes 8 Tickets): $560\nVIP Pavilion Seating: $70\nGA Pavilion Seating: $60\nGA Lawn Seating: $40 \nDay of Show Tickets Pricing If Available: $70 Pavilion // $50 Lawn \n**All Patrons regardless of age require a ticket for Pavilion Seating (GA and VIP)
URL:https://kauaiconnect.com/event/paula-fuga-concert-at-the-porter-pavilion-anaina-hou-community-park/
LOCATION:Anaina Hou Porter Pavilion\, 5-2723 Kuhio Highway\, Kilauea\, 96754
CATEGORIES:Island Happenings
ATTACH;FMTTYPE=image/png:https://kauaiconnect.com/wp-content/uploads/2_260509-PaulaFuga_Banner-fyh4SB.png
ORGANIZER;CN="Anaina Hou Community Park":MAILTO:community@anainahou.org
GEO:22.2109763;-159.4160471
X-APPLE-STRUCTURED-LOCATION;VALUE=URI;X-ADDRESS=Anaina Hou Porter Pavilion 5-2723 Kuhio Highway Kilauea 96754;X-APPLE-RADIUS=500;X-TITLE=5-2723 Kuhio Highway:geo:-159.4160471,22.2109763
END:VEVENT
BEGIN:VEVENT
DTSTART;TZID=Pacific/Honolulu:20260510T160000
DTEND;TZID=Pacific/Honolulu:20260510T180000
DTSTAMP:20260420T113643
CREATED:20260408T065913Z
LAST-MODIFIED:20260408T065913Z
UID:10002300-1778428800-1778436000@kauaiconnect.com
SUMMARY:Kauaʻi Community College Symphony Orchestra 2026 Spring Concert\, with the Kauaʻi ʻOpio and Keiki Orchestra
DESCRIPTION:Join us for a special Mother’s Day concert with Kauaʻi’s only Symphony Orchestra. We will perform everything from Vaughn Williams to Brahms to Rossini. We will also feature youth from all over Kauaʻi\, from the Kauaʻi ʻOpio and Keiki Orchestra.\nDate: May 10\, 2026\n\nTime: 4:00 pm\nWhere: Kauaiʻi Community College Performing Arts Center\nCost: FREE! (No tickets required.)\nContact Sarah Tochiki at tochikis@hawaii.edu or 808-387-6772
URL:https://kauaiconnect.com/event/kaua%ca%bbi-community-college-symphony-orchestra-2026-spring-concert-with-the-kaua%ca%bbi-%ca%bbopio-and-keiki-orchestra/
LOCATION:Kauai Comunity College Performing Arts Center\, Lihue\, 96766
CATEGORIES:Island Happenings
ATTACH;FMTTYPE=image/jpeg:https://kauaiconnect.com/wp-content/uploads/Orch-Spring-2026-w9A9nx.jpg
GEO:21.9742235;-159.3672769
END:VEVENT
BEGIN:VEVENT
DTSTART;TZID=Pacific/Honolulu:20260516T000000
DTEND;TZID=Pacific/Honolulu:20260516T235959
DTSTAMP:20260420T113643
CREATED:20260215T091413Z
LAST-MODIFIED:20260420T212852Z
UID:10002109-1778889600-1778975999@kauaiconnect.com
SUMMARY:Kauai Songwriters Music Festival 2026
DESCRIPTION:The Kauai Songwriters Music Festival: May 16\, at the Hilton Garden Inn at  Wailua Bay. The festival includes workshops for songwriters and  a concert on Saturday evening. Tickets to the concert are $40. The workshop fee is $60 and includes a concert ticket. \nTickets \nhttps://www.zeffy.com/en-US/ticketing/kauai-songwriters-music-festival–2026 \n  \nFor more information: https:artskauai.org \nFunded with the support of the Hawaii Tourism Authority and Kauai County
URL:https://kauaiconnect.com/event/kauai-songwriters-music-festival-2026/
LOCATION:Hilton Garden Inn Kauai at Wailua Bay\, 3-5920 Kuhio Hwy\,\, Kapaa\, 96746
CATEGORIES:Celebration,Featured Events,Island Happenings
ATTACH;FMTTYPE=image/jpeg:https://kauaiconnect.com/wp-content/uploads/KSMF-2026c-8.5x11-1-3HPaal.jpg
ORGANIZER;CN="Arts Kauai%2C DBA Kauai Songwriters":MAILTO:terry@artskauai.org
GEO:22.0427204;-159.3361068
X-APPLE-STRUCTURED-LOCATION;VALUE=URI;X-ADDRESS=Hilton Garden Inn Kauai at Wailua Bay 3-5920 Kuhio Hwy Kapaa 96746;X-APPLE-RADIUS=500;X-TITLE=3-5920 Kuhio Hwy\,:geo:-159.3361068,22.0427204
END:VEVENT
END:VCALENDAR