BEGIN:VCALENDAR
VERSION:2.0
PRODID:-//Kauaʻi Connect - ECPv6.15.20//NONSGML v1.0//EN
CALSCALE:GREGORIAN
METHOD:PUBLISH
X-ORIGINAL-URL:https://kauaiconnect.com
X-WR-CALDESC:Events for Kauaʻi Connect
REFRESH-INTERVAL;VALUE=DURATION:PT1H
X-Robots-Tag:noindex
X-PUBLISHED-TTL:PT1H
BEGIN:VTIMEZONE
TZID:Pacific/Honolulu
BEGIN:STANDARD
TZOFFSETFROM:-1000
TZOFFSETTO:-1000
TZNAME:HST
DTSTART:20230101T000000
END:STANDARD
END:VTIMEZONE
BEGIN:VEVENT
DTSTART;TZID=Pacific/Honolulu:20260418T083000
DTEND;TZID=Pacific/Honolulu:20260418T130000
DTSTAMP:20260419T104218
CREATED:20260328T061412Z
LAST-MODIFIED:20260403T062922Z
UID:10002257-1776501000-1776517200@kauaiconnect.com
SUMMARY:Earth Day in Lydgate Beach Park
DESCRIPTION:Friends of Kamalani and Lydgate Park\nA Community of Friends Preserving & Maintaining Lydgate Beach Park \n  \nEach and every April\, we celebrate Earth Day with a park-wide community workday event at Lydgate Beach Park. \nJoin Us Saturday\, April 18th\, 2026\, for our annual Earth Day Event at Lydgate Park. Sign-in as usual in the Main Pavilion. Please let us know you plan to attend so we can set up our work crews and prepare plenty of food & snacks. Complete the form HERE. \nWe’ll conduct a bicycle tour of Ke Ala Hele Makalae. If this appeals to you\, please bring your own bike\, and sign up for the tour here. \nAs always\, a delicious lunch will be served at the end of our workday\, and we hope you will plan to stay and enjoy that with us.
URL:https://kauaiconnect.com/event/earth-day-in-lydgate-beach-park/
LOCATION:Lydgate Park Main Pavilion\, Leho Drive\, Lihue\, Kauai\, 96766
CATEGORIES:Island Happenings
ATTACH;FMTTYPE=image/jpeg:https://kauaiconnect.com/wp-content/uploads/FOKLP-Earth-Day-2026-mjLpQV.jpg
ORGANIZER;CN="Friends of Kamalani &amp%3B Lydgate Park":MAILTO:friendsofkamalani@gmail.com
GEO:22.0391005;-159.3378148
X-APPLE-STRUCTURED-LOCATION;VALUE=URI;X-ADDRESS=Lydgate Park Main Pavilion Leho Drive Lihue Kauai 96766;X-APPLE-RADIUS=500;X-TITLE=Leho Drive:geo:-159.3378148,22.0391005
END:VEVENT
BEGIN:VEVENT
DTSTART;TZID=Pacific/Honolulu:20260324T150000
DTEND;TZID=Pacific/Honolulu:20260324T190000
DTSTAMP:20260419T104218
CREATED:20260307T024445Z
LAST-MODIFIED:20260324T055904Z
UID:10002156-1774364400-1774378800@kauaiconnect.com
SUMMARY:Guided Sunset Cart Tour
DESCRIPTION:Friends of Kauaʻi Wildlife Refuges will present a “Guided Sunset Cart Tour” fundraising event on Tuesday\, March 24\, 2026. Guests will enjoy a guided tour of Princeville Makai Golf Course – which is rated the 5th Most Scenic in the world by National Geographic. \nTickets are $150 and include two admissions for a guided tour of Princeville Makai Golf Course\, one golf cart\, two free drinks and complimentary pupu\, and the opportunity to learn about our native wildlife and three local national wildlife refuges. \nProceeds will support Friends of Kauaʻi Wildlife Refuges and make a difference in local wildlife education\, conservation and preservation programs. For more information or to purchase tickets\, visit http://www.fkwr.org or call 808-828-0384.
URL:https://kauaiconnect.com/event/guided-sunset-cart-tour-2/
LOCATION:Princeville Makai Golf Course\, 4080 Lei O Papa\, Princeville\, HI\, 96722\, United States
CATEGORIES:Island Happenings
ATTACH;FMTTYPE=image/png:https://kauaiconnect.com/wp-content/uploads/Guided-Sunset-Cart-Tour-Event-Flyer-as-of-3.03.26-DVLKsU.png
ORGANIZER;CN="Friends of Kauai Wildlife Refuges":MAILTO:info@kilaueapoint.org
GEO:22.2228711;-159.4681506
X-APPLE-STRUCTURED-LOCATION;VALUE=URI;X-ADDRESS=Princeville Makai Golf Course 4080 Lei O Papa Princeville HI 96722 United States;X-APPLE-RADIUS=500;X-TITLE=4080 Lei O Papa:geo:-159.4681506,22.2228711
END:VEVENT
BEGIN:VEVENT
DTSTART;TZID=Pacific/Honolulu:20251206T090000
DTEND;TZID=Pacific/Honolulu:20251206T150000
DTSTAMP:20260419T104218
CREATED:20251105T071524Z
LAST-MODIFIED:20251206T125905Z
UID:10001835-1765011600-1765033200@kauaiconnect.com
SUMMARY:Little Pea’s Holiday Market
DESCRIPTION:Little Pea’s Holiday Market and Kauai Hospice Fundraiser \nWhere:  Kauai Philippine Cultural Center in Puhi (behind the YMCA Pool)  \nWhen:  Saturday December 6\, 2025 \nTime: 9am-3pm  \n  \nWe would like to invite everyone to our annual Holiday Market and Kauai Hospice Fundraiser. Join us for a heartwarming day of creativity\, community\, and compassion. Discover unique handmade crafts\, jewelry\, fashion\, and seasonal gifts designed and created by talented artisans and small businesses. Our Silent Auction and Country Market sales will support the Kauai Hospice in  providing care services\, comfort\, and dignity to patients and families in need. \nWe look forward to seeing you there! \n  \nEvent Highlights: \nLocal Kauai Small Businesses \nRaffle prizes \nSilent Auction \nCountry Market \nRefreshments and baked goods \nAdmission: Free entry — donations welcome. \nAll donations benefit the Kauai Hospice.  \n  \nThank you to all of our Participating Vendors: \n\nKauai Bonsai Club\nMalulani Kauai\, LLC\nRKG Ohana\nSarah’s Cash Stash\nAnela + Malie\nElena  Camat\nSuesue Okada\nTempl Brand\nLittle Pea in the Pod\nMade By Malia\nT & J Kreations\nScrappy Designs\nAloha Edible Souvenirs & Gifts\, LLC \nHokulani Creations\nShiprek Hawaii\nJules From Da Aina\nHawaii Kine Products\nPele Jele & Friends \nCrochet808\nCelina’s Closet\nKeiara’s Delightful Sips\nStan’s Flying Saucers\nKauai Menehune Kitchen\nMakuahine.hana\nMalama Tingz\nHinali’i\nU’i Mau Loa\nNoelani Kauai\nAloha Creations by Ams\nSaintly Succulents\nSugarcane Stitches\nAtria\nDesserts before Dindin\nTropical Tipsies\nWailua Sushi\nJBBQ Kauai\nBaja Chalupas 3 LLC\n\n  \nMahalo to our Silent Auction Donors: \n\nIsland Soap & Candle Works\nCaptain Andy’s Sailing Adventures\nKauai Chocolate Company\, LLC\nKoloa Pizza Kitchen\nNā Pali Catamaran\nKipu Ranch Adventures\nRoyal Sonesta\n\nMahalo to our Event Set-Up Crew and Volunteers: \n\nUncle Ricky- Audio and Sounds\nSamantha “NT Sammy” Jacinto\nNelson- Parking\n\n 
URL:https://kauaiconnect.com/event/little-peas-holiday-market/
LOCATION:Kauai Philippine Cultural Center Puhi\, Lihue Next to YMCA\, Lihue\, 96766
CATEGORIES:Island Happenings,Market
ATTACH;FMTTYPE=image/png:https://kauaiconnect.com/wp-content/uploads/2025-LPP-Market-Banner-1-scaled-nqh9JZ.png
ORGANIZER;CN="Peach":MAILTO:kauaiultrasound@gmail.com
GEO:21.9742235;-159.3672769
X-APPLE-STRUCTURED-LOCATION;VALUE=URI;X-ADDRESS=Kauai Philippine Cultural Center Puhi Lihue Next to YMCA Lihue 96766;X-APPLE-RADIUS=500;X-TITLE=Lihue Next to YMCA:geo:-159.3672769,21.9742235
END:VEVENT
BEGIN:VEVENT
DTSTART;TZID=Pacific/Honolulu:20251108T000000
DTEND;TZID=Pacific/Honolulu:20251114T235959
DTSTAMP:20260419T104218
CREATED:20251007T235547Z
LAST-MODIFIED:20251108T074406Z
UID:10001783-1762560000-1763164799@kauaiconnect.com
SUMMARY:ART EXHIBIT – WINGS AND WOODLANDS: A TRIBUTE TO NATIVE BIRDS AND FORESTS
DESCRIPTION:🌿 Wings and Woodlands: 2025 Art Exhibit\nKaua‘i Society of Artists Gallery | Kukui Grove Center📅 Exhibit Dates: November 8–14\, 2025🎉 Opening Reception: November 7\, 2025 \nCelebrate Hawai‘i’s manu (native birds) through the eyes of local artists! The Kaua‘i Forest Bird Recovery Project and Birds Not Mosquitoes have joined forces with the Kaua‘i Endangered Seabird Recovery Project and Trees for Honolulu’s Future to present Wings and Woodlands\, a weeklong community art exhibit dedicated to the beauty and importance of Hawai‘i’s forest and seabirds. \nVisitors will experience a vibrant mix of paintings\, sculptures\, photographs\, featherwork\, and mixed media pieces — all inspired by the native birds that call Hawai‘i home. From the crimson ‘i‘iwi to the elusive puaiohi\, each artwork tells a story of resilience\, connection\, and hope for our island ecosystems. \nThis exhibit isn’t just about art — it’s about awareness\, conservation\, and celebrating the deep bond between our native forests\, birds\, and people. \n✨ Why You Should Come: \n\n\nImmerse yourself in stunning art that captures the spirit of Hawai‘i’s unique wildlife. \n\n\nLearn how artists and conservationists are working together to protect endangered species. \n\n\nMeet the artists\, conservation teams\, and community partners at the opening reception. \n\n\nSupport local creativity and conservation — proceeds from artwork sales help protect native birds and their habitats. \n\n\nWhether you’re an art lover\, nature enthusiast\, or simply looking for an inspiring local event\, Wings and Woodlands offers something for everyone. Come see how creativity takes flight — and leave with a deeper appreciation for the beautiful birds that make our islands unique. \n🐦 Mahalo to all the artists and community members helping to celebrate and protect Hawai‘i’s incredible manu!
URL:https://kauaiconnect.com/event/art-exhibit-wings-and-woodlands-a-tribute-to-native-birds-and-forests/
LOCATION:Kauai Society of Artists\, 2600 Kaumualii Hwy #3\, Lihue\, 96766
CATEGORIES:Island Happenings
ATTACH;FMTTYPE=image/jpeg:https://kauaiconnect.com/wp-content/uploads/10-ecm1S4.jpg
ORGANIZER;CN="Kauai Forest Bird Recovery Project":MAILTO:mindy.gipson@librarieshawaii.org
GEO:21.969756;-159.3786872
X-APPLE-STRUCTURED-LOCATION;VALUE=URI;X-ADDRESS=Kauai Society of Artists 2600 Kaumualii Hwy #3 Lihue 96766;X-APPLE-RADIUS=500;X-TITLE=2600 Kaumualii Hwy #3:geo:-159.3786872,21.969756
END:VEVENT
BEGIN:VEVENT
DTSTART;TZID=Pacific/Honolulu:20251011T163000
DTEND;TZID=Pacific/Honolulu:20251011T203000
DTSTAMP:20260419T104218
CREATED:20250905T215629Z
LAST-MODIFIED:20251011T015424Z
UID:10001722-1760200200-1760214600@kauaiconnect.com
SUMMARY:PAWS for Celebration
DESCRIPTION:🎭 PAWS for Celebration 2025 – Laissez les bons temps rouler for the dogs and cats!🎭 \n \nThe Kaua‘i Humane Society is thrilled to invite you to our fourth annual onsite PAWS for Celebration gala — and this year\, we’re bringing the spirit of Mardi Gras to the shelter!\n\n📅 Date: Saturday\, October 11\, 2025 \n🕔 Time: 5:00 P.M. – 8:15 P.M. \n📍 Location: Kaua‘i Humane Society \n \nSlip into your most festive Mardi Gras attire and join us for an unforgettable evening of celebration\, music\, and compassion. As we reflect on our accomplishments and share our vision for the future of animal welfare on Kaua‘i\, you’ll enjoy:\n 🎶 Live music to get you grooving\n 🍽️ Delicious food and drinks\n 🐾 Meet-and-greets with some of our adorable shelter animals\n 🎁 Live and silent auctions with amazing items and experiences\n 🎉 Mardi Gras-themed fun and surprises all night long!\n\nDoors open at 5:00 P.M.\, and your ticket includes access to all the festivities. Can’t join us in person? No worries — our silent auction will also be available online so everyone can take part in the celebration and support our mission.\n\nWe can’t wait to celebrate with you and show how your support makes a difference for the animals of Kaua‘i.\nMark your calendars for Saturday\, October 11 — let the good times roll!
URL:https://kauaiconnect.com/event/paws-for-celebration/
LOCATION:Kauai Humane Society\, Puhi\, HI\, United States
CATEGORIES:Celebration,Featured Events,Island Happenings
ATTACH;FMTTYPE=image/jpeg:https://kauaiconnect.com/wp-content/uploads/PAWS-2025-flyer-cCUIF5.jpg
ORGANIZER;CN="Kauai Humane":MAILTO:suport@kauaihumane.org
GEO:21.9669593;-159.3957205
END:VEVENT
BEGIN:VEVENT
DTSTART;TZID=Pacific/Honolulu:20250530T190000
DTEND;TZID=Pacific/Honolulu:20250530T210000
DTSTAMP:20260419T104218
CREATED:20250313T160551Z
LAST-MODIFIED:20250530T221853Z
UID:10001383-1748631600-1748638800@kauaiconnect.com
SUMMARY:Jason Blake: Exposed!
DESCRIPTION:This event is a fundraiser for Kauai Concert Association and Kauai Pride. \n  \nJoin Kauai’s own Jason Blake in an evening of songs\, stories and friends as we prepare for Pride month. \n  \nA live band consisting of: \nRose Alfiler\, Piano \nRon Margolis\, Drums \nPaul Koulbanis\, Guitar \nMike Latif\, Bass \nKaycee Milne\, Violin \nBarry Toy\, Trumpet \nVoice teacher Dolly Kanekuni and James Norman from The Quake will also be guest vocalists. \n  \nJason will sing both favorite songs you’ll sing along to along with a few songs you’ve never heard. He’ll sing duets with both a female and male guest and share funny and touching stories from his life and coming out.  Genres will range from pop to country to Broadway! \n  \nThe band will be paid as professionals but all singers are donating their talents for this cause. \n  \nAll profits will be equally divided between Kauai Concert Association and Kauai Pride. \n  \nOne night only and you don’t want to miss this once in a decade event!
URL:https://kauaiconnect.com/event/jason-blake-exposed/
LOCATION:KCC Performing Arts Center\, Lihue\, HI\, 96766\, United States
CATEGORIES:Island Happenings
ATTACH;FMTTYPE=image/jpeg:https://kauaiconnect.com/wp-content/uploads/IMG_6789-1-DWa8an.jpg
ORGANIZER;CN="Kauai Concert Association":MAILTO:admin@kauai-concert.org
GEO:21.9649125;-159.4213563
END:VEVENT
BEGIN:VEVENT
DTSTART;TZID=Pacific/Honolulu:20241228T183000
DTEND;TZID=Pacific/Honolulu:20241228T210000
DTSTAMP:20260419T104218
CREATED:20241211T070419Z
LAST-MODIFIED:20241228T100428Z
UID:10001224-1735410600-1735419600@kauaiconnect.com
SUMMARY:Red Carpet MOVIE NIGHT – “Too Much Life” A Kauai-Made Feature Film
DESCRIPTION:Get ready for an unforgettable evening movie experience! Join us for a special screening of Too Much Life\, an all Kauai made feature length movie. This movie is RATED G so all ages are welcome! This is your chance to enjoy the big screen at the newly renovated KCC Performing Arts Center! Grab your friends and family and let’s make it a night to remember! 🎉\n📅 Date: December 28th 2024\n🕒 Time: 7:00 PM (Doors open at 6:30pm)\n📍 Location: Kauai Community College Performing Arts Center\n🎉 What to Expect:\n• 🍿 Delicious snacks & refreshments available for purchase.\n• 🎟️ Exciting giveaway prizes for attendees.\n• 🌙 A laid-back atmosphere to enjoy with family and friends.\n✨ Tickets are limited—reserve yours now before they’re gone!
URL:https://kauaiconnect.com/event/red-carpet-movie-night-too-much-life-a-kauai-made-feature-film/
LOCATION:KCC Performing Arts Center\, Lihue\, HI\, 96766\, United States
CATEGORIES:Island Happenings
ATTACH;FMTTYPE=image/jpeg:https://kauaiconnect.com/wp-content/uploads/TML-Movie-Poster-8x11-1-scaled-fb0KXP.tmp_.jpg
ORGANIZER;CN="Kauai Film Academy":MAILTO:elliot@kauaifilmacademy.org
GEO:21.9649125;-159.4213563
END:VEVENT
BEGIN:VEVENT
DTSTART;TZID=Pacific/Honolulu:20241130T090000
DTEND;TZID=Pacific/Honolulu:20241130T150000
DTSTAMP:20260419T104218
CREATED:20241113T065536Z
LAST-MODIFIED:20241130T041935Z
UID:10000710-1732957200-1732978800@kauaiconnect.com
SUMMARY:Little Pea’s Holiday Craft Fair
DESCRIPTION:It’s time for Little Pea’s Annual Holiday Craft Fair! \nPlease be sure to join us at the Kauai Philippine Cultural Center (located behind the YMCA Pool in Puhi) on Saturday November 30\, 2024 from 9am-3pm. This event will be having a Silent Auction and a Lucky Drawing to help raise funds for the Kauai Hospice. The Silent Auction will be held from 9am to 2pm. The Lucky Drawing will be hosted by the Kauai Bonsai Club. They will have various plants on display\, plants for sale\, and also plants being given away through the Lucky Drawing. This is a must see! \nThere will also be over 35 local Kauai Crafters and Small Businesses selling their amazing products. We are one of the big craft events at the start of the Holiday Season and you will want to stop by and purchase your gifts from our local vendors before they sell out. Here is the line up so far: \n  \n\nLei Love Boutique\nScrappy Designs\nMade by Malia\nTNJ Kreations\nAloha Edible Souvenirs & Gifts\nRKG Ohana Creations\nMini Me & Co. Kauai\nShiprek Hawaii\nYoshiko Kauai\nTempl Brand\nCrochet 808\nSueSue’s Crafts\nPele Jele & Friends\nKamele Kreations\nElena’s Gourmet Pretzels\nCelina’s Closet\nʻĀina Organics\nHapa House\nMy Happy Place\nPololu Ukulele LLC\nKauai Bonsai Club\nHokulani Creations\nMalulani Kauai\, LLC\nHawaii Kine Products\nJules From Da Aina\nSisters Goodies Crystals\, LLC\nJust Jord Designs\nXO\, Mama\nHigh Vision Clothing\nHapa Keiki Threads\nPrecious & Things\, LLC\nWhip It Lures\nSimply Mele\nAunty Manapua\nKaulele Designs by Moana Rae\nPaisley and Hunter\nLittle Pea in the Pod\, LLC\nAnela + Malie\nSarah’s Cash Stash\nKauai High School Key Club\nThe Tiny Wahine\nMakuahine Hana
URL:https://kauaiconnect.com/event/little-peas-holiday-craft-fair/
LOCATION:Kauai Philippine Cultural Center Puhi\, Lihue Next to YMCA\, Lihue\, 96766
CATEGORIES:Island Happenings
ATTACH;FMTTYPE=image/png:https://kauaiconnect.com/wp-content/uploads/2024-Updated-LPP-Market-Banner-PNG-YpgiaH.tmp_.png
ORGANIZER;CN="Little Pea in the Pod":MAILTO:kauaiultrasound@gmail.com
GEO:21.9742235;-159.3672769
X-APPLE-STRUCTURED-LOCATION;VALUE=URI;X-ADDRESS=Kauai Philippine Cultural Center Puhi Lihue Next to YMCA Lihue 96766;X-APPLE-RADIUS=500;X-TITLE=Lihue Next to YMCA:geo:-159.3672769,21.9742235
END:VEVENT
BEGIN:VEVENT
DTSTART;TZID=Pacific/Honolulu:20241026T080000
DTEND;TZID=Pacific/Honolulu:20241026T100000
DTSTAMP:20260419T104218
CREATED:20241016T051906Z
LAST-MODIFIED:20241026T053327Z
UID:10000661-1729929600-1729936800@kauaiconnect.com
SUMMARY:Hilloween 5K Trail Run & Keiki Trick-or-Treat Run
DESCRIPTION:The 5K Trail Run is an exciting off-road course with spooky hills\, creepy obstacles\, and magnificent views of the south shore of Kauai.  The course is no longer than 3.1 miles.  The wearing of costumes is STRONGLY encouraged.  Feel free to run fast and try to win the race\, but please understand the best PRIZES are awarded to the best COSTUMES!  Register early – Only the first 100 trail runners to sign up are guaranteed a stylish event T-shirt! \n*Any child 12 and under who registers for the 5K can participate in the Keiki Trick-or-Treat Run for no additional charge* \nThe Hilloween 5K run is free for any KIF high school cross country team member\, or half price ($20) if you wish to receive an event T-shirt. \nThe Keiki Trick-Or-Treat Run is for kids aged 0-12.  It is a short\, easy off-road course with trick-or-treat stations along the way.  All participants receive a Hilloween tote bag to haul their goodies. Just arrive in costume and run!
URL:https://kauaiconnect.com/event/hilloween-5k-trail-run-keiki-trick-or-treat-run/
LOCATION:Omao Flat Track\, Omao\, HI\, 96756\, United States
CATEGORIES:Island Happenings
ORGANIZER;CN="Kauai Ballet Academy":MAILTO:kauaiballetacademy@gmail.com
END:VEVENT
BEGIN:VEVENT
DTSTART;TZID=Pacific/Honolulu:20240907T190000
DTEND;TZID=Pacific/Honolulu:20240907T210000
DTSTAMP:20260419T104218
CREATED:20240609T232001Z
LAST-MODIFIED:20240907T024830Z
UID:10000296-1725735600-1725742800@kauaiconnect.com
SUMMARY:KCA’s 50th Anniversary Celebration Concert: The Planets
DESCRIPTION:KCA celebrates its 50th Anniversary with a never-been-done-on-Kauai performance of Gustav Holstʻs\, The Planets\, arranged by George Morton for chamber orchestra.\n\nJoin us for this exciting collaboration between professional Kauai and Hawaii Symphony Orchestra musicians.\n\nThey will be conducted by the internationally acclaimed conductor\, Tito Muñoz.\n\nConcert will begin with an opening proclamation by Mayor Derek Kawakami to commemorate KCA’s 50th season.\n\nGeneral admission tickets on sale.  VIP tickets include premium seating and a backstage reception with the artists after the concert\, limited to 100 VIP tickets.\n\nIf you’d like to be a tax-deductible sponsor of this event\, click here to find out more: https://docs.google.com/forms/d/e/1FAIpQLSdeZSvh8junh0qIQl6OIdpnvYHCG2vgvESkP1SxkfGbyn2p7A/viewform?fbclid=IwZXh0bgNhZW0CMTAAAR0_mycB89c6isNCGKGA-0yvNSTJIGjQCyQ3Q6qw8vUhc0sBD_4mYALauDs_aem_ATHQc_FmiATqs8elDBUeobPmBE9A4qeMCFZTzJuxGk7v0WjnzVk2t3o483k3CiEABLwV-ePvyGM3uC1ikrlyyG2z
URL:https://kauaiconnect.com/event/kcas-50th-anniversary-celebration-concert-the-planets/
LOCATION:KCC Performing Arts Center\, Lihue\, HI\, 96766\, United States
CATEGORIES:Island Happenings
ATTACH;FMTTYPE=image/jpeg:https://kauaiconnect.com/wp-content/uploads/The-Planets-Flyer-FINAL-jBzLhk.tmp_.jpg
ORGANIZER;CN="Kauai Concert Association":MAILTO:admin@kauai-concert.org
GEO:21.9649125;-159.4213563
END:VEVENT
END:VCALENDAR