BEGIN:VCALENDAR
VERSION:2.0
PRODID:-//Kauaʻi Connect - ECPv6.15.20//NONSGML v1.0//EN
CALSCALE:GREGORIAN
METHOD:PUBLISH
X-ORIGINAL-URL:https://kauaiconnect.com
X-WR-CALDESC:Events for Kauaʻi Connect
REFRESH-INTERVAL;VALUE=DURATION:PT1H
X-Robots-Tag:noindex
X-PUBLISHED-TTL:PT1H
BEGIN:VTIMEZONE
TZID:Pacific/Honolulu
BEGIN:STANDARD
TZOFFSETFROM:-1000
TZOFFSETTO:-1000
TZNAME:HST
DTSTART:20240101T000000
END:STANDARD
END:VTIMEZONE
BEGIN:VTIMEZONE
TZID:UTC
BEGIN:STANDARD
TZOFFSETFROM:+0000
TZOFFSETTO:+0000
TZNAME:UTC
DTSTART:20240101T000000
END:STANDARD
END:VTIMEZONE
BEGIN:VEVENT
DTSTART;TZID=Pacific/Honolulu:20260327T183000
DTEND;TZID=Pacific/Honolulu:20260327T203000
DTSTAMP:20260419T160735
CREATED:20260226T081448Z
LAST-MODIFIED:20260327T114355Z
UID:10002133-1774636200-1774643400@kauaiconnect.com
SUMMARY:Ohana Movie Night: Zootopia 2
DESCRIPTION:Join us at the Palm Court for a relaxing evening under the stars! Enjoy a family-friendly movie in an open-air setting\, complete with complimentary snacks and refreshments.\nThe movie will begin at sunset\, weather permitting.
URL:https://kauaiconnect.com/event/ohana-movie-night-zootopia-2/
LOCATION:Palm Court
CATEGORIES:Special Events and Promotions
ATTACH;FMTTYPE=image/jpeg:https://kauaiconnect.com/wp-content/uploads/Zootopia_2_Postponed-VXKJfw.jpg
END:VEVENT
BEGIN:VEVENT
DTSTART;TZID=Pacific/Honolulu:20260220T173000
DTEND;TZID=Pacific/Honolulu:20260220T183000
DTSTAMP:20260419T160735
CREATED:20241225T080521Z
LAST-MODIFIED:20260220T074755Z
UID:10001245-1771608600-1771612200@kauaiconnect.com
SUMMARY:Lunar New Year
DESCRIPTION:Lunar New Year\nFriday\, February 20th\, 5:30 pm – 6:30 pm \nJoin us in the Palm Court at The Shops at Kukuiʻula for a Lunar New Year Celebration welcoming the Year of the Horse\, featuring firecrackers\, a Lion Dance\, and Taiko drum performances by Tsunami Taiko.
URL:https://kauaiconnect.com/event/flavors-of-kukuiula-lunar-new-year/
LOCATION:Palm Court
CATEGORIES:Special Events,Special Events and Promotions
ATTACH;FMTTYPE=image/jpeg:https://kauaiconnect.com/wp-content/uploads/IMG_8661-scaled-UivmQy.jpg
END:VEVENT
BEGIN:VEVENT
DTSTART;TZID=Pacific/Honolulu:20251224T143000
DTEND;TZID=Pacific/Honolulu:20251224T163000
DTSTAMP:20260419T160735
CREATED:20251126T032912Z
LAST-MODIFIED:20251224T044350Z
UID:10001893-1766586600-1766593800@kauaiconnect.com
SUMMARY:Visit with Santa
DESCRIPTION:Visit with Santa\nWednesday\, December 24th at 2:30-4:30pm \nYour minimum donation of 5 canned goods or $10 cash will benefit Kaua’i Independent Food Bank’s annual Holiday Food Drive. No reservations necessary.
URL:https://kauaiconnect.com/event/visit-with-santa-9/
LOCATION:Palm Court
CATEGORIES:Special Events,Special Events and Promotions
ATTACH;FMTTYPE=image/jpeg:https://kauaiconnect.com/wp-content/uploads/Visit_with_Santa-scaled-1Mhxt0.jpg
END:VEVENT
BEGIN:VEVENT
DTSTART;TZID=Pacific/Honolulu:20251217T160000
DTEND;TZID=Pacific/Honolulu:20251217T180000
DTSTAMP:20260419T160735
CREATED:20251126T032911Z
LAST-MODIFIED:20251217T041501Z
UID:10001892-1765987200-1765994400@kauaiconnect.com
SUMMARY:Visit with Santa
DESCRIPTION:Visit with Santa\nWednesday\, December 17th at 4-6pm \nYour minimum donation of 5 canned goods or $10 cash will benefit Kaua’i Independent Food Bank’s annual Holiday Food Drive. No reservations necessary.
URL:https://kauaiconnect.com/event/visit-with-santa-8/
LOCATION:Palm Court
CATEGORIES:Special Events,Special Events and Promotions
ATTACH;FMTTYPE=image/jpeg:https://kauaiconnect.com/wp-content/uploads/Visit_with_Santa-scaled-1Mhxt0.jpg
END:VEVENT
BEGIN:VEVENT
DTSTART;TZID=Pacific/Honolulu:20251212T180000
DTEND;TZID=Pacific/Honolulu:20251212T200000
DTSTAMP:20260419T160735
CREATED:20251126T032910Z
LAST-MODIFIED:20251212T041524Z
UID:10001891-1765562400-1765569600@kauaiconnect.com
SUMMARY:Visit with Santa
DESCRIPTION:Visit with Santa\nFriday\, December 12th at 6-8pm \nYour minimum donation of 5 canned goods or $10 cash will benefit Kaua’i Independent Food Bank’s annual Holiday Food Drive. No reservations necessary.
URL:https://kauaiconnect.com/event/visit-with-santa-7/
LOCATION:Palm Court
CATEGORIES:Special Events,Special Events and Promotions
ATTACH;FMTTYPE=image/jpeg:https://kauaiconnect.com/wp-content/uploads/Visit_with_Santa-scaled-1Mhxt0.jpg
END:VEVENT
BEGIN:VEVENT
DTSTART;TZID=Pacific/Honolulu:20251212T180000
DTEND;TZID=Pacific/Honolulu:20251212T200000
DTSTAMP:20260419T160735
CREATED:20241116T070624Z
LAST-MODIFIED:20251212T041524Z
UID:10000719-1765562400-1765569600@kauaiconnect.com
SUMMARY:Keiki Holiday Bash
DESCRIPTION:Keiki Holiday Bash\nFriday\, Dec 12th \nCelebrate the holidays at The Shops at Kukui’ula with this festive event! Decorate your very own cookie\, face painting\, make s’mores and enjoy a fun scavenger hunt. And don’t miss a special visit with Santa – your minimum donation of 5 canned goods or $10 cash will benefit Kaua’i Independent Food Bank’s annual Holiday Food Drive.
URL:https://kauaiconnect.com/event/keiki-holiday-bash/
CATEGORIES:Special Events,Special Events and Promotions
ATTACH;FMTTYPE=image/jpeg:https://kauaiconnect.com/wp-content/uploads/Keiki-Bash-scaled-W9Pa3y.jpg
END:VEVENT
BEGIN:VEVENT
DTSTART;TZID=Pacific/Honolulu:20251210T160000
DTEND;TZID=Pacific/Honolulu:20251210T180000
DTSTAMP:20260419T160735
CREATED:20251126T032909Z
LAST-MODIFIED:20251210T035910Z
UID:10001890-1765382400-1765389600@kauaiconnect.com
SUMMARY:Visit with Santa
DESCRIPTION:Visit with Santa\nWednesday\, December 10th at 4-6pm \nYour minimum donation of 5 canned goods or $10 cash will benefit Kaua’i Independent Food Bank’s annual Holiday Food Drive. No reservations necessary.
URL:https://kauaiconnect.com/event/visit-with-santa-6/
LOCATION:Palm Court
CATEGORIES:Special Events,Special Events and Promotions
ATTACH;FMTTYPE=image/jpeg:https://kauaiconnect.com/wp-content/uploads/Visit_with_Santa-scaled-1Mhxt0.jpg
END:VEVENT
BEGIN:VEVENT
DTSTART;TZID=Pacific/Honolulu:20251203T160000
DTEND;TZID=Pacific/Honolulu:20251203T180000
DTSTAMP:20260419T160735
CREATED:20251126T032908Z
LAST-MODIFIED:20251203T034454Z
UID:10001889-1764777600-1764784800@kauaiconnect.com
SUMMARY:Visit with Santa
DESCRIPTION:Visit with Santa\nWednesday\, December 3rd at 4-6pm \nYour minimum donation of 5 canned goods or $10 cash will benefit Kaua’i Independent Food Bank’s annual Holiday Food Drive. No reservations necessary.
URL:https://kauaiconnect.com/event/visit-with-santa-5/
LOCATION:Palm Court
CATEGORIES:Special Events,Special Events and Promotions
ATTACH;FMTTYPE=image/jpeg:https://kauaiconnect.com/wp-content/uploads/Visit_with_Santa-scaled-1Mhxt0.jpg
END:VEVENT
BEGIN:VEVENT
DTSTART;TZID=Pacific/Honolulu:20251129T160000
DTEND;TZID=Pacific/Honolulu:20251129T180000
DTSTAMP:20260419T160735
CREATED:20251126T032907Z
LAST-MODIFIED:20251129T034415Z
UID:10001888-1764432000-1764439200@kauaiconnect.com
SUMMARY:Visit with Santa
DESCRIPTION:Visit with Santa\nSaturday\, November 29th at 4-6pm \nYour minimum donation of 5 canned goods or $10 cash will benefit Kaua’i Independent Food Bank’s annual Holiday Food Drive. No reservations necessary.
URL:https://kauaiconnect.com/event/visit-with-santa-4/
LOCATION:Palm Court
CATEGORIES:Special Events,Special Events and Promotions
ATTACH;FMTTYPE=image/jpeg:https://kauaiconnect.com/wp-content/uploads/Visit_with_Santa-scaled-1Mhxt0.jpg
END:VEVENT
BEGIN:VEVENT
DTSTART;TZID=Pacific/Honolulu:20251129T150000
DTEND;TZID=Pacific/Honolulu:20251129T190000
DTSTAMP:20260419T160735
CREATED:20251105T022931Z
LAST-MODIFIED:20251129T034415Z
UID:10001834-1764428400-1764442800@kauaiconnect.com
SUMMARY:Small Business Saturday Market
DESCRIPTION:Support local on Small Business Saturday with Hawai’i-made vendors\, holiday shopping specials\, live music\, festive keiki crafts\, and a magical visit with Santa from 4pm-6pm in The Palm Court – complete with a snowy surprise! Kick off the season with the whole ‘ohana! \nVisit with Santa \nSanta will be available for visits in the Palm Court from 4:00 p.m. to 6:00 p.m. A minimum donation of 5 canned goods or $10 cash is requested to benefit Kaua‘i Independent Food Bank’s annual Holiday Food Drive. No reservations necessary. \nVendors: \n\nMatt Bruening\nCassandra Rull\nSchorr Design\nHolly Ka’iakapu\nKaua’i Candle\nKulamanu Designs\nWhite Sands Jewelry\nIli Scrub\nKaua’i Pottery Studio\nObsessed 808\nWai’iti Botanicals\nNoe Creations\nRooster Moon\nStargrit\nKaua’i Christies Art\nOne Drop Resin Works\nFacets of Ritual
URL:https://kauaiconnect.com/event/small-business-saturday-market/
CATEGORIES:Special Events,Special Events and Promotions
ATTACH;FMTTYPE=image/jpeg:https://kauaiconnect.com/wp-content/uploads/SBS_Website-oIa5rx.jpg
END:VEVENT
BEGIN:VEVENT
DTSTART;TZID=UTC:20251128T080000
DTEND;TZID=UTC:20251128T130000
DTSTAMP:20260419T160735
CREATED:20251107T024407Z
LAST-MODIFIED:20251128T034416Z
UID:10001842-1764316800-1764334800@kauaiconnect.com
SUMMARY:Black Friday
DESCRIPTION:SPECIAL GIFT WITH PURCHASE:\nSpend a combined $350+ from any stores or restaurants in The Shops at Kukui‘ula (before tax and gratuity) and receive an exclusive mini weekender bag\, created in collaboration with Nyla & Co. While supplies last. Redemption station by Tommy Bahama and SoHa Keiki. Restrictions apply; terms may vary. \nLAPPERT’S HAWAI‘I BREAKFAST-ON-US:\nShow us your Black Friday receipt from The Shops at Kukui‘ula (any amount) and receive a Lappert’s coupon for a free coffee of-the-day and pastry. Redeem breakfast coupon at the redemption station by Tommy Bahama and SoHa Keiki. Limit one coupon per person; exclusions apply and only while supplies last. \nYETI COOLER PRIZE DRAWING\nEnter for a chance to win a branded Yeti Roadie ($200 Value) and a Yeti Tundra 35 ($275 Value). No purchase necessary. Limit\none entry per person; additional restrictions may apply. \nTerms & Conditions \n\nMust present the original receipts or proof of digital receipt.\nCredit card receipts must be accompanied by the original receipt.\nReceipts can only be redeemed on the same day of purchase. The subtotal of receipts does not include tips\, tax\, or gift card purchases.\nSame-day receipts must be time-stamped between 8AM and 1PM on Friday\, November 28\, 2025. No exceptions.\nCustomers must spend a minimum of $350 to earn Gift with Purchase.\nSplitting receipts between customers is NOT allowed.\nPurchases of gift certificates from individual stores/restaurants gift certificates/cards do not qualify for Gift with Purchase.\nAdditional restrictions may apply.
URL:https://kauaiconnect.com/event/black-friday/
CATEGORIES:Special Events and Promotions
ATTACH;FMTTYPE=image/jpeg:https://kauaiconnect.com/wp-content/uploads/Black_Friday_full-H1ldZv.jpg
END:VEVENT
BEGIN:VEVENT
DTSTART;TZID=Pacific/Honolulu:20251126T000000
DTEND;TZID=Pacific/Honolulu:20251224T235959
DTSTAMP:20260419T160735
CREATED:20241116T070620Z
LAST-MODIFIED:20251126T032906Z
UID:10000714-1764115200-1766620799@kauaiconnect.com
SUMMARY:Koloa Elementary School Holiday Bags
DESCRIPTION:Koloa Elementary School Holiday Bags\nNov 26th – Dec 24th \nKick off the holiday season at The Shops at Kukui‘ula with a special Ukulele Concert by Kōloa Elementary School students on November 26 at 5pm in the Palm Court\, as we launch the annual Holiday Bag Fundraiser! \nEach festive gift bag is thoughtfully crafted and hand-decorated by K–5 students from Kōloa Elementary and available at select retailers for a minimum $1 donation. All proceeds benefit the school and support local keiki in our community. \nHoliday bags will be available November 26 through December 24. \nYou can find a festive gift bag from one of the participating retailers below \n\nBlue Ginger\nCruise Kauai\nHa`upu Outpost\nlululemon\nMahina\nMartin & MacArthur\nOluKai\nPoipu Surf\nSalt + Sea\nSoHa Keiki\nSoHa Living
URL:https://kauaiconnect.com/event/koloa-elementary-school-holiday-bags-fundraiser/
CATEGORIES:Special Events,Special Events and Promotions
ATTACH;FMTTYPE=image/jpeg:https://kauaiconnect.com/wp-content/uploads/Holiday-Bags-hNlkOZ.jpg
END:VEVENT
BEGIN:VEVENT
DTSTART;TZID=Pacific/Honolulu:20251024T170000
DTEND;TZID=Pacific/Honolulu:20251024T200000
DTSTAMP:20260419T160735
CREATED:20240927T024905Z
LAST-MODIFIED:20251024T012620Z
UID:10000632-1761325200-1761336000@kauaiconnect.com
SUMMARY:Trunk-or-Treat
DESCRIPTION:Trunk-or-Treat \nFriday\, October 24th\, 5pm – 8pm \nDress up in your favorite costume and join us for a spooktacular “Cruise and Show” with Kaua’i Classic Cars Club and Earthworks Pacific. Bring the whole ‘ohana for trick-or-treating\, explore classic cars and construction equipment on display\, and enjoy festive Halloween fun for all ages! \nPlus\, don’t miss face painting in front of OluKai from 4 PM – 7 PM — the perfect way to complete your Halloween look before the fun begins! And be sure to visit Lappert’s in your costume to receive a free keiki scoop in a cup — a sweet treat to top off your Halloween celebration!
URL:https://kauaiconnect.com/event/trunk-or-treat-with-kauai-classic-cars-club/
LOCATION:South side parking lot near Bubba Burgers
CATEGORIES:Special Events,Special Events and Promotions
ATTACH;FMTTYPE=image/jpeg:https://kauaiconnect.com/wp-content/uploads/trunkortreat-scaled-CAJzwB.jpg
END:VEVENT
BEGIN:VEVENT
DTSTART;TZID=Pacific/Honolulu:20251022T160000
DTEND;TZID=Pacific/Honolulu:20251022T180000
DTSTAMP:20260419T160735
CREATED:20240927T024904Z
LAST-MODIFIED:20251022T012432Z
UID:10000631-1761148800-1761156000@kauaiconnect.com
SUMMARY:The Great Pumpkin Giveaway
DESCRIPTION:The Great Pumpkin Giveaway\nWednesday\, October 22nd\, 4pm – 6pm \nCelebrate the Harvest Festival with a free pumpkin! Limit one pumpkin per person and only while supplies last. Pumpkins are grown at Aloun Farms in Kaumakani.
URL:https://kauaiconnect.com/event/the-great-pumpkin-giveaway/
LOCATION:Palm Court
CATEGORIES:Special Events,Special Events and Promotions
ATTACH;FMTTYPE=image/jpeg:https://kauaiconnect.com/wp-content/uploads/pumpkingiveaway-scaled-gDLTLK.jpg
END:VEVENT
BEGIN:VEVENT
DTSTART;TZID=Pacific/Honolulu:20251017T183000
DTEND;TZID=Pacific/Honolulu:20251017T203000
DTSTAMP:20260419T160735
CREATED:20250719T211857Z
LAST-MODIFIED:20251017T012556Z
UID:10001668-1760725800-1760733000@kauaiconnect.com
SUMMARY:Ohana Movie Night: How to Train your Dragon (Live-Action)
DESCRIPTION:Join us at the Palm Court for a relaxing evening under the stars! Enjoy a family-friendly movie in an open-air setting\, complete with complimentary snacks and refreshments.\nThe movie will begin at sunset\, weather permitting.
URL:https://kauaiconnect.com/event/ohana-movie-night-how-to-train-your-dragon-live-action/
CATEGORIES:Special Events and Promotions
ATTACH;FMTTYPE=image/jpeg:https://kauaiconnect.com/wp-content/uploads/Ohana-Movie-Night-Website-nQphoa.jpg
END:VEVENT
BEGIN:VEVENT
DTSTART;TZID=Pacific/Honolulu:20250919T183000
DTEND;TZID=Pacific/Honolulu:20250919T203000
DTSTAMP:20260419T160735
CREATED:20250621T180332Z
LAST-MODIFIED:20250919T000810Z
UID:10001607-1758306600-1758313800@kauaiconnect.com
SUMMARY:Ohana Movie Night: Lilo & Stitch (Live-Action)
DESCRIPTION:Join us at the Palm Court for a relaxing evening under the stars! Enjoy a family-friendly movie in an open-air setting\, complete with complimentary snacks and refreshments.\nThe movie will begin at sunset\, weather permitting.
URL:https://kauaiconnect.com/event/ohana-movie-night-lilo-stitch-live-action/
LOCATION:Palm Court
CATEGORIES:Special Events and Promotions
ATTACH;FMTTYPE=image/jpeg:https://kauaiconnect.com/wp-content/uploads/LiloStitchOhanaMovieNight25-pdf-GWsgCm.jpg
END:VEVENT
BEGIN:VEVENT
DTSTART;TZID=Pacific/Honolulu:20250910T153000
DTEND;TZID=Pacific/Honolulu:20250910T180000
DTSTAMP:20260419T160735
CREATED:20250827T223814Z
LAST-MODIFIED:20250910T233759Z
UID:10001712-1757518200-1757527200@kauaiconnect.com
SUMMARY:Tori Richard Hiring Event
DESCRIPTION:Come Meet Us at the Next Culinary Market! Whether you’re a longtime fan or discovering us for the first time\, we invite you to stop by\, say Aloha\, and learn how you can be part of our ‘Ohana — we can’t wait to welcome you!
URL:https://kauaiconnect.com/event/tori-richard-hiring-event-3/
CATEGORIES:Special Events,Special Events and Promotions
ATTACH;FMTTYPE=image/jpeg:https://kauaiconnect.com/wp-content/uploads/7B4BD92E-4464-4EE0-99CF-562F3828DFB1-min-scaled-Z4lDSA.jpg
END:VEVENT
BEGIN:VEVENT
DTSTART;TZID=Pacific/Honolulu:20250903T153000
DTEND;TZID=Pacific/Honolulu:20250903T180000
DTSTAMP:20260419T160735
CREATED:20250827T223813Z
LAST-MODIFIED:20250903T232407Z
UID:10001711-1756913400-1756922400@kauaiconnect.com
SUMMARY:Tori Richard Hiring Event
DESCRIPTION:Come Meet Us at the Next Culinary Market! Whether you’re a longtime fan or discovering us for the first time\, we invite you to stop by\, say Aloha\, and learn how you can be part of our ‘Ohana — we can’t wait to welcome you!
URL:https://kauaiconnect.com/event/tori-richard-hiring-event-2/
CATEGORIES:Special Events,Special Events and Promotions
ATTACH;FMTTYPE=image/jpeg:https://kauaiconnect.com/wp-content/uploads/7B4BD92E-4464-4EE0-99CF-562F3828DFB1-min-scaled-Z4lDSA.jpg
END:VEVENT
BEGIN:VEVENT
DTSTART;TZID=Pacific/Honolulu:20250827T153000
DTEND;TZID=Pacific/Honolulu:20250827T180000
DTSTAMP:20260419T160735
CREATED:20250827T223812Z
LAST-MODIFIED:20250827T223812Z
UID:10001710-1756308600-1756317600@kauaiconnect.com
SUMMARY:Tori Richard Hiring Event
DESCRIPTION:Come Meet Us at the Next Culinary Market! Whether you’re a longtime fan or discovering us for the first time\, we invite you to stop by\, say Aloha\, and learn how you can be part of our ‘Ohana — we can’t wait to welcome you!
URL:https://kauaiconnect.com/event/tori-richard-hiring-event/
CATEGORIES:Special Events,Special Events and Promotions
ATTACH;FMTTYPE=image/jpeg:https://kauaiconnect.com/wp-content/uploads/7B4BD92E-4464-4EE0-99CF-562F3828DFB1-min-scaled-Z4lDSA.jpg
END:VEVENT
BEGIN:VEVENT
DTSTART;TZID=Pacific/Honolulu:20250801T193000
DTEND;TZID=Pacific/Honolulu:20250801T193000
DTSTAMP:20260419T160735
CREATED:20250607T150346Z
LAST-MODIFIED:20250801T213344Z
UID:10001589-1754076600-1754076600@kauaiconnect.com
SUMMARY:Ohana Movie Night: A Minecraft Movie
DESCRIPTION:Join us at the Palm Court for a relaxing evening under the stars! Enjoy a family-friendly movie in an open-air setting\, complete with complimentary snacks and refreshments.\nThe movie will begin at sunset\, weather permitting.
URL:https://kauaiconnect.com/event/ohana-movie-night-a-minecraft-movie/
LOCATION:Palm Court
CATEGORIES:Special Events and Promotions
ATTACH;FMTTYPE=image/jpeg:https://kauaiconnect.com/wp-content/uploads/Ohana-Movie-Night-Website-nQphoa.jpg
END:VEVENT
BEGIN:VEVENT
DTSTART;TZID=Pacific/Honolulu:20250723T153000
DTEND;TZID=Pacific/Honolulu:20250723T180000
DTSTAMP:20260419T160735
CREATED:20250607T150345Z
LAST-MODIFIED:20250723T211844Z
UID:10001588-1753284600-1753293600@kauaiconnect.com
SUMMARY:Koloa Plantation Days: Kauai Culinary Market
DESCRIPTION:Koloa Plantation Days festivities continue at The Shops at Kukui‘ula during the weekly Kaua‘i Culinary Market from 3:30pm to 6pm\, featuring plantation foods and dishes from diverse cultures that were brought to Kaua‘i during the sugar plantation days and continue to be enjoyed by residents and visitors today. At 5pm at the Palm Court\, join us for a special chef demonstration by Living Foods\, which will illustrate the different flavors and cultural influences on local foods. \nThe Kaua‘i Culinary Market is a partnership between The Shops at Kukui‘ula and the Kaua‘i County Farm Bureau and is held at The Shops at Kukui‘ula every Wednesday from 3:30pm to 6pm with a special chef demonstration featuring locally grown products at 5pm. This one-of-a-kind farmers market boasts over 25 participating local farmers\, artisanal product producers and vendors offering fresh vegetables\, fruits and other unique delicacies and is enhanced by live Hawaiian music from local artists and a wine and beer garden at the Palm Court.
URL:https://kauaiconnect.com/event/koloa-plantation-days-kauai-culinary-market-2/
CATEGORIES:Special Events and Promotions
ATTACH;FMTTYPE=image/jpeg:https://kauaiconnect.com/wp-content/uploads/Culinary-Market-scaled-bnpdYs.jpg
END:VEVENT
BEGIN:VEVENT
DTSTART;TZID=Pacific/Honolulu:20250721T183000
DTEND;TZID=Pacific/Honolulu:20250721T200000
DTSTAMP:20260419T160735
CREATED:20250607T150344Z
LAST-MODIFIED:20250721T211904Z
UID:10001587-1753122600-1753128000@kauaiconnect.com
SUMMARY:“Riding the Waves of Change” with Master Storyteller Lopaka Kapanui
DESCRIPTION:The Shops at Kukui‘ula will welcome Master Storyteller Lopaka Kapanui for “Riding the Waves of Change: A Storytelling.” Lopaka Kapanui is a native Hawaiian storyteller and cultural practitioner. The plantation-style architecture of The Shops at Kukui‘ula offers a beautiful setting to immerse yourself in Hawaiian history and culture – and at the Palm Court\, enjoy some cool refreshments as the Master Storyteller leads narration of life during the plantation era along with legendary ghost tales.
URL:https://kauaiconnect.com/event/riding-the-waves-of-change-with-master-storyteller-lopaka-kapanui/
CATEGORIES:Special Events and Promotions
ATTACH;FMTTYPE=image/jpeg:https://kauaiconnect.com/wp-content/uploads/Lopaka-Kapanui-Photo-yXgT8W.jpg
END:VEVENT
BEGIN:VEVENT
DTSTART;TZID=Pacific/Honolulu:20250719T110000
DTEND;TZID=Pacific/Honolulu:20250719T160000
DTSTAMP:20260419T160735
CREATED:20250626T184847Z
LAST-MODIFIED:20250719T211852Z
UID:10001620-1752922800-1752940800@kauaiconnect.com
SUMMARY:Lappert’s Hawaii Tiki Summer Keiki Fun Event
DESCRIPTION:Time: 11am – 4pm\nLocation: Lappert’s Hawaii Ice Cream & Coffee \nJoin us for some sweet summer fun hosted by Lappert’s Hawaii! At the Tiki Summer Keiki event\, kids can color their own tiki mask and enjoy a free keiki scoop of ice cream in a cup. For more event details and to learn about Lappert’s summery giveaway\, visit @lappertsaloha on Instagram!
URL:https://kauaiconnect.com/event/lapperts-hawaii-tiki-summer-keiki-fun-event-4/
LOCATION:Lappert’s Hawaii Ice Cream & Coffee
CATEGORIES:Special Events,Special Events and Promotions
ATTACH;FMTTYPE=image/jpeg:https://kauaiconnect.com/wp-content/uploads/Keiki-Coloring6x6-vC1wr4.jpg
END:VEVENT
BEGIN:VEVENT
DTSTART;TZID=Pacific/Honolulu:20250718T173000
DTEND;TZID=Pacific/Honolulu:20250718T203000
DTSTAMP:20260419T160735
CREATED:20250607T150343Z
LAST-MODIFIED:20250718T210401Z
UID:10001586-1752859800-1752870600@kauaiconnect.com
SUMMARY:Flavors of Kukui`ula: Koloa Plantation Days
DESCRIPTION:The Shops at Kukuiʻula presents Flavors of Kukuiʻula in celebration of Kōloa Plantation Days. Join us for Kaua‘i’s largest family-friendly pau hana party as we honor the island’s rich plantation heritage. Enjoy live music by Kaua‘i’s premier kachi-kachi band\, Wally Rita Y Los Kauaianos\, and savor a variety of plantation-inspired treats\, local delicacies\, and refreshing beverages.
URL:https://kauaiconnect.com/event/flavors-of-kukuiula-koloa-plantation-days-2/
CATEGORIES:Special Events and Promotions
ATTACH;FMTTYPE=image/jpeg:https://kauaiconnect.com/wp-content/uploads/Flavors-of-Kukuiula-scaled-x1Cnmu.jpg
END:VEVENT
BEGIN:VEVENT
DTSTART;TZID=Pacific/Honolulu:20250716T153000
DTEND;TZID=Pacific/Honolulu:20250716T180000
DTSTAMP:20260419T160735
CREATED:20250626T184846Z
LAST-MODIFIED:20250716T204928Z
UID:10001619-1752679800-1752688800@kauaiconnect.com
SUMMARY:Lei Making July
DESCRIPTION:Wednesday\, July 16th\, 3:30 pm – 6 pm\, Palm Court \nJoin us for a hands-on lei-making experience with Halau Ka Lei Mokihana o Leina‘ala. Whether you want to create your own beautiful lei or purchase a unique\, handcrafted lei. \nA minimum donation of $10 is requested to participate in the lei-making workshop. All donations will support the Keiki Hula Program\, helping to nurture the next generation of hula dancers. \nCome celebrate aloha spirit\, creativity\, and community through this meaningful cultural practice!
URL:https://kauaiconnect.com/event/lei-making-july-3/
LOCATION:Palm Court
CATEGORIES:Special Events,Special Events and Promotions
ATTACH;FMTTYPE=image/jpeg:https://kauaiconnect.com/wp-content/uploads/TSAK_Lei-cus1CA.jpg
END:VEVENT
BEGIN:VEVENT
DTSTART;TZID=Pacific/Honolulu:20250716T110000
DTEND;TZID=Pacific/Honolulu:20250716T160000
DTSTAMP:20260419T160735
CREATED:20250626T184845Z
LAST-MODIFIED:20250716T204927Z
UID:10001618-1752663600-1752681600@kauaiconnect.com
SUMMARY:Lappert’s Hawaii Tiki Summer Keiki Fun Event
DESCRIPTION:Time: 11am – 4pm\nLocation: Lappert’s Hawaii Ice Cream & Coffee \nJoin us for some sweet summer fun hosted by Lappert’s Hawaii! At the Tiki Summer Keiki event\, kids can color their own tiki mask and enjoy a free keiki scoop of ice cream in a cup. For more event details and to learn about Lappert’s summery giveaway\, visit @lappertsaloha on Instagram!
URL:https://kauaiconnect.com/event/lapperts-hawaii-tiki-summer-keiki-fun-event-3/
LOCATION:Lappert’s Hawaii Ice Cream & Coffee
CATEGORIES:Special Events,Special Events and Promotions
ATTACH;FMTTYPE=image/jpeg:https://kauaiconnect.com/wp-content/uploads/Keiki-Coloring6x6-vC1wr4.jpg
END:VEVENT
BEGIN:VEVENT
DTSTART;TZID=Pacific/Honolulu:20250709T153000
DTEND;TZID=Pacific/Honolulu:20250709T180000
DTSTAMP:20260419T160735
CREATED:20250626T184845Z
LAST-MODIFIED:20250709T201909Z
UID:10001617-1752075000-1752084000@kauaiconnect.com
SUMMARY:Lei Making July
DESCRIPTION:Wednesday\, July 9th\, 3:30 pm – 6 pm\, Palm Court \nJoin us for a hands-on lei-making experience with Halau Ka Lei Mokihana o Leina‘ala. Whether you want to create your own beautiful lei or purchase a unique\, handcrafted lei. \nA minimum donation of $10 is requested to participate in the lei-making workshop. All donations will support the Keiki Hula Program\, helping to nurture the next generation of hula dancers. \nCome celebrate aloha spirit\, creativity\, and community through this meaningful cultural practice!
URL:https://kauaiconnect.com/event/lei-making-july-2/
LOCATION:Palm Court
CATEGORIES:Special Events,Special Events and Promotions
ATTACH;FMTTYPE=image/jpeg:https://kauaiconnect.com/wp-content/uploads/TSAK_Lei-cus1CA.jpg
END:VEVENT
BEGIN:VEVENT
DTSTART;TZID=Pacific/Honolulu:20250705T110000
DTEND;TZID=Pacific/Honolulu:20250705T160000
DTSTAMP:20260419T160735
CREATED:20250626T184845Z
LAST-MODIFIED:20250705T193343Z
UID:10001616-1751713200-1751731200@kauaiconnect.com
SUMMARY:Lappert’s Hawaii Tiki Summer Keiki Fun Event
DESCRIPTION:Time: 11am – 4pm\nLocation: Lappert’s Hawaii Ice Cream & Coffee \nJoin us for some sweet summer fun hosted by Lappert’s Hawaii! At the Tiki Summer Keiki event\, kids can color their own tiki mask and enjoy a free keiki scoop of ice cream in a cup. For more event details and to learn about Lappert’s summery giveaway\, visit @lappertsaloha on Instagram!
URL:https://kauaiconnect.com/event/lapperts-hawaii-tiki-summer-keiki-fun-event-2/
LOCATION:Lappert’s Hawaii Ice Cream & Coffee
CATEGORIES:Special Events,Special Events and Promotions
ATTACH;FMTTYPE=image/jpeg:https://kauaiconnect.com/wp-content/uploads/Keiki-Coloring6x6-vC1wr4.jpg
END:VEVENT
BEGIN:VEVENT
DTSTART;TZID=Pacific/Honolulu:20250702T153000
DTEND;TZID=Pacific/Honolulu:20250702T180000
DTSTAMP:20260419T160735
CREATED:20250626T184844Z
LAST-MODIFIED:20250702T191852Z
UID:10001615-1751470200-1751479200@kauaiconnect.com
SUMMARY:Lei Making July
DESCRIPTION:Wednesday\, July 2nd\, 3:30 pm – 6 pm\, Palm Court \nJoin us for a hands-on lei-making experience with Halau Ka Lei Mokihana o Leina‘ala. Whether you want to create your own beautiful lei or purchase a unique\, handcrafted lei. \nA minimum donation of $10 is requested to participate in the lei-making workshop. All donations will support the Keiki Hula Program\, helping to nurture the next generation of hula dancers. \nCome celebrate aloha spirit\, creativity\, and community through this meaningful cultural practice!
URL:https://kauaiconnect.com/event/lei-making-july/
LOCATION:Palm Court
CATEGORIES:Special Events,Special Events and Promotions
ATTACH;FMTTYPE=image/jpeg:https://kauaiconnect.com/wp-content/uploads/TSAK_Lei-cus1CA.jpg
END:VEVENT
BEGIN:VEVENT
DTSTART;TZID=Pacific/Honolulu:20250702T110000
DTEND;TZID=Pacific/Honolulu:20250702T160000
DTSTAMP:20260419T160735
CREATED:20250626T184843Z
LAST-MODIFIED:20250702T191851Z
UID:10001614-1751454000-1751472000@kauaiconnect.com
SUMMARY:Lappert’s Hawaii Tiki Summer Keiki Fun Event
DESCRIPTION:Time: 11am – 4pm\nLocation: Lappert’s Hawaii Ice Cream & Coffee \nJoin us for some sweet summer fun hosted by Lappert’s Hawaii! At the Tiki Summer Keiki event\, kids can color their own tiki mask and enjoy a free keiki scoop of ice cream in a cup. For more event details and to learn about Lappert’s summery giveaway\, visit @lappertsaloha on Instagram!
URL:https://kauaiconnect.com/event/lapperts-hawaii-tiki-summer-keiki-fun-event/
LOCATION:Lappert’s Hawaii Ice Cream & Coffee
CATEGORIES:Special Events,Special Events and Promotions
ATTACH;FMTTYPE=image/jpeg:https://kauaiconnect.com/wp-content/uploads/Keiki-Coloring6x6-vC1wr4.jpg
END:VEVENT
END:VCALENDAR