BEGIN:VCALENDAR
VERSION:2.0
PRODID:-//Kauaʻi Connect - ECPv6.15.20//NONSGML v1.0//EN
CALSCALE:GREGORIAN
METHOD:PUBLISH
X-ORIGINAL-URL:https://kauaiconnect.com
X-WR-CALDESC:Events for Kauaʻi Connect
REFRESH-INTERVAL;VALUE=DURATION:PT1H
X-Robots-Tag:noindex
X-PUBLISHED-TTL:PT1H
BEGIN:VTIMEZONE
TZID:UTC
BEGIN:STANDARD
TZOFFSETFROM:+0000
TZOFFSETTO:+0000
TZNAME:UTC
DTSTART:20250101T000000
END:STANDARD
END:VTIMEZONE
BEGIN:VEVENT
DTSTART;TZID=UTC:20260626T183000
DTEND;TZID=UTC:20260626T203000
DTSTAMP:20260425T064731
CREATED:20260328T115855Z
LAST-MODIFIED:20260417T151401Z
UID:10002279-1782498600-1782505800@kauaiconnect.com
SUMMARY:Kanikapila
DESCRIPTION:Celebrate Aloha Friday with live music performances by local Kaua’i bands and artists.
URL:https://kauaiconnect.com/event/kanikapila-105/
CATEGORIES:Ongoing Events
END:VEVENT
BEGIN:VEVENT
DTSTART;TZID=UTC:20260703T183000
DTEND;TZID=UTC:20260703T203000
DTSTAMP:20260425T064731
CREATED:20260404T131359Z
LAST-MODIFIED:20260417T151401Z
UID:10002292-1783103400-1783110600@kauaiconnect.com
SUMMARY:Kanikapila
DESCRIPTION:Celebrate Aloha Friday with live music performances by local Kaua’i bands and artists.
URL:https://kauaiconnect.com/event/kanikapila-106/
CATEGORIES:Ongoing Events
END:VEVENT
BEGIN:VEVENT
DTSTART;TZID=UTC:20260710T183000
DTEND;TZID=UTC:20260710T203000
DTSTAMP:20260425T064731
CREATED:20260411T142914Z
LAST-MODIFIED:20260417T151401Z
UID:10002310-1783708200-1783715400@kauaiconnect.com
SUMMARY:Kanikapila
DESCRIPTION:Celebrate Aloha Friday with live music performances by local Kaua’i bands and artists.
URL:https://kauaiconnect.com/event/kanikapila-107/
CATEGORIES:Ongoing Events
END:VEVENT
BEGIN:VEVENT
DTSTART;TZID=UTC:20260717T183000
DTEND;TZID=UTC:20260717T203000
DTSTAMP:20260425T064731
CREATED:20260418T151424Z
LAST-MODIFIED:20260418T151424Z
UID:10002327-1784313000-1784320200@kauaiconnect.com
SUMMARY:Kanikapila
DESCRIPTION:Celebrate Aloha Friday with live music performances by local Kaua’i bands and artists.
URL:https://kauaiconnect.com/event/kanikapila-108/
CATEGORIES:Ongoing Events
END:VEVENT
BEGIN:VEVENT
DTSTART;TZID=UTC:20260724T183000
DTEND;TZID=UTC:20260724T203000
DTSTAMP:20260425T064731
CREATED:20260425T161355Z
LAST-MODIFIED:20260425T161355Z
UID:10002342-1784917800-1784925000@kauaiconnect.com
SUMMARY:Kanikapila
DESCRIPTION:Celebrate Aloha Friday with live music performances by local Kaua’i bands and artists.
URL:https://kauaiconnect.com/event/kanikapila-109/
CATEGORIES:Ongoing Events
END:VEVENT
END:VCALENDAR