BEGIN:VCALENDAR
VERSION:2.0
PRODID:-//Kauaʻi Connect - ECPv6.15.20//NONSGML v1.0//EN
CALSCALE:GREGORIAN
METHOD:PUBLISH
X-ORIGINAL-URL:https://kauaiconnect.com
X-WR-CALDESC:Events for Kauaʻi Connect
REFRESH-INTERVAL;VALUE=DURATION:PT1H
X-Robots-Tag:noindex
X-PUBLISHED-TTL:PT1H
BEGIN:VTIMEZONE
TZID:UTC
BEGIN:STANDARD
TZOFFSETFROM:+0000
TZOFFSETTO:+0000
TZNAME:UTC
DTSTART:20250101T000000
END:STANDARD
END:VTIMEZONE
BEGIN:VEVENT
DTSTART;TZID=UTC:20260501T183000
DTEND;TZID=UTC:20260501T203000
DTSTAMP:20260424T090816
CREATED:20260131T060014Z
LAST-MODIFIED:20260403T125851Z
UID:10002082-1777660200-1777667400@kauaiconnect.com
SUMMARY:Kanikapila
DESCRIPTION:Celebrate Aloha Friday with live music performances by local Kaua’i bands and artists.
URL:https://kauaiconnect.com/event/kanikapila-97/
CATEGORIES:Ongoing Events
END:VEVENT
BEGIN:VEVENT
DTSTART;TZID=UTC:20260508T183000
DTEND;TZID=UTC:20260508T203000
DTSTAMP:20260424T090816
CREATED:20260207T065949Z
LAST-MODIFIED:20260417T151400Z
UID:10002092-1778265000-1778272200@kauaiconnect.com
SUMMARY:Kanikapila
DESCRIPTION:Celebrate Aloha Friday with live music performances by local Kaua’i bands and artists.
URL:https://kauaiconnect.com/event/kanikapila-98/
CATEGORIES:Ongoing Events
END:VEVENT
BEGIN:VEVENT
DTSTART;TZID=UTC:20260515T183000
DTEND;TZID=UTC:20260515T203000
DTSTAMP:20260424T090816
CREATED:20260214T072934Z
LAST-MODIFIED:20260413T142852Z
UID:10002105-1778869800-1778877000@kauaiconnect.com
SUMMARY:Kanikapila
DESCRIPTION:Celebrate Aloha Friday with live music performances by local Kaua’i bands and artists.
URL:https://kauaiconnect.com/event/kanikapila-99/
CATEGORIES:Ongoing Events
END:VEVENT
BEGIN:VEVENT
DTSTART;TZID=UTC:20260522T183000
DTEND;TZID=UTC:20260522T203000
DTSTAMP:20260424T090816
CREATED:20260221T074418Z
LAST-MODIFIED:20260409T135850Z
UID:10002124-1779474600-1779481800@kauaiconnect.com
SUMMARY:Kanikapila
DESCRIPTION:Celebrate Aloha Friday with live music performances by local Kaua’i bands and artists.
URL:https://kauaiconnect.com/event/kanikapila-100/
CATEGORIES:Ongoing Events
END:VEVENT
BEGIN:VEVENT
DTSTART;TZID=UTC:20260529T183000
DTEND;TZID=UTC:20260529T203000
DTSTAMP:20260424T090816
CREATED:20260228T082859Z
LAST-MODIFIED:20260410T141401Z
UID:10002137-1780079400-1780086600@kauaiconnect.com
SUMMARY:Kanikapila
DESCRIPTION:Celebrate Aloha Friday with live music performances by local Kaua’i bands and artists.
URL:https://kauaiconnect.com/event/kanikapila-101/
CATEGORIES:Ongoing Events
END:VEVENT
END:VCALENDAR