BEGIN:VCALENDAR
VERSION:2.0
PRODID:-//Kauaʻi Connect - ECPv6.15.20//NONSGML v1.0//EN
CALSCALE:GREGORIAN
METHOD:PUBLISH
X-ORIGINAL-URL:https://kauaiconnect.com
X-WR-CALDESC:Events for Kauaʻi Connect
REFRESH-INTERVAL;VALUE=DURATION:PT1H
X-Robots-Tag:noindex
X-PUBLISHED-TTL:PT1H
BEGIN:VTIMEZONE
TZID:Pacific/Honolulu
BEGIN:STANDARD
TZOFFSETFROM:-1000
TZOFFSETTO:-1000
TZNAME:HST
DTSTART:20250101T000000
END:STANDARD
END:VTIMEZONE
BEGIN:VEVENT
DTSTART;TZID=Pacific/Honolulu:20260510T160000
DTEND;TZID=Pacific/Honolulu:20260510T200000
DTSTAMP:20260420T192106
CREATED:20260209T145929Z
LAST-MODIFIED:20260403T131421Z
UID:10002097-1778428800-1778443200@kauaiconnect.com
SUMMARY:Princeville Night Market
DESCRIPTION:Connect with 45 of Kauai’s best artisans at this monthly market. Food trucks\, restaurants\, and several musicians make it a market to remember! \nOur exact vendor line-up changes regularly\, but you’re sure to find paintings\, ceramics\, photography\, jewelry\, soaps & more\, plus meet the local artists who make it all. Three different music tents create a lively atmosphere\, and the food trucks and dessert options aren’t to be missed. \nThis free and family friendly event has been proudly running since 2015. You’ll find us on the Second Sunday of each month from 4-8pm\, only at the Princeville Shopping Center. Our open-air outdoor market is a rain or shine event. We hope to see you there! \nFollow us on instagram! @PrincevilleNightMarket
URL:https://kauaiconnect.com/event/princeville-night-market-25/
LOCATION:Princeville Shopping Center\, 5-4280 Kuhio Hwy\, Princeville\, HI\, 96722\, United States
CATEGORIES:Island Happenings,Market
ATTACH;FMTTYPE=image/jpeg:https://kauaiconnect.com/wp-content/uploads/Julie-qBjZS5.jpg
ORGANIZER;CN="Princeville Night Market":MAILTO:PrincevilleNightMarket@gmail.com
GEO:22.2138865;-159.4737941
X-APPLE-STRUCTURED-LOCATION;VALUE=URI;X-ADDRESS=Princeville Shopping Center 5-4280 Kuhio Hwy Princeville HI 96722 United States;X-APPLE-RADIUS=500;X-TITLE=5-4280 Kuhio Hwy:geo:-159.4737941,22.2138865
END:VEVENT
BEGIN:VEVENT
DTSTART;TZID=Pacific/Honolulu:20260516T080000
DTEND;TZID=Pacific/Honolulu:20260516T140000
DTSTAMP:20260420T192106
CREATED:20260215T152953Z
LAST-MODIFIED:20260403T131421Z
UID:10002110-1778918400-1778940000@kauaiconnect.com
SUMMARY:Artisans & Crafters Fair
DESCRIPTION:🌺 Artisans & Crafters Fair Event 🌺\nHosted by Kauai Island Crafters Fair \nDiscover the heart and soul of Kauai at our Artisans & Crafters Fair Event\, where creativity\, culture\, and community come together in the most inspiring way. With over 12 years of celebrating local talent\, the Kauai Island Crafters Fair has hosted these events becoming a beloved gathering place for those who value authenticity\, craftsmanship\, and the stories behind handmade goods. \nEach month\, we transform our indoor venue into a vibrant marketplace filled with the sights\, textures\, and aloha spirit that make Kauai so special. From meticulously handcrafted jewelry and island-inspired artwork to sewn textiles\, home décor\, apparel\, and one-of-a-kind gifts\, every booth offers something meaningful and truly made on Kauai. \nThis is more than shopping—it’s an experience. Wander the aisles\, meet the makers\, and connect directly with the artisans who pour their passion into every piece. Whether you’re a visitor searching for the perfect keepsake or a local supporting your community\, you’ll feel the magic that only a handmade market can bring. \n✨ Why You’ll Love Our Monthly Markets: \n\nHandmade with Aloha: Shop an ever-changing collection of locally crafted goods you won’t find anywhere else.\nMeet the Artisans: Hear the stories\, inspirations\, and traditions behind each creation.\nSupport Local: Your purchases directly support Kauai’s small businesses and creative community.\nEasy & Comfortable: Enjoy an indoor shopping experience with convenient outdoor parking.\n\nBring your family\, invite your friends\, and make it a monthly tradition to celebrate Kauai’s incredible creative talent. Every event offers something new\, something special\, and something unforgettable. \n📍 Location: Indoors | Convenient Outdoor Parking\n📣 Interested Vendors: kauaiislandcraftersfair@gmail.com\n📲 IG Follow & share the love: @kauaiislandcraftersfair \nCome experience the joy of handmade\, the power of community\, and the spirit of Kauai—we can’t wait to welcome you! \n#KauaiIslandCraftersFair #HandmadeWithAloha #ShopLocalKauai #SupportLocalArtisans #MadeOnKauai #KauaiCraftMarket #KauaiEvents #HawaiiCraftFair #ShopSmallKauai #KauaiGifts #KauaiCreatives #IslandMade #KauaiShopping
URL:https://kauaiconnect.com/event/artisans-crafters-fair-8/
LOCATION:Kauai Veterans Center\, 3215 Kapule Hwy\, Lihue\, HI\, 96766\, United States
CATEGORIES:Island Happenings,Market
ATTACH;FMTTYPE=image/jpeg:https://kauaiconnect.com/wp-content/uploads/Dog-Treats-rotated-OwTIrq.jpg
ORGANIZER;CN="Debbie Yanagihara":MAILTO:kauaiislandcf@hotmail.com
GEO:21.9748624;-159.3537295
X-APPLE-STRUCTURED-LOCATION;VALUE=URI;X-ADDRESS=Kauai Veterans Center 3215 Kapule Hwy Lihue HI 96766 United States;X-APPLE-RADIUS=500;X-TITLE=3215 Kapule Hwy:geo:-159.3537295,21.9748624
END:VEVENT
END:VCALENDAR