BEGIN:VCALENDAR
VERSION:2.0
PRODID:-//Kauaʻi Connect - ECPv6.15.20//NONSGML v1.0//EN
CALSCALE:GREGORIAN
METHOD:PUBLISH
X-WR-CALNAME:Kauaʻi Connect
X-ORIGINAL-URL:https://kauaiconnect.com
X-WR-CALDESC:Events for Kauaʻi Connect
REFRESH-INTERVAL;VALUE=DURATION:PT1H
X-Robots-Tag:noindex
X-PUBLISHED-TTL:PT1H
BEGIN:VTIMEZONE
TZID:Pacific/Honolulu
BEGIN:STANDARD
TZOFFSETFROM:-1000
TZOFFSETTO:-1000
TZNAME:HST
DTSTART:20250101T000000
END:STANDARD
END:VTIMEZONE
BEGIN:VEVENT
DTSTART;TZID=Pacific/Honolulu:20260227T110000
DTEND;TZID=Pacific/Honolulu:20260227T200000
DTSTAMP:20260423T062733
CREATED:20251129T084452Z
LAST-MODIFIED:20260105T154504Z
UID:10001898-1772190000-1772222400@kauaiconnect.com
SUMMARY:Mele Mākeke
DESCRIPTION:Join us this holiday season at Mele Mākeke in the former Macy’s Mens building for a new Hawaii marketplace of local and visiting vendors\, just for Kaua’i! \nShop local with Kaua’i local vendors and visiting Hawaii vendors – with new pop-in vendors each week. A wonderful opportunity to discover new gifts this year while supporting our community. \nThe marketplace is open:\nFri. Nov. 28\, 11 am to 8 pm\nSat. Nov. 29 to Sun. Nov. 30\, 11 am to 6 pm\nFri. Dec. 5\, 11 am to 8 pm\nSat. Dec. 6 to Sun. Dec. 7\, 11 am to 6 pm\nFri. Dec. 12\, 11 am to 8 pm\nSat. Dec. 13 to Sun. Dec. 14\, 11 am to 6 pm\nThu. Dec. 18 to Fri. Dec. 19\, 11 am to 8 pm\nSat. Dec. 20 to Sun. Dec. 21\, 11 am to 6 pm\nMon.\, Dec. 22 to Tue. Dec. 23\, 11 am to 6 pm\nWed.\, Dec. 24\, 11 am to 4 pm \nRegular Vendors include:\n‘Alohilanikinimea\n‘Aina Organics\nAloha Edible Souvenirs\nAloha Lemonade\nAlohi Lane Designs Hawaii\nCelina’s Closet\nHapa House\nEHA Culture\nHeart to Pieces\nHigh Vizion\nHomestead Leis & Crafts\nJust Jord\nKaua’i Kine Snacks\nKepola Co.\nKiara’s Western Belts\nKiyomi’s Sweet treats\nKorey’s Kreations\nLei Love Boutique\nLittle Pea in the Pod\nLovelea LLC\nLovellysea\nLovely Charms by Kay\nLuxi Kauai X Warrior Clothing\nMade by Malia\nMailani Hawaii\nMauahi Designs\nMehamei\nNyla + Co.\nRiman\nShiprek Hawaii\nSisters Goodies\nSugar Skull\nSumiko’s\nTsuka’s Charm Catchers\nWahine Kai Jewelry\nWhip It Lures
URL:https://kauaiconnect.com/event/mele-makeke-25/
LOCATION:Kukui Grove Shopping Center\, Lihue\, United States
CATEGORIES:Island Happenings,Market
ATTACH;FMTTYPE=image/jpeg:https://kauaiconnect.com/wp-content/uploads/Makeke-poster-smaller-cC5Uxc.jpg
GEO:21.9697415;-159.3787253
END:VEVENT
BEGIN:VEVENT
DTSTART;TZID=Pacific/Honolulu:20260228T080000
DTEND;TZID=Pacific/Honolulu:20260228T140000
DTSTAMP:20260423T062733
CREATED:20260105T141419Z
LAST-MODIFIED:20260228T214417Z
UID:10001997-1772265600-1772287200@kauaiconnect.com
SUMMARY:Artisans & Crafters Fair
DESCRIPTION:🌺 Artisans & Crafters Fair Event 🌺\nHosted by Kauai Island Crafters Fair \nDiscover the heart and soul of Kauai at our Artisans & Crafters Fair Event\, where creativity\, culture\, and community come together in the most inspiring way. With over 12 years of celebrating local talent\, the Kauai Island Crafters Fair has hosted these events becoming a beloved gathering place for those who value authenticity\, craftsmanship\, and the stories behind handmade goods. \nEach month\, we transform our indoor venue into a vibrant marketplace filled with the sights\, textures\, and aloha spirit that make Kauai so special. From meticulously handcrafted jewelry and island-inspired artwork to sewn textiles\, home décor\, apparel\, and one-of-a-kind gifts\, every booth offers something meaningful and truly made on Kauai. \nThis is more than shopping—it’s an experience. Wander the aisles\, meet the makers\, and connect directly with the artisans who pour their passion into every piece. Whether you’re a visitor searching for the perfect keepsake or a local supporting your community\, you’ll feel the magic that only a handmade market can bring. \n✨ Why You’ll Love Our Monthly Markets: \n\nHandmade with Aloha: Shop an ever-changing collection of locally crafted goods you won’t find anywhere else.\nMeet the Artisans: Hear the stories\, inspirations\, and traditions behind each creation.\nSupport Local: Your purchases directly support Kauai’s small businesses and creative community.\nEasy & Comfortable: Enjoy an indoor shopping experience with convenient outdoor parking.\n\nBring your family\, invite your friends\, and make it a monthly tradition to celebrate Kauai’s incredible creative talent. Every event offers something new\, something special\, and something unforgettable. \n📍 Location: Indoors | Convenient Outdoor Parking\n📣 Interested Vendors: kauaiislandcraftersfair@gmail.com\n📲 IG Follow & share the love: @kauaiislandcraftersfair \nCome experience the joy of handmade\, the power of community\, and the spirit of Kauai—we can’t wait to welcome you! \n#KauaiIslandCraftersFair #HandmadeWithAloha #ShopLocalKauai #SupportLocalArtisans #MadeOnKauai #KauaiCraftMarket #KauaiEvents #HawaiiCraftFair #ShopSmallKauai #KauaiGifts #KauaiCreatives #IslandMade #KauaiShopping
URL:https://kauaiconnect.com/event/artisans-crafters-fair-5/
LOCATION:Church of the Pacific\, Princeville\, 4520 Kapaka Street\, Princeville\, HI\, 96722\, United States
CATEGORIES:Island Happenings,Market
ATTACH;FMTTYPE=image/jpeg:https://kauaiconnect.com/wp-content/uploads/Bone-Turtle-Heart-carving-1-rotated-folCOV.jpg
ORGANIZER;CN="Debbie Yanagihara":MAILTO:kauaiislandcf@hotmail.com
GEO:22.2089875;-159.4643377
X-APPLE-STRUCTURED-LOCATION;VALUE=URI;X-ADDRESS=Church of the Pacific Princeville 4520 Kapaka Street Princeville HI 96722 United States;X-APPLE-RADIUS=500;X-TITLE=4520 Kapaka Street:geo:-159.4643377,22.2089875
END:VEVENT
BEGIN:VEVENT
DTSTART;TZID=Pacific/Honolulu:20260228T150000
DTEND;TZID=Pacific/Honolulu:20260228T190000
DTSTAMP:20260423T062733
CREATED:20260227T155959Z
LAST-MODIFIED:20260228T214419Z
UID:10002135-1772290800-1772305200@kauaiconnect.com
SUMMARY:Kauai Made Saturdays at Kauai Shores
DESCRIPTION:🌺 Shop Kaua‘i Made at Kaua‘i Shores – Saturdays 🌴 \nDiscover the heart of Kaua‘i every Saturday at Kaua‘i Shores—where community meets creativity! Shopping Kaua‘i Made brings together an extraordinary selection of locally crafted goods from small businesses across the island\, all hand-vetted through a quality review process to ensure authentic\, high-standard products you can trust. \nFrom artisanal crafts and island-inspired jewelry to farm-fresh treats and one-of-a-kind gifts\, every purchase supports the dreams and livelihoods of our local makers\, farmers\, and creators. When you shop Kaua‘i Made\, you’re not just buying a product—you’re uplifting the people and traditions that make Kaua‘i truly special. \nJoin us Saturdays at Kaua‘i Shores for a vibrant market experience where aloha and craftsmanship come together. Support local. Shop quality. Celebrate community. ✨
URL:https://kauaiconnect.com/event/kauai-made-saturdays-at-kauai-shores/
LOCATION:Kauai Shores Hotel\, 420 Papaloa Rd.\, Kapaa\, HI\, 96746\, United States
CATEGORIES:Island Happenings,Market
ATTACH;FMTTYPE=image/png:https://kauaiconnect.com/wp-content/uploads/Kauai-Shores-Flyer-2.10.2026-CA6zAT.png
ORGANIZER;CN="Kauai Made":MAILTO:kauaimade@kauai.gov
GEO:22.0523613;-159.3294429
X-APPLE-STRUCTURED-LOCATION;VALUE=URI;X-ADDRESS=Kauai Shores Hotel 420 Papaloa Rd. Kapaa HI 96746 United States;X-APPLE-RADIUS=500;X-TITLE=420 Papaloa Rd.:geo:-159.3294429,22.0523613
END:VEVENT
END:VCALENDAR