BEGIN:VCALENDAR
VERSION:2.0
PRODID:-//Kauaʻi Connect - ECPv6.15.20//NONSGML v1.0//EN
CALSCALE:GREGORIAN
METHOD:PUBLISH
X-WR-CALNAME:Kauaʻi Connect
X-ORIGINAL-URL:https://kauaiconnect.com
X-WR-CALDESC:Events for Kauaʻi Connect
REFRESH-INTERVAL;VALUE=DURATION:PT1H
X-Robots-Tag:noindex
X-PUBLISHED-TTL:PT1H
BEGIN:VTIMEZONE
TZID:Pacific/Honolulu
BEGIN:STANDARD
TZOFFSETFROM:-1000
TZOFFSETTO:-1000
TZNAME:HST
DTSTART:20240101T000000
END:STANDARD
END:VTIMEZONE
BEGIN:VEVENT
DTSTART;TZID=Pacific/Honolulu:20251214T110000
DTEND;TZID=Pacific/Honolulu:20251214T180000
DTSTAMP:20260423T133328
CREATED:20251114T080108Z
LAST-MODIFIED:20251214T133017Z
UID:10001860-1765710000-1765735200@kauaiconnect.com
SUMMARY:Mele Mākeke
DESCRIPTION:Join us this holiday season at Mele Mākeke in the former Macy’s Mens building for a new Hawaii marketplace of local and visiting vendors\, just for Kaua’i! \nShop local with Kaua’i local vendors and visiting Hawaii vendors – with new pop-in vendors each week. A wonderful opportunity to discover new gifts this year while supporting our community. \nThe marketplace is open:\nFri. Nov. 28\, 11 am to 8 pm\nSat. Nov. 29 to Sun. Nov. 30\, 11 am to 6 pm\nFri. Dec. 5\, 11 am to 8 pm\nSat. Dec. 6 to Sun. Dec. 7\, 11 am to 6 pm\nFri. Dec. 12\, 11 am to 8 pm\nSat. Dec. 13 to Sun. Dec. 14\, 11 am to 6 pm\nThu. Dec. 18 to Fri. Dec. 19\, 11 am to 8 pm\nSat. Dec. 20 to Sun. Dec. 21\, 11 am to 6 pm\nMon.\, Dec. 22 to Tue. Dec. 23\, 11 am to 6 pm\nWed.\, Dec. 24\, 11 am to 4 pm \nRegular Vendors include:\n‘Alohilanikinimea\n‘Aina Organics\nAloha Edible Souvenirs\nAloha Lemonade\nAlohi Lane Designs Hawaii\nCelina’s Closet\nHapa House\nEHA Culture\nHeart to Pieces\nHigh Vizion\nHomestead Leis & Crafts\nJust Jord\nKaua’i Kine Snacks\nKepola Co.\nKiara’s Western Belts\nKiyomi’s Sweet treats\nKorey’s Kreations\nLei Love Boutique\nLittle Pea in the Pod\nLovelea LLC\nLovellysea\nLovely Charms by Kay\nLuxi Kauai X Warrior Clothing\nMade by Malia\nMailani Hawaii\nMauahi Designs\nMehamei\nNyla + Co.\nRiman\nShiprek Hawaii\nSisters Goodies\nSugar Skull\nSumiko’s\nTsuka’s Charm Catchers\nWahine Kai Jewelry\nWhip It Lures
URL:https://kauaiconnect.com/event/mele-makeke-9/
LOCATION:Kukui Grove Shopping Center\, Lihue\, United States
CATEGORIES:Island Happenings,Market
ATTACH;FMTTYPE=image/jpeg:https://kauaiconnect.com/wp-content/uploads/Makeke-poster-smaller-cC5Uxc.jpg
GEO:21.9697415;-159.3787253
END:VEVENT
BEGIN:VEVENT
DTSTART;TZID=Pacific/Honolulu:20251214T160000
DTEND;TZID=Pacific/Honolulu:20251214T200000
DTSTAMP:20260423T133328
CREATED:20251004T235328Z
LAST-MODIFIED:20251214T133018Z
UID:10001781-1765728000-1765742400@kauaiconnect.com
SUMMARY:Princeville Night Market
DESCRIPTION:Connect with 45 of Kauai’s best artisans at this monthly market. Food trucks\, restaurants\, and several musicians make it a market to remember! \nOur exact vendor line-up changes regularly\, but you’re sure to find paintings\, ceramics\, photography\, jewelry\, soaps & more\, plus meet the local artists who make it all. Three different music tents create a lively atmosphere\, and the food trucks and dessert options aren’t to be missed. \nThis free and family friendly event has been proudly running since 2015. You’ll find us on the Second Sunday of each month from 4-8pm\, only at the Princeville Shopping Center. Our open-air outdoor market is a rain or shine event. We hope to see you there! \nFollow us on instagram! @PrincevilleNightMarket
URL:https://kauaiconnect.com/event/princeville-night-market-20/
LOCATION:Princeville Shopping Center\, 5-4280 Kuhio Hwy\, Princeville\, HI\, 96722\, United States
CATEGORIES:Island Happenings,Market
ATTACH;FMTTYPE=image/jpeg:https://kauaiconnect.com/wp-content/uploads/Julie-qBjZS5.jpg
ORGANIZER;CN="Princeville Night Market":MAILTO:PrincevilleNightMarket@gmail.com
GEO:22.2138865;-159.4737941
X-APPLE-STRUCTURED-LOCATION;VALUE=URI;X-ADDRESS=Princeville Shopping Center 5-4280 Kuhio Hwy Princeville HI 96722 United States;X-APPLE-RADIUS=500;X-TITLE=5-4280 Kuhio Hwy:geo:-159.4737941,22.2138865
END:VEVENT
BEGIN:VEVENT
DTSTART;TZID=Pacific/Honolulu:20251219T110000
DTEND;TZID=Pacific/Honolulu:20251219T200000
DTSTAMP:20260423T133328
CREATED:20251114T080110Z
LAST-MODIFIED:20251219T132904Z
UID:10001861-1766142000-1766174400@kauaiconnect.com
SUMMARY:Mele Mākeke
DESCRIPTION:Join us this holiday season at Mele Mākeke in the former Macy’s Mens building for a new Hawaii marketplace of local and visiting vendors\, just for Kaua’i! \nShop local with Kaua’i local vendors and visiting Hawaii vendors – with new pop-in vendors each week. A wonderful opportunity to discover new gifts this year while supporting our community. \nThe marketplace is open:\nFri. Nov. 28\, 11 am to 8 pm\nSat. Nov. 29 to Sun. Nov. 30\, 11 am to 6 pm\nFri. Dec. 5\, 11 am to 8 pm\nSat. Dec. 6 to Sun. Dec. 7\, 11 am to 6 pm\nFri. Dec. 12\, 11 am to 8 pm\nSat. Dec. 13 to Sun. Dec. 14\, 11 am to 6 pm\nThu. Dec. 18 to Fri. Dec. 19\, 11 am to 8 pm\nSat. Dec. 20 to Sun. Dec. 21\, 11 am to 6 pm\nMon.\, Dec. 22 to Tue. Dec. 23\, 11 am to 6 pm\nWed.\, Dec. 24\, 11 am to 4 pm \nRegular Vendors include:\n‘Alohilanikinimea\n‘Aina Organics\nAloha Edible Souvenirs\nAloha Lemonade\nAlohi Lane Designs Hawaii\nCelina’s Closet\nHapa House\nEHA Culture\nHeart to Pieces\nHigh Vizion\nHomestead Leis & Crafts\nJust Jord\nKaua’i Kine Snacks\nKepola Co.\nKiara’s Western Belts\nKiyomi’s Sweet treats\nKorey’s Kreations\nLei Love Boutique\nLittle Pea in the Pod\nLovelea LLC\nLovellysea\nLovely Charms by Kay\nLuxi Kauai X Warrior Clothing\nMade by Malia\nMailani Hawaii\nMauahi Designs\nMehamei\nNyla + Co.\nRiman\nShiprek Hawaii\nSisters Goodies\nSugar Skull\nSumiko’s\nTsuka’s Charm Catchers\nWahine Kai Jewelry\nWhip It Lures
URL:https://kauaiconnect.com/event/mele-makeke-10/
LOCATION:Kukui Grove Shopping Center\, Lihue\, United States
CATEGORIES:Island Happenings,Market
ATTACH;FMTTYPE=image/jpeg:https://kauaiconnect.com/wp-content/uploads/Makeke-poster-smaller-cC5Uxc.jpg
GEO:21.9697415;-159.3787253
END:VEVENT
BEGIN:VEVENT
DTSTART;TZID=Pacific/Honolulu:20251220T090000
DTEND;TZID=Pacific/Honolulu:20251220T140000
DTSTAMP:20260423T133328
CREATED:20251127T084436Z
LAST-MODIFIED:20251220T132855Z
UID:10001894-1766221200-1766239200@kauaiconnect.com
SUMMARY:Kauai Keiki Holiday Market
DESCRIPTION:Come enjoy a holiday market featuring Kauai’s creative kids! Booth space at this event is free for anyone 18 or under to offer their handmade art\, jewelry\, and crafts to shoppers. In addition to our keiki vendors\, there will be holiday treats and holiday crafts for kids to enjoy. Food and beverage vendors offering everything from coffee to gelato will be open on site as well. \nInterested keiki vendors or their parents can contact Yellow House Kalaheo to register: yellowhousekalaheo@gmail.com or @yellowhousekalaheo on Instagram.
URL:https://kauaiconnect.com/event/kauai-keiki-holiday-market/
LOCATION:Yellow House Kalaheo\, Kalaheo\, Hawaii\, 96741\, United States
CATEGORIES:Island Happenings,Market
ATTACH;FMTTYPE=image/png:https://kauaiconnect.com/wp-content/uploads/Copy-of-KAUAI-KEIKI-HOLIDAY-MARKET-eMpmc0.png
ORGANIZER;CN="Yellow House Kalaheo":MAILTO:yellowhousekalaheo@gmail.com
GEO:21.9235174;-159.5276468
END:VEVENT
BEGIN:VEVENT
DTSTART;TZID=Pacific/Honolulu:20251220T110000
DTEND;TZID=Pacific/Honolulu:20251220T180000
DTSTAMP:20260423T133328
CREATED:20251114T080111Z
LAST-MODIFIED:20251220T132855Z
UID:10001862-1766228400-1766253600@kauaiconnect.com
SUMMARY:Mele Mākeke
DESCRIPTION:Join us this holiday season at Mele Mākeke in the former Macy’s Mens building for a new Hawaii marketplace of local and visiting vendors\, just for Kaua’i! \nShop local with Kaua’i local vendors and visiting Hawaii vendors – with new pop-in vendors each week. A wonderful opportunity to discover new gifts this year while supporting our community. \nThe marketplace is open:\nFri. Nov. 28\, 11 am to 8 pm\nSat. Nov. 29 to Sun. Nov. 30\, 11 am to 6 pm\nFri. Dec. 5\, 11 am to 8 pm\nSat. Dec. 6 to Sun. Dec. 7\, 11 am to 6 pm\nFri. Dec. 12\, 11 am to 8 pm\nSat. Dec. 13 to Sun. Dec. 14\, 11 am to 6 pm\nThu. Dec. 18 to Fri. Dec. 19\, 11 am to 8 pm\nSat. Dec. 20 to Sun. Dec. 21\, 11 am to 6 pm\nMon.\, Dec. 22 to Tue. Dec. 23\, 11 am to 6 pm\nWed.\, Dec. 24\, 11 am to 4 pm \nRegular Vendors include:\n‘Alohilanikinimea\n‘Aina Organics\nAloha Edible Souvenirs\nAloha Lemonade\nAlohi Lane Designs Hawaii\nCelina’s Closet\nHapa House\nEHA Culture\nHeart to Pieces\nHigh Vizion\nHomestead Leis & Crafts\nJust Jord\nKaua’i Kine Snacks\nKepola Co.\nKiara’s Western Belts\nKiyomi’s Sweet treats\nKorey’s Kreations\nLei Love Boutique\nLittle Pea in the Pod\nLovelea LLC\nLovellysea\nLovely Charms by Kay\nLuxi Kauai X Warrior Clothing\nMade by Malia\nMailani Hawaii\nMauahi Designs\nMehamei\nNyla + Co.\nRiman\nShiprek Hawaii\nSisters Goodies\nSugar Skull\nSumiko’s\nTsuka’s Charm Catchers\nWahine Kai Jewelry\nWhip It Lures
URL:https://kauaiconnect.com/event/mele-makeke-11/
LOCATION:Kukui Grove Shopping Center\, Lihue\, United States
CATEGORIES:Island Happenings,Market
ATTACH;FMTTYPE=image/jpeg:https://kauaiconnect.com/wp-content/uploads/Makeke-poster-smaller-cC5Uxc.jpg
GEO:21.9697415;-159.3787253
END:VEVENT
BEGIN:VEVENT
DTSTART;TZID=Pacific/Honolulu:20251220T153000
DTEND;TZID=Pacific/Honolulu:20251220T183000
DTSTAMP:20260423T133328
CREATED:20251208T084423Z
LAST-MODIFIED:20251220T132856Z
UID:10001917-1766244600-1766255400@kauaiconnect.com
SUMMARY:CHRISTMAS CRAFT MARKET ~ MUSIC\, FOOD AND GIFTS!
DESCRIPTION:Come join us at the Elegant Wyndham Bali Hai\, Princeville for our Exceptional Christmas Craft Market featuring Kauai Artists\, Crafters and Vendors! \nNeeding that special heart felt gift that says Merry Christmas!?!  Or maybe you are a last minute shopper?? \nYou will find Gifts for everyone on your list at this special event! \nFrom 3:30pm to 6:30pm \nLocated at: Wyndham Bali Hai\, Princeville 4970 Pepelani Loop\, Princeville\, HI 96722 \nFREE Event\, Family Friendly\, Tons of Fun!   Rain or Shine! \nFrom ALL of our Artists\, Mele Kalikimaka to you and your’s this special Holiday Season!
URL:https://kauaiconnect.com/event/christmas-craft-market-music-food-and-gifts/
LOCATION:Wyndham Bali Hai\, Princeville\, Pepelani Loop 4970\, Princeville\, HI\, 96722\, United States
CATEGORIES:Island Happenings,Market
ATTACH;FMTTYPE=image/jpeg:https://kauaiconnect.com/wp-content/uploads/wyndham-20th-jpeg-KzStcH.jpg
ORGANIZER;CN="HO&#8217%3BOHIWAHIWAFAIR":MAILTO:hoohiwahiwahgi@gmail.com
GEO:22.2239367;-159.4818059
X-APPLE-STRUCTURED-LOCATION;VALUE=URI;X-ADDRESS=Wyndham Bali Hai Princeville Pepelani Loop 4970 Princeville HI 96722 United States;X-APPLE-RADIUS=500;X-TITLE=Pepelani Loop 4970:geo:-159.4818059,22.2239367
END:VEVENT
END:VCALENDAR