BEGIN:VCALENDAR
VERSION:2.0
PRODID:-//Kauaʻi Connect - ECPv6.15.20//NONSGML v1.0//EN
CALSCALE:GREGORIAN
METHOD:PUBLISH
X-WR-CALNAME:Kauaʻi Connect
X-ORIGINAL-URL:https://kauaiconnect.com
X-WR-CALDESC:Events for Kauaʻi Connect
REFRESH-INTERVAL;VALUE=DURATION:PT1H
X-Robots-Tag:noindex
X-PUBLISHED-TTL:PT1H
BEGIN:VTIMEZONE
TZID:Pacific/Honolulu
BEGIN:STANDARD
TZOFFSETFROM:-1000
TZOFFSETTO:-1000
TZNAME:HST
DTSTART:20240101T000000
END:STANDARD
END:VTIMEZONE
BEGIN:VEVENT
DTSTART;TZID=Pacific/Honolulu:20250202T090000
DTEND;TZID=Pacific/Honolulu:20250202T130000
DTSTAMP:20260422T125327
CREATED:20241104T054856Z
LAST-MODIFIED:20241120T101906Z
UID:10000696-1738486800-1738501200@kauaiconnect.com
SUMMARY:Local Treasures Marketplace\, Outdoor Flea Market\, local crafts & food
DESCRIPTION:🌟 Welcome to the Local Treasures Marketplace\, a vibrant celebration of community creativity\, flavors\, and treasures! 🌈 \nJoin us every first Sunday of the month from 9:00 AM to 1:00 PM in the heart of Lihue. The Local Treasures Marketplace is not just an outdoor market; it’s a gathering of local artisans\, bakers\, culinary maestros\, and farmers who bring their passion and craftsmanship to one space. \n🛍️ Immerse yourself in a kaleidoscope of handmade crafts\, where every item tells a unique story. Explore a delectable array of baked goods\, tempting your taste buds with the aroma of local treats prepared with love. Savor the essence of creative local cuisines that capture the spirit of our community’s diverse flavors. \n👜 Hunt for hidden gems among the secondhand wares\, each item with a history and waiting to start a new journey with you. Freshen up your home or wardrobe with these timeless treasures. And for those who embrace a farm-to-table lifestyle\, revel in the abundance of locally grown fruits and vegetables\, showcasing the richness of our land. \n🤝 The Local Treasures Marketplace is more than a market; it’s a commitment to supporting our local community. By choosing handmade\, local\, and sustainable\, you’re contributing to the tapestry of our community’s growth and prosperity. \n🌺 Mark your calendars\, set your alarms\, and make the first Sunday of every month your go-to day for a community-driven experience. Whether you’re a local or a visitor\, this is an invitation to connect\, explore\, and shop with a purpose. \n📢 Interested vendors\, this is your chance to be a part of this incredible experience! Reach out to us at kauaiislandcraftersfair@gmail.com and secure your spot in the Local Treasures Marketplace. Let’s build a stronger community together—one handmade creation\, delicious bite\, and shared story at a time. See you there! 🌟
URL:https://kauaiconnect.com/event/local-treasures-marketplace-outdoor-flea-market-local-crafts-food-9/
LOCATION:Kauai Veterans Center\, 3215 Kapule Hwy\, Lihue\, HI\, 96766\, United States
CATEGORIES:Island Happenings,Market
ATTACH;FMTTYPE=image/png:https://kauaiconnect.com/wp-content/uploads/LTM-2024-Generic-for-KVC-KF-2-4Uivy6.tmp_.png
ORGANIZER;CN="Debbie Yanagihara":MAILTO:kauaiislandcf@hotmail.com
GEO:21.9748624;-159.3537295
X-APPLE-STRUCTURED-LOCATION;VALUE=URI;X-ADDRESS=Kauai Veterans Center 3215 Kapule Hwy Lihue HI 96766 United States;X-APPLE-RADIUS=500;X-TITLE=3215 Kapule Hwy:geo:-159.3537295,21.9748624
END:VEVENT
BEGIN:VEVENT
DTSTART;TZID=Pacific/Honolulu:20250203T180000
DTEND;TZID=Pacific/Honolulu:20250203T203000
DTSTAMP:20260422T125327
CREATED:20241229T093518Z
LAST-MODIFIED:20250203T124826Z
UID:10001256-1738605600-1738614600@kauaiconnect.com
SUMMARY:E Kanikapila Kākou Week 1:  “Golden Nā Leo: Makana Sings Hawaiʻi’s Songs of Romance from the 50s & 60s”
DESCRIPTION:EKK opens Season 2025 on Monday\, February 3 at the OUTRIGGER Kauaʻi Beach Resort & Spa in Lihuʻe with a nostalgic and scintillating musical flashback to an earlier time in Hawaiʻi featuring celebrated entertainer\, singer and slack key virtuoso Makana. \nJoin us for an evening of “golden era” sounds as Makana takes us back in time to the heyday of Hawaiʻi’s legendary crooners\, remembering icons like Alfred Apaka\, Don Ho\, Sonny Chillingworth\, Kui Lee\, The Kalima Brothers and more. \nThe atmosphere of mid-century Waikīkī inspires this tribute to a time and place that remains indelibly tattooed on the hearts and minds of people worldwide\, never again to be experienced. \nMakana shares about his inspiration and process reanimating these vintage styles and sounds: \n“Modernity often feels as though we are being swept into a homogenized future leaving behind our rich and varied cultural past\, yet we value timeless cultural practices\, traditional folk arts\, and cherished memories of a simpler time. I was watching old videos of my kumu\, Uncle Sonny\, and realized his unique slack key sound was partly attributed to a specific guitar – a 1964 Chet Atkins 6120. So\, I went searching\, found one\, and had it restored. The sound is incredible and just like Sonny’s! Hearing it inspired me to go back through my LPs and fall in love once again with songs and sounds from those early days of highly melodic Hapa Haole classics- some sappy\, some truly classy and others downright comical. The levity spoke to me; some innocence lost. Listening to live recordings of these legends brought tears to my eyes. I’m diving into arrangements in slack key and other modes to reanimate favorite mele and exploring my baritone and falsetto deeper. It feels like I’m unearthing all these varied personalities; like acting\, in a fashion. I’m having a blast\, and I’m excited to share these treasures from our past. There’s really almost nowhere in Hawaiʻi one can go to hear the older styles. Virtually everyone has moved on. But I’ve always felt these classic musical contributions deserve our eternal enjoyment and celebration. And they speak to our not-so-distant history\, and in that I feel there is much to be learned in terms of envisioning where we are heading and where we may want to adjust course. As Hawaiʻi homogenizes more toward any modern capitalist society\, what sense of place are we maintaining? Many transplants moved here with the vision portrayed in this old music. Now it’s gone\, and so is the vision\, which means those visions are often replaced by those offered up by corporations and institutions. We all have different orientations; perhaps this particular aesthetic still has great value to offer our diverse community. Simply\, remembering a time when singing\, laughing\, socializing and appreciating beauty were core to our appreciation for being in Hawai’i.” \nMakana believes in honoring those who came before. Makana shares about his inspiration and process reanimating these vintage styles and sounds: \n“As Hawaiian music has “streamlined” with economic influences like the massive hula market in Japan\, much of the musicianship and varied influences have quietly atrophied. Much attention has been given to the renaissance artists of the 70s- Gabby\, Genoa\, Sons of Hawaiʻi\, Mākaha Sons\, Calimero’s\, Peter Moon\, Hui ʻOhana\, Beamers — but not so much from the previous eras. However\, the music from all those eras was intimately influenced by American styles. The crooners of mid-century paved a glorious path of melody\, rhythm and harmony that perfectly encapsulated the aesthetic of the era prior to the folk/ rock explosion of the late 60s. Those entertainers and their magical environs swept locals and visitors alike into a dreamworld of myth\, romance and music- a curious blend of crooning\, lounge\, exotica\, Hawaiian traditions\, Broadway\, Latin jazz and American pop. Songs from this era celebrate the amalgamation of cultures and lifestyles like no other\, like time capsules to a time when Hawaiʻi was truly the romance capital of the world!” \nAttendees are encouraged to dress “period-appropriate” with Hawaiʻi-inspired fashion from the 50s\, 60s and even 70s. To get into the proper mood of the music of an earlier time\, we invite the audience to come dressed in their best “retro” attire from yesteryear; arrive your fashionable best with Japanese silk “ka-be” shirts\, vintage muʻumuʻu\, elegant coifs and whatever else might transport you back to those days of magical music from the bygone golden era of romance celebrated in Hawaiian song. \nInstead of the ʻUkulele Circle\, join us in a Waikiki Welcome! \n#### \nThe Garden Island Arts Council presents E Kanikapila Kakou 2025 as a Community Enrichment program made possible with funding support from the Hawaiʻi Tourism Authority (HTA) with support services from Kilohana at Council for Native Hawaiian Advancement (CNHA). \n#### \nEKK Special from Hotel: \nWe are so excited you are attending our EKK Concert Series! We value and care for our guests and what better way to enjoy the OUTRIGGER Way with an overnight stay. On behalf of EKK and OUTRIGGER Kauai Beach Resort & Spa\, here is a link to our special rates\, as this season is a busy one\, we recommend booking your reservations promptly. \nEKK Series Booking Link \n#### \nHotel Parking Options: Parking options at the OUTRIGGER Kaua`i Beach Resort include the following three choices: 1. Valet parking at the porte-cochere; 2. Free event parking in the unpaved area beyond the covered parking stalls — get there by turning right at the first opportunity and then take a left into a dirt field; or 3. Enter the first gated area on your right\, a bit closer to the ballroom entrance than the dirt entrance\, and turn into that gated area. Press a button to make the gate rise\, collect a ticket issued by the machine and hold onto it. Get it validated just inside the ballroom door to receive a special validation for a $10 total parking fee. Use that ticket to exit the gate\, paying the balance due at a kiosk machine near the restrooms or at the gate with your credit card.
URL:https://kauaiconnect.com/event/e-kanikapila-kakou-week-1-golden-na-leo-makana-sings-hawai%ca%bbis-songs-of-romance-from-the-50s-60s/
LOCATION:Kauai Beach Resort\, Jasmine Ballroom\, 4331 Kauai Beach Drive\, Lihue\, 96766
CATEGORIES:Celebration,Featured Events,Island Happenings,Market
ATTACH;FMTTYPE=image/png:https://kauaiconnect.com/wp-content/uploads/Makana-2-EOaolR.tmp_.png
ORGANIZER;CN="Garden Island Arts Council":MAILTO:giac05@icloud.com
GEO:22.0099781;-159.3371893
X-APPLE-STRUCTURED-LOCATION;VALUE=URI;X-ADDRESS=Kauai Beach Resort Jasmine Ballroom 4331 Kauai Beach Drive Lihue 96766;X-APPLE-RADIUS=500;X-TITLE=4331 Kauai Beach Drive:geo:-159.3371893,22.0099781
END:VEVENT
BEGIN:VEVENT
DTSTART;TZID=Pacific/Honolulu:20250207T160000
DTEND;TZID=Pacific/Honolulu:20250207T200000
DTSTAMP:20260422T125327
CREATED:20250122T113400Z
LAST-MODIFIED:20250207T130348Z
UID:10001301-1738944000-1738958400@kauaiconnect.com
SUMMARY:Downtown Līhuʻe Lunar New Year Celebration
DESCRIPTION:Enjoy a free Lion Dance to celebrate the Lunar New Year in Downtown Līhuʻe. Join us at our Aloha 1st Friday Art Night event on Friday February 7\, at Hale Līhuʻe\, with a lion dance performance at 4pm. \nOr join us the following evening at 2nd Saturday Night Market on Kress Street\, with a lion dance performance at 4pm. \nBoth events are free. Enjoy local vendors\, live entertainment\, and local food vendors. \n  \n 
URL:https://kauaiconnect.com/event/downtown-lihu%ca%bbe-lunar-new-year-celebration/
LOCATION:Hale Lihue\, 4286 Rice Street\, Lihue\, HI\, 96766\, United States
CATEGORIES:Island Happenings,Market
ATTACH;FMTTYPE=image/png:https://kauaiconnect.com/wp-content/uploads/lunar-New-Year-1-OOCXyf.tmp_.png
ORGANIZER;CN="Rice Street Business Association":MAILTO:kauairsba@gmail.com
GEO:21.9728519;-159.365047
X-APPLE-STRUCTURED-LOCATION;VALUE=URI;X-ADDRESS=Hale Lihue 4286 Rice Street Lihue HI 96766 United States;X-APPLE-RADIUS=500;X-TITLE=4286 Rice Street:geo:-159.365047,21.9728519
END:VEVENT
BEGIN:VEVENT
DTSTART;TZID=Pacific/Honolulu:20250208T093000
DTEND;TZID=Pacific/Honolulu:20250208T123000
DTSTAMP:20260422T125327
CREATED:20241110T062103Z
LAST-MODIFIED:20241218T104856Z
UID:10000706-1739007000-1739017800@kauaiconnect.com
SUMMARY:Princeville Farmers and Arts Market
DESCRIPTION:A Weekly event in the beautiful Prince Albert Park in Princeville.  Featuring locally grown produce\, honey\, and value added products along with a vast array of Kauai designed and created products including handcrafts\, jewelry\, clothing\, photos\, artwork and more from Kauai’s talented artists. Live music and local food vendors make this a must stop for both visitors and locals alike!
URL:https://kauaiconnect.com/event/princeville-farmers-and-arts-market-33/
LOCATION:Prince Albert Park\, Princeville\, 4334 Emmalani Rd.\, Princeville\, HI\, 96722\, United States
CATEGORIES:Island Happenings,Market
ATTACH;FMTTYPE=image/jpeg:https://kauaiconnect.com/wp-content/uploads/IMG_0008-Ee3vDw.tmp_.jpg
ORGANIZER;CN="Bloom and Prosper Hawaii":MAILTO:mckenzie@bloomandprosperhawaii.com
GEO:22.2148061;-159.4716207
X-APPLE-STRUCTURED-LOCATION;VALUE=URI;X-ADDRESS=Prince Albert Park Princeville 4334 Emmalani Rd. Princeville HI 96722 United States;X-APPLE-RADIUS=500;X-TITLE=4334 Emmalani Rd.:geo:-159.4716207,22.2148061
END:VEVENT
BEGIN:VEVENT
DTSTART;TZID=Pacific/Honolulu:20250208T160000
DTEND;TZID=Pacific/Honolulu:20250208T200000
DTSTAMP:20260422T125327
CREATED:20241110T062103Z
LAST-MODIFIED:20250208T130326Z
UID:10000707-1739030400-1739044800@kauaiconnect.com
SUMMARY:Downtown Lihue 2nd Saturday Night Market
DESCRIPTION:Join us on Kress Street for Downtown Lihue’s 2nd Saturday Night Market. Locally made crafts\, gifts\, food trucks\, baked goods\, live entertainment\, and much more! With over 40 local vendors we’re sure that there’s something for you to enjoy.\nThis event is free to attend\, family friendly\, and an outdoor open to the public. Hosted by the Hawaiʻi Tourism Authority and Alakoko Shop.\nIf you are an interested vendor\, register at www.downtownlihue.com/night-market-details
URL:https://kauaiconnect.com/event/downtown-lihue-2nd-saturday-night-market-10/
LOCATION:Kress Street\, Kress Street\, Lihue\, 96766
CATEGORIES:Island Happenings,Market
ATTACH;FMTTYPE=image/jpeg:https://kauaiconnect.com/wp-content/uploads/Animation-QRF3w7.tmp_.jpg
ORGANIZER;CN="Rice Street Business Association":MAILTO:kauairsba@gmail.com
GEO:21.9719121;-159.3658532
X-APPLE-STRUCTURED-LOCATION;VALUE=URI;X-ADDRESS=Kress Street Kress Street Lihue 96766;X-APPLE-RADIUS=500;X-TITLE=Kress Street:geo:-159.3658532,21.9719121
END:VEVENT
BEGIN:VEVENT
DTSTART;TZID=Pacific/Honolulu:20250208T160000
DTEND;TZID=Pacific/Honolulu:20250208T200000
DTSTAMP:20260422T125327
CREATED:20250122T113403Z
LAST-MODIFIED:20250208T130327Z
UID:10001302-1739030400-1739044800@kauaiconnect.com
SUMMARY:Downtown Līhuʻe Lunar New Year Celebration
DESCRIPTION:Enjoy a free Lion Dance to celebrate the Lunar New Year in Downtown Līhuʻe. Join us at our Aloha 1st Friday Art Night event on Friday February 7\, at Hale Līhuʻe\, with a lion dance performance at 4pm. \nOr join us the following evening at 2nd Saturday Night Market on Kress Street\, with a lion dance performance at 4pm. \nBoth events are free. Enjoy local vendors\, live entertainment\, and local food vendors. \n  \n 
URL:https://kauaiconnect.com/event/downtown-lihu%ca%bbe-lunar-new-year-celebration-2/
LOCATION:Hale Lihue\, 4286 Rice Street\, Lihue\, HI\, 96766\, United States
CATEGORIES:Island Happenings,Market
ATTACH;FMTTYPE=image/png:https://kauaiconnect.com/wp-content/uploads/lunar-New-Year-1-OOCXyf.tmp_.png
ORGANIZER;CN="Rice Street Business Association":MAILTO:kauairsba@gmail.com
GEO:21.9728519;-159.365047
X-APPLE-STRUCTURED-LOCATION;VALUE=URI;X-ADDRESS=Hale Lihue 4286 Rice Street Lihue HI 96766 United States;X-APPLE-RADIUS=500;X-TITLE=4286 Rice Street:geo:-159.365047,21.9728519
END:VEVENT
BEGIN:VEVENT
DTSTART;TZID=Pacific/Honolulu:20250208T173000
DTEND;TZID=Pacific/Honolulu:20250208T213000
DTSTAMP:20260422T125327
CREATED:20250123T113540Z
LAST-MODIFIED:20250208T130326Z
UID:10001305-1739035800-1739050200@kauaiconnect.com
SUMMARY:The Polish Ambassador
DESCRIPTION:The Polish Ambassador\nHawaii Island Tour 2025 – TICKETS HERE \nShow Date\nSaturday February 8th\, 2025 \nThe Polish Ambassador\nMusician. Producer. Beatsmith. Recording artist. Composer. Dance-floor general. Label-head. A mystery man of many hats\, The Polish Ambassador rocks more than just a trademark jumpsuit\, authoring sublime\, intentional artistic works\, animated safaris in technicolor sound. At first breath\, The Polish Ambassador was an experiment\, David Sugalski’s sound-art passion project that came to life. An inventive\, imaginary character bor Bold Keyboard shortcut Command+Bn of humble\, humorous beginnings\, he found his first audiences through the support of primitive digital radio stations. Today\, TPA is among the premier EDM/live crossover artists in the country with millions of listeners around the world; he’s consistently in-demand at the live music-focused gatherings and boutique electronic festivals from coast to coast. Founder of independent label Jumpsuit Records\, an environmentalist and early progenitor of the permaculture action movement\, the world’s funkiest diplomat is here to party with a purpose. \nSince 2006\, The Polish Ambassador has consistently released critically-acclaimed full-length albums on Jumpsuit Records\, alongside a dizzying number of side-projects and multi-form collaborations. All the while launching the careers of a diverse smattering of artists that run the gamut in geography and genre. TPA continues to spread his wings in teaming up with eclectic musicians from around the world\, including Matisyahu\, Nitty Scott\, Zion I\, The Grouch\, Mr. Lif\, and dozens of others. He is one-half of the celebrated folktronica project Wildlight\, a duo in which he pairs with ethereal songstress Ayla Nereo. \nThe Polish Ambassador’s prolific output incorporates many styles\, from exuberant global-house to fatback mid-tempo funk\, you’ll pick up on West African percussion alongside stirring Kirtan melodies\, a psychedelic sax solo or a fresh verse from a Brooklyn female emcee. TPA employs live horns\, keyboards\, guitars\, violins\, and a bevy of talented instrumentalists on stage. “The Jumpsuited One” has headlined iconic venues like Red Rocks Amphitheatre in Morrison\, Colorado\, and the renowned counter-culture gathering Oregon Country Fair. Suwannee Hulaween\, Electric Forest\, Envision Festival\, and Lightning in a Bottle and other national festivals have each repeatedly invited TPA back across different years. \nIn alignment with TPA’s artistic ethos is a low-key lifestyle that places a premium on being present\, living in harmony with nature\, participating in community and inspiring it to thrive. Offstage\, David Sugalski instigated a village-building convergence in his hometown in Northern California\, and manages his own 25-acre homestead in the picture-Esque\, rolling Sierra Nevada foothills. The farmer/carpenter lives modestly in a cabin he built on his land of the lush; TPA music is created in a solar-powered recording studio on the property. When he removes the famed bright blue-and-yellow 80’s jumpsuit and reverts back to his humanoid self\, Sugalski is an avid solo bicyclist who enjoys venturing up California’s breathtaking coastal Highway 1; he’s a dedicated van-adventurer\, having built out an exquisite tiny home inside a contractors van. \nSugalski plans his TPA tours for minimum carbon footprint\, he advocates for healthy-beverage alternatives at music venues. Jumpsuit Records has donated tens of thousands of dollars to various non-profit organizations and charities; a portion of the label split goes to supporting non-profits voted on by fans. TPA’s awareness-in-action coalesces with numerous non-profit endeavors\, including Jumpsuit Records\, own 501(c) certified organization ActionDays.us. TPA decided to eliminate the merchandise from his business model\, in order to facilitate a fan-operated buy-and-sell marketplace. The Polish Ambassador has evolved exponentially\, from an art project to a vibration; a joyful community that thrives on the dancefloor and finds freedom\, connection\, and collective oneness through this music. \nConcerts with a Cause\nAnaina Hou Community Park is excited to continue our Concerts with a Cause Mission Driven Music offerings with The Polish Ambassador! This concert is shining light on The Kauai Humane Society. $2 from every ticket purchased to the show will go back to supporting their amazing work. For more information or to make a direct donation to KHS please visit https://kauaihumane.org/donate \n\n\n\nWhat’s included\n\nThis is GA standing room show. We will have some seating sections set up throughout the venue available on a first come first serve basis. \nWe will have some covered raised tables available around the perimeter of the lawned area. \n\n\n\nWhat’s not included\n\nBeverage Concessions both Alcoholic and Non Alcoholic will be available throughout the show. \nFood will be available for purchase on site. The Pavilion Kitchen is open with a full menu of hot meals and snacks. Vegan/ Vegetarian options will be available. \n\n\n\nItinerary\n\nShow Details\n5:30 PM: Doors Open\n6:30 PM: Music \nTicket Details\nGA Tickets $42.00\nDay of Show Tickets $55 if Available
URL:https://kauaiconnect.com/event/the-polish-ambassador/
LOCATION:Anaina Hou Porter Pavilion\, 5-2723 Kuhio Highway\, Kilauea\, 96754
CATEGORIES:Island Happenings,Market
ATTACH;FMTTYPE=image/png:https://kauaiconnect.com/wp-content/uploads/RGB-Polish.pdf-Instagram-Post-copy-DvJq7q.tmp_.png
ORGANIZER;CN="Anaina Hou Community Park":MAILTO:community@anainahou.org
GEO:22.2109763;-159.4160471
X-APPLE-STRUCTURED-LOCATION;VALUE=URI;X-ADDRESS=Anaina Hou Porter Pavilion 5-2723 Kuhio Highway Kilauea 96754;X-APPLE-RADIUS=500;X-TITLE=5-2723 Kuhio Highway:geo:-159.4160471,22.2109763
END:VEVENT
END:VCALENDAR