BEGIN:VCALENDAR
VERSION:2.0
PRODID:-//Kauaʻi Connect - ECPv6.15.20//NONSGML v1.0//EN
CALSCALE:GREGORIAN
METHOD:PUBLISH
X-ORIGINAL-URL:https://kauaiconnect.com
X-WR-CALDESC:Events for Kauaʻi Connect
REFRESH-INTERVAL;VALUE=DURATION:PT1H
X-Robots-Tag:noindex
X-PUBLISHED-TTL:PT1H
BEGIN:VTIMEZONE
TZID:Pacific/Honolulu
BEGIN:STANDARD
TZOFFSETFROM:-1000
TZOFFSETTO:-1000
TZNAME:HST
DTSTART:20250101T000000
END:STANDARD
END:VTIMEZONE
BEGIN:VEVENT
DTSTART;TZID=Pacific/Honolulu:20260102T110000
DTEND;TZID=Pacific/Honolulu:20260102T200000
DTSTAMP:20260422T063027
CREATED:20251114T080115Z
LAST-MODIFIED:20260102T154406Z
UID:10001868-1767351600-1767384000@kauaiconnect.com
SUMMARY:Mele Mākeke
DESCRIPTION:Join us this holiday season at Mele Mākeke in the former Macy’s Mens building for a new Hawaii marketplace of local and visiting vendors\, just for Kaua’i! \nShop local with Kaua’i local vendors and visiting Hawaii vendors – with new pop-in vendors each week. A wonderful opportunity to discover new gifts this year while supporting our community. \nThe marketplace is open:\nFri. Nov. 28\, 11 am to 8 pm\nSat. Nov. 29 to Sun. Nov. 30\, 11 am to 6 pm\nFri. Dec. 5\, 11 am to 8 pm\nSat. Dec. 6 to Sun. Dec. 7\, 11 am to 6 pm\nFri. Dec. 12\, 11 am to 8 pm\nSat. Dec. 13 to Sun. Dec. 14\, 11 am to 6 pm\nThu. Dec. 18 to Fri. Dec. 19\, 11 am to 8 pm\nSat. Dec. 20 to Sun. Dec. 21\, 11 am to 6 pm\nMon.\, Dec. 22 to Tue. Dec. 23\, 11 am to 6 pm\nWed.\, Dec. 24\, 11 am to 4 pm \nRegular Vendors include:\n‘Alohilanikinimea\n‘Aina Organics\nAloha Edible Souvenirs\nAloha Lemonade\nAlohi Lane Designs Hawaii\nCelina’s Closet\nHapa House\nEHA Culture\nHeart to Pieces\nHigh Vizion\nHomestead Leis & Crafts\nJust Jord\nKaua’i Kine Snacks\nKepola Co.\nKiara’s Western Belts\nKiyomi’s Sweet treats\nKorey’s Kreations\nLei Love Boutique\nLittle Pea in the Pod\nLovelea LLC\nLovellysea\nLovely Charms by Kay\nLuxi Kauai X Warrior Clothing\nMade by Malia\nMailani Hawaii\nMauahi Designs\nMehamei\nNyla + Co.\nRiman\nShiprek Hawaii\nSisters Goodies\nSugar Skull\nSumiko’s\nTsuka’s Charm Catchers\nWahine Kai Jewelry\nWhip It Lures
URL:https://kauaiconnect.com/event/mele-makeke-17/
LOCATION:Kukui Grove Shopping Center\, Lihue\, United States
CATEGORIES:Island Happenings,Market
ATTACH;FMTTYPE=image/jpeg:https://kauaiconnect.com/wp-content/uploads/Makeke-poster-smaller-cC5Uxc.jpg
GEO:21.9697415;-159.3787253
END:VEVENT
BEGIN:VEVENT
DTSTART;TZID=Pacific/Honolulu:20260109T110000
DTEND;TZID=Pacific/Honolulu:20260109T200000
DTSTAMP:20260422T063027
CREATED:20251114T080116Z
LAST-MODIFIED:20260105T154446Z
UID:10001869-1767956400-1767988800@kauaiconnect.com
SUMMARY:Mele Mākeke
DESCRIPTION:Join us this holiday season at Mele Mākeke in the former Macy’s Mens building for a new Hawaii marketplace of local and visiting vendors\, just for Kaua’i! \nShop local with Kaua’i local vendors and visiting Hawaii vendors – with new pop-in vendors each week. A wonderful opportunity to discover new gifts this year while supporting our community. \nThe marketplace is open:\nFri. Nov. 28\, 11 am to 8 pm\nSat. Nov. 29 to Sun. Nov. 30\, 11 am to 6 pm\nFri. Dec. 5\, 11 am to 8 pm\nSat. Dec. 6 to Sun. Dec. 7\, 11 am to 6 pm\nFri. Dec. 12\, 11 am to 8 pm\nSat. Dec. 13 to Sun. Dec. 14\, 11 am to 6 pm\nThu. Dec. 18 to Fri. Dec. 19\, 11 am to 8 pm\nSat. Dec. 20 to Sun. Dec. 21\, 11 am to 6 pm\nMon.\, Dec. 22 to Tue. Dec. 23\, 11 am to 6 pm\nWed.\, Dec. 24\, 11 am to 4 pm \nRegular Vendors include:\n‘Alohilanikinimea\n‘Aina Organics\nAloha Edible Souvenirs\nAloha Lemonade\nAlohi Lane Designs Hawaii\nCelina’s Closet\nHapa House\nEHA Culture\nHeart to Pieces\nHigh Vizion\nHomestead Leis & Crafts\nJust Jord\nKaua’i Kine Snacks\nKepola Co.\nKiara’s Western Belts\nKiyomi’s Sweet treats\nKorey’s Kreations\nLei Love Boutique\nLittle Pea in the Pod\nLovelea LLC\nLovellysea\nLovely Charms by Kay\nLuxi Kauai X Warrior Clothing\nMade by Malia\nMailani Hawaii\nMauahi Designs\nMehamei\nNyla + Co.\nRiman\nShiprek Hawaii\nSisters Goodies\nSugar Skull\nSumiko’s\nTsuka’s Charm Catchers\nWahine Kai Jewelry\nWhip It Lures
URL:https://kauaiconnect.com/event/mele-makeke-18/
LOCATION:Kukui Grove Shopping Center\, Lihue\, United States
CATEGORIES:Island Happenings,Market
ATTACH;FMTTYPE=image/jpeg:https://kauaiconnect.com/wp-content/uploads/Makeke-poster-smaller-cC5Uxc.jpg
GEO:21.9697415;-159.3787253
END:VEVENT
BEGIN:VEVENT
DTSTART;TZID=Pacific/Honolulu:20260110T160000
DTEND;TZID=Pacific/Honolulu:20260110T200000
DTSTAMP:20260422T063027
CREATED:20251112T035900Z
LAST-MODIFIED:20260110T161356Z
UID:10001850-1768060800-1768075200@kauaiconnect.com
SUMMARY:Downtown Lihue 2nd Saturday Night Market
DESCRIPTION:Join us on Kress Street for Downtown Lihue’s 2nd Saturday Night Market. Locally made crafts\, gifts\, food trucks\, baked goods\, live entertainment\, and much more! With over 40 local vendors we’re sure that there’s something for you to enjoy.\nThis event is free to attend\, family friendly\, and an outdoor open to the public. Hosted by the Hawaiʻi Tourism Authority and Alakoko Shop.\nIf you are an interested vendor\, register at www.downtownlihue.com/night-market-details
URL:https://kauaiconnect.com/event/downtown-lihue-2nd-saturday-night-market-22/
LOCATION:Kress Street\, Kress Street\, Lihue\, 96766
CATEGORIES:Celebration,Featured Events,Island Happenings,Market
ATTACH;FMTTYPE=image/jpeg:https://kauaiconnect.com/wp-content/uploads/2026-DLNM-Jq8PuP.jpg
ORGANIZER;CN="Rice Street Business Association":MAILTO:kauairsba@gmail.com
GEO:21.9719121;-159.3658532
X-APPLE-STRUCTURED-LOCATION;VALUE=URI;X-ADDRESS=Kress Street Kress Street Lihue 96766;X-APPLE-RADIUS=500;X-TITLE=Kress Street:geo:-159.3658532,21.9719121
END:VEVENT
BEGIN:VEVENT
DTSTART;TZID=Pacific/Honolulu:20260111T160000
DTEND;TZID=Pacific/Honolulu:20260111T200000
DTSTAMP:20260422T063027
CREATED:20251013T002629Z
LAST-MODIFIED:20260111T161443Z
UID:10001788-1768147200-1768161600@kauaiconnect.com
SUMMARY:Princeville Night Market
DESCRIPTION:Connect with 45 of Kauai’s best artisans at this monthly market. Food trucks\, restaurants\, and several musicians make it a market to remember! \nOur exact vendor line-up changes regularly\, but you’re sure to find paintings\, ceramics\, photography\, jewelry\, soaps & more\, plus meet the local artists who make it all. Three different music tents create a lively atmosphere\, and the food trucks and dessert options aren’t to be missed. \nThis free and family friendly event has been proudly running since 2015. You’ll find us on the Second Sunday of each month from 4-8pm\, only at the Princeville Shopping Center. Our open-air outdoor market is a rain or shine event. We hope to see you there! \nFollow us on instagram! @PrincevilleNightMarket
URL:https://kauaiconnect.com/event/princeville-night-market-21/
LOCATION:Princeville Shopping Center\, 5-4280 Kuhio Hwy\, Princeville\, HI\, 96722\, United States
CATEGORIES:Island Happenings,Market
ATTACH;FMTTYPE=image/jpeg:https://kauaiconnect.com/wp-content/uploads/Julie-qBjZS5.jpg
ORGANIZER;CN="Princeville Night Market":MAILTO:PrincevilleNightMarket@gmail.com
GEO:22.2138865;-159.4737941
X-APPLE-STRUCTURED-LOCATION;VALUE=URI;X-ADDRESS=Princeville Shopping Center 5-4280 Kuhio Hwy Princeville HI 96722 United States;X-APPLE-RADIUS=500;X-TITLE=5-4280 Kuhio Hwy:geo:-159.4737941,22.2138865
END:VEVENT
BEGIN:VEVENT
DTSTART;TZID=Pacific/Honolulu:20260116T110000
DTEND;TZID=Pacific/Honolulu:20260116T200000
DTSTAMP:20260422T063027
CREATED:20251114T080118Z
LAST-MODIFIED:20260105T154452Z
UID:10001870-1768561200-1768593600@kauaiconnect.com
SUMMARY:Mele Mākeke
DESCRIPTION:Join us this holiday season at Mele Mākeke in the former Macy’s Mens building for a new Hawaii marketplace of local and visiting vendors\, just for Kaua’i! \nShop local with Kaua’i local vendors and visiting Hawaii vendors – with new pop-in vendors each week. A wonderful opportunity to discover new gifts this year while supporting our community. \nThe marketplace is open:\nFri. Nov. 28\, 11 am to 8 pm\nSat. Nov. 29 to Sun. Nov. 30\, 11 am to 6 pm\nFri. Dec. 5\, 11 am to 8 pm\nSat. Dec. 6 to Sun. Dec. 7\, 11 am to 6 pm\nFri. Dec. 12\, 11 am to 8 pm\nSat. Dec. 13 to Sun. Dec. 14\, 11 am to 6 pm\nThu. Dec. 18 to Fri. Dec. 19\, 11 am to 8 pm\nSat. Dec. 20 to Sun. Dec. 21\, 11 am to 6 pm\nMon.\, Dec. 22 to Tue. Dec. 23\, 11 am to 6 pm\nWed.\, Dec. 24\, 11 am to 4 pm \nRegular Vendors include:\n‘Alohilanikinimea\n‘Aina Organics\nAloha Edible Souvenirs\nAloha Lemonade\nAlohi Lane Designs Hawaii\nCelina’s Closet\nHapa House\nEHA Culture\nHeart to Pieces\nHigh Vizion\nHomestead Leis & Crafts\nJust Jord\nKaua’i Kine Snacks\nKepola Co.\nKiara’s Western Belts\nKiyomi’s Sweet treats\nKorey’s Kreations\nLei Love Boutique\nLittle Pea in the Pod\nLovelea LLC\nLovellysea\nLovely Charms by Kay\nLuxi Kauai X Warrior Clothing\nMade by Malia\nMailani Hawaii\nMauahi Designs\nMehamei\nNyla + Co.\nRiman\nShiprek Hawaii\nSisters Goodies\nSugar Skull\nSumiko’s\nTsuka’s Charm Catchers\nWahine Kai Jewelry\nWhip It Lures
URL:https://kauaiconnect.com/event/mele-makeke-19/
LOCATION:Kukui Grove Shopping Center\, Lihue\, United States
CATEGORIES:Island Happenings,Market
ATTACH;FMTTYPE=image/jpeg:https://kauaiconnect.com/wp-content/uploads/Makeke-poster-smaller-cC5Uxc.jpg
GEO:21.9697415;-159.3787253
END:VEVENT
BEGIN:VEVENT
DTSTART;TZID=Pacific/Honolulu:20260117T080000
DTEND;TZID=Pacific/Honolulu:20260117T140000
DTSTAMP:20260422T063027
CREATED:20251019T032534Z
LAST-MODIFIED:20260117T165951Z
UID:10001795-1768636800-1768658400@kauaiconnect.com
SUMMARY:Kauai Island Crafters Fair
DESCRIPTION:🌺 Artisans & Crafters Fair hosted by Kauai Island Crafters Fair! 🌺 \nEmbark on a journey of creativity and culture at the Kauai Island Crafters Fair\, a celebrated event with a 15-year tradition of bringing together the best of Kauai’s local artisans and crafters.  Nestled in the heart of this breathtaking island\, our fair showcases the essence of Kauai’s craftsmanship\, offering a unique opportunity for both visitors and locals to connect with the vibrant artistic spirit of the community.  Step into a world where every item tells a story\, as skilled Kauai artisans proudly display their locally handmade treasures.  Immerse yourself in a shopping experience where each handcrafted product is a piece of Kauai’s soul\, inviting you to take home a special memento of your island vacation. \n✨ Event Highlights: \n\nShop Handmade: Explore a diverse selection of locally crafted items\, from jewelry to home décor\, art\, clothing\, sewn textiles\, and more.\nMeet the Makers: Get to know the talented artisans behind the creations and hear the stories that inspire their work.\nSupport Local: By attending\, you’re helping small Kauai businesses thrive and preserving the island’s rich cultural artistry.\n\n📍 Location: Indoors with convenient outdoor parking. \nBring your family and friends and immerse yourself in the warmth and creativity of Kauai’s local community. Don’t miss this opportunity to discover that perfect handmade treasure! \n📣 Interested vendors can reach out to kauaiislandcraftersfair@gmail.com.  Spread the word\, tag your friends\, and follow @kauaiislandcraftersfair – Let’s support Kauai’s local artisans together! \n  \n#KauaiIslandCraftersFair #ShopSmallKauai #SupportLocalArtisans #HandmadeWithAloha #KauaiCraftFair #MadeOnKauai #KauaiGifts #KauaiVacationVibes #SupportSmallBusiness #KauaiShopping #KauaiSouvenirs #HawaiiCraftMarket #CraftFairFinds #KauaiEvents
URL:https://kauaiconnect.com/event/kauai-island-crafters-fair-58/
LOCATION:Kauai Veterans Center\, 3215 Kapule Hwy\, Lihue\, HI\, 96766\, United States
CATEGORIES:Island Happenings,Market
ATTACH;FMTTYPE=image/jpeg:https://kauaiconnect.com/wp-content/uploads/Pink-Futon-Baby-rotated-5QIOUO.jpg
ORGANIZER;CN="Debbie Yanagihara":MAILTO:kauaiislandcf@hotmail.com
GEO:21.9748624;-159.3537295
X-APPLE-STRUCTURED-LOCATION;VALUE=URI;X-ADDRESS=Kauai Veterans Center 3215 Kapule Hwy Lihue HI 96766 United States;X-APPLE-RADIUS=500;X-TITLE=3215 Kapule Hwy:geo:-159.3537295,21.9748624
END:VEVENT
BEGIN:VEVENT
DTSTART;TZID=Pacific/Honolulu:20260123T110000
DTEND;TZID=Pacific/Honolulu:20260123T200000
DTSTAMP:20260422T063027
CREATED:20251114T080120Z
LAST-MODIFIED:20260105T154454Z
UID:10001871-1769166000-1769198400@kauaiconnect.com
SUMMARY:Mele Mākeke
DESCRIPTION:Join us this holiday season at Mele Mākeke in the former Macy’s Mens building for a new Hawaii marketplace of local and visiting vendors\, just for Kaua’i! \nShop local with Kaua’i local vendors and visiting Hawaii vendors – with new pop-in vendors each week. A wonderful opportunity to discover new gifts this year while supporting our community. \nThe marketplace is open:\nFri. Nov. 28\, 11 am to 8 pm\nSat. Nov. 29 to Sun. Nov. 30\, 11 am to 6 pm\nFri. Dec. 5\, 11 am to 8 pm\nSat. Dec. 6 to Sun. Dec. 7\, 11 am to 6 pm\nFri. Dec. 12\, 11 am to 8 pm\nSat. Dec. 13 to Sun. Dec. 14\, 11 am to 6 pm\nThu. Dec. 18 to Fri. Dec. 19\, 11 am to 8 pm\nSat. Dec. 20 to Sun. Dec. 21\, 11 am to 6 pm\nMon.\, Dec. 22 to Tue. Dec. 23\, 11 am to 6 pm\nWed.\, Dec. 24\, 11 am to 4 pm \nRegular Vendors include:\n‘Alohilanikinimea\n‘Aina Organics\nAloha Edible Souvenirs\nAloha Lemonade\nAlohi Lane Designs Hawaii\nCelina’s Closet\nHapa House\nEHA Culture\nHeart to Pieces\nHigh Vizion\nHomestead Leis & Crafts\nJust Jord\nKaua’i Kine Snacks\nKepola Co.\nKiara’s Western Belts\nKiyomi’s Sweet treats\nKorey’s Kreations\nLei Love Boutique\nLittle Pea in the Pod\nLovelea LLC\nLovellysea\nLovely Charms by Kay\nLuxi Kauai X Warrior Clothing\nMade by Malia\nMailani Hawaii\nMauahi Designs\nMehamei\nNyla + Co.\nRiman\nShiprek Hawaii\nSisters Goodies\nSugar Skull\nSumiko’s\nTsuka’s Charm Catchers\nWahine Kai Jewelry\nWhip It Lures
URL:https://kauaiconnect.com/event/mele-makeke-20/
LOCATION:Kukui Grove Shopping Center\, Lihue\, United States
CATEGORIES:Island Happenings,Market
ATTACH;FMTTYPE=image/jpeg:https://kauaiconnect.com/wp-content/uploads/Makeke-poster-smaller-cC5Uxc.jpg
GEO:21.9697415;-159.3787253
END:VEVENT
BEGIN:VEVENT
DTSTART;TZID=Pacific/Honolulu:20260124T080000
DTEND;TZID=Pacific/Honolulu:20260124T140000
DTSTAMP:20260422T063027
CREATED:20260101T141404Z
LAST-MODIFIED:20260124T173016Z
UID:10001989-1769241600-1769263200@kauaiconnect.com
SUMMARY:Artisans & Crafters Fair
DESCRIPTION:🌺 Artisans & Crafters Fair Event 🌺\nHosted by Kauai Island Crafters Fair \nDiscover the heart and soul of Kauai at our Artisans & Crafters Fair Event\, where creativity\, culture\, and community come together in the most inspiring way. With over 12 years of celebrating local talent\, the Kauai Island Crafters Fair has hosted these events becoming a beloved gathering place for those who value authenticity\, craftsmanship\, and the stories behind handmade goods. \nEach month\, we transform our indoor venue into a vibrant marketplace filled with the sights\, textures\, and aloha spirit that make Kauai so special. From meticulously handcrafted jewelry and island-inspired artwork to sewn textiles\, home décor\, apparel\, and one-of-a-kind gifts\, every booth offers something meaningful and truly made on Kauai. \nThis is more than shopping—it’s an experience. Wander the aisles\, meet the makers\, and connect directly with the artisans who pour their passion into every piece. Whether you’re a visitor searching for the perfect keepsake or a local supporting your community\, you’ll feel the magic that only a handmade market can bring. \n✨ Why You’ll Love Our Monthly Markets: \n\nHandmade with Aloha: Shop an ever-changing collection of locally crafted goods you won’t find anywhere else.\nMeet the Artisans: Hear the stories\, inspirations\, and traditions behind each creation.\nSupport Local: Your purchases directly support Kauai’s small businesses and creative community.\nEasy & Comfortable: Enjoy an indoor shopping experience with convenient outdoor parking.\n\nBring your family\, invite your friends\, and make it a monthly tradition to celebrate Kauai’s incredible creative talent. Every event offers something new\, something special\, and something unforgettable. \n📍 Location: Indoors | Convenient Outdoor Parking\n📣 Interested Vendors: kauaiislandcraftersfair@gmail.com\n📲 IG Follow & share the love: @kauaiislandcraftersfair \nCome experience the joy of handmade\, the power of community\, and the spirit of Kauai—we can’t wait to welcome you! \n#KauaiIslandCraftersFair #HandmadeWithAloha #ShopLocalKauai #SupportLocalArtisans #MadeOnKauai #KauaiCraftMarket #KauaiEvents #HawaiiCraftFair #ShopSmallKauai #KauaiGifts #KauaiCreatives #IslandMade #KauaiShopping
URL:https://kauaiconnect.com/event/artisans-crafters-fair/
LOCATION:Koloa Neighborhood Center\, 3461B Weliweli Rd.\, Koloa\, 96756
CATEGORIES:Island Happenings,Market
ATTACH;FMTTYPE=image/jpeg:https://kauaiconnect.com/wp-content/uploads/Futon-stack-rotated-YA1Oma.jpg
ORGANIZER;CN="Debbie Yanagihara":MAILTO:kauaiislandcf@hotmail.com
GEO:21.9035095;-159.4639758
X-APPLE-STRUCTURED-LOCATION;VALUE=URI;X-ADDRESS=Koloa Neighborhood Center 3461B Weliweli Rd. Koloa 96756;X-APPLE-RADIUS=500;X-TITLE=3461B Weliweli Rd.:geo:-159.4639758,21.9035095
END:VEVENT
BEGIN:VEVENT
DTSTART;TZID=Pacific/Honolulu:20260130T110000
DTEND;TZID=Pacific/Honolulu:20260130T200000
DTSTAMP:20260422T063027
CREATED:20251114T080121Z
LAST-MODIFIED:20260105T154456Z
UID:10001872-1769770800-1769803200@kauaiconnect.com
SUMMARY:Mele Mākeke
DESCRIPTION:Join us this holiday season at Mele Mākeke in the former Macy’s Mens building for a new Hawaii marketplace of local and visiting vendors\, just for Kaua’i! \nShop local with Kaua’i local vendors and visiting Hawaii vendors – with new pop-in vendors each week. A wonderful opportunity to discover new gifts this year while supporting our community. \nThe marketplace is open:\nFri. Nov. 28\, 11 am to 8 pm\nSat. Nov. 29 to Sun. Nov. 30\, 11 am to 6 pm\nFri. Dec. 5\, 11 am to 8 pm\nSat. Dec. 6 to Sun. Dec. 7\, 11 am to 6 pm\nFri. Dec. 12\, 11 am to 8 pm\nSat. Dec. 13 to Sun. Dec. 14\, 11 am to 6 pm\nThu. Dec. 18 to Fri. Dec. 19\, 11 am to 8 pm\nSat. Dec. 20 to Sun. Dec. 21\, 11 am to 6 pm\nMon.\, Dec. 22 to Tue. Dec. 23\, 11 am to 6 pm\nWed.\, Dec. 24\, 11 am to 4 pm \nRegular Vendors include:\n‘Alohilanikinimea\n‘Aina Organics\nAloha Edible Souvenirs\nAloha Lemonade\nAlohi Lane Designs Hawaii\nCelina’s Closet\nHapa House\nEHA Culture\nHeart to Pieces\nHigh Vizion\nHomestead Leis & Crafts\nJust Jord\nKaua’i Kine Snacks\nKepola Co.\nKiara’s Western Belts\nKiyomi’s Sweet treats\nKorey’s Kreations\nLei Love Boutique\nLittle Pea in the Pod\nLovelea LLC\nLovellysea\nLovely Charms by Kay\nLuxi Kauai X Warrior Clothing\nMade by Malia\nMailani Hawaii\nMauahi Designs\nMehamei\nNyla + Co.\nRiman\nShiprek Hawaii\nSisters Goodies\nSugar Skull\nSumiko’s\nTsuka’s Charm Catchers\nWahine Kai Jewelry\nWhip It Lures
URL:https://kauaiconnect.com/event/mele-makeke-21/
LOCATION:Kukui Grove Shopping Center\, Lihue\, United States
CATEGORIES:Island Happenings,Market
ATTACH;FMTTYPE=image/jpeg:https://kauaiconnect.com/wp-content/uploads/Makeke-poster-smaller-cC5Uxc.jpg
GEO:21.9697415;-159.3787253
END:VEVENT
BEGIN:VEVENT
DTSTART;TZID=Pacific/Honolulu:20260131T080000
DTEND;TZID=Pacific/Honolulu:20260131T140000
DTSTAMP:20260422T063027
CREATED:20260101T141406Z
LAST-MODIFIED:20260131T174418Z
UID:10001990-1769846400-1769868000@kauaiconnect.com
SUMMARY:Artisans & Crafters Fair
DESCRIPTION:🌺 Artisans & Crafters Fair Event 🌺\nHosted by Kauai Island Crafters Fair \nDiscover the heart and soul of Kauai at our Artisans & Crafters Fair Event\, where creativity\, culture\, and community come together in the most inspiring way. With over 12 years of celebrating local talent\, the Kauai Island Crafters Fair has hosted these events becoming a beloved gathering place for those who value authenticity\, craftsmanship\, and the stories behind handmade goods. \nEach month\, we transform our indoor venue into a vibrant marketplace filled with the sights\, textures\, and aloha spirit that make Kauai so special. From meticulously handcrafted jewelry and island-inspired artwork to sewn textiles\, home décor\, apparel\, and one-of-a-kind gifts\, every booth offers something meaningful and truly made on Kauai. \nThis is more than shopping—it’s an experience. Wander the aisles\, meet the makers\, and connect directly with the artisans who pour their passion into every piece. Whether you’re a visitor searching for the perfect keepsake or a local supporting your community\, you’ll feel the magic that only a handmade market can bring. \n✨ Why You’ll Love Our Monthly Markets: \n\nHandmade with Aloha: Shop an ever-changing collection of locally crafted goods you won’t find anywhere else.\nMeet the Artisans: Hear the stories\, inspirations\, and traditions behind each creation.\nSupport Local: Your purchases directly support Kauai’s small businesses and creative community.\nEasy & Comfortable: Enjoy an indoor shopping experience with convenient outdoor parking.\n\nBring your family\, invite your friends\, and make it a monthly tradition to celebrate Kauai’s incredible creative talent. Every event offers something new\, something special\, and something unforgettable. \n📍 Location: Indoors | Convenient Outdoor Parking\n📣 Interested Vendors: kauaiislandcraftersfair@gmail.com\n📲 IG Follow & share the love: @kauaiislandcraftersfair \nCome experience the joy of handmade\, the power of community\, and the spirit of Kauai—we can’t wait to welcome you! \n#KauaiIslandCraftersFair #HandmadeWithAloha #ShopLocalKauai #SupportLocalArtisans #MadeOnKauai #KauaiCraftMarket #KauaiEvents #HawaiiCraftFair #ShopSmallKauai #KauaiGifts #KauaiCreatives #IslandMade #KauaiShopping
URL:https://kauaiconnect.com/event/artisans-crafters-fair-2/
LOCATION:Church of the Pacific\, Princeville\, 4520 Kapaka Street\, Princeville\, HI\, 96722\, United States
CATEGORIES:Island Happenings,Market
ATTACH;FMTTYPE=image/jpeg:https://kauaiconnect.com/wp-content/uploads/Bone-Turtle-Heart-carving-rotated-gZUwjE.jpg
ORGANIZER;CN="Debbie Yanagihara":MAILTO:kauaiislandcf@hotmail.com
GEO:22.2089875;-159.4643377
X-APPLE-STRUCTURED-LOCATION;VALUE=URI;X-ADDRESS=Church of the Pacific Princeville 4520 Kapaka Street Princeville HI 96722 United States;X-APPLE-RADIUS=500;X-TITLE=4520 Kapaka Street:geo:-159.4643377,22.2089875
END:VEVENT
END:VCALENDAR