BEGIN:VCALENDAR
VERSION:2.0
PRODID:-//Kauaʻi Connect - ECPv6.15.20//NONSGML v1.0//EN
CALSCALE:GREGORIAN
METHOD:PUBLISH
X-WR-CALNAME:Kauaʻi Connect
X-ORIGINAL-URL:https://kauaiconnect.com
X-WR-CALDESC:Events for Kauaʻi Connect
REFRESH-INTERVAL;VALUE=DURATION:PT1H
X-Robots-Tag:noindex
X-PUBLISHED-TTL:PT1H
BEGIN:VTIMEZONE
TZID:Pacific/Honolulu
BEGIN:STANDARD
TZOFFSETFROM:-1000
TZOFFSETTO:-1000
TZNAME:HST
DTSTART:20230101T000000
END:STANDARD
END:VTIMEZONE
BEGIN:VEVENT
DTSTART;TZID=Pacific/Honolulu:20241020T100000
DTEND;TZID=Pacific/Honolulu:20241020T160000
DTSTAMP:20260421T074703
CREATED:20240722T001910Z
LAST-MODIFIED:20241020T053402Z
UID:10000487-1729418400-1729440000@kauaiconnect.com
SUMMARY:Kauai Chocolate & Coffee Festival
DESCRIPTION:The 9th Kauaʻi Chocolate & Coffee Festival is a celebration of all things chocolate and coffee!
URL:https://kauaiconnect.com/event/kauai-chocolate-coffee-festival/
LOCATION:Kilohana Luau Pavilion\, Kaumualii Highway 3-2087\, Lihue\, HI\, 96766\, United States
CATEGORIES:Celebration,Featured Events,Island Happenings
ORGANIZER;CN="Amy Hammond":MAILTO:specialeventshawaii@gmail.com
GEO:21.9710957;-159.3923159
X-APPLE-STRUCTURED-LOCATION;VALUE=URI;X-ADDRESS=Kilohana Luau Pavilion Kaumualii Highway 3-2087 Lihue HI 96766 United States;X-APPLE-RADIUS=500;X-TITLE=Kaumualii Highway 3-2087:geo:-159.3923159,21.9710957
END:VEVENT
END:VCALENDAR