BEGIN:VCALENDAR
VERSION:2.0
PRODID:-//Kauaʻi Connect - ECPv6.15.20//NONSGML v1.0//EN
CALSCALE:GREGORIAN
METHOD:PUBLISH
X-ORIGINAL-URL:https://kauaiconnect.com
X-WR-CALDESC:Events for Kauaʻi Connect
REFRESH-INTERVAL;VALUE=DURATION:PT1H
X-Robots-Tag:noindex
X-PUBLISHED-TTL:PT1H
BEGIN:VTIMEZONE
TZID:Pacific/Honolulu
BEGIN:STANDARD
TZOFFSETFROM:-1000
TZOFFSETTO:-1000
TZNAME:HST
DTSTART:20230101T000000
END:STANDARD
END:VTIMEZONE
BEGIN:VEVENT
DTSTART;TZID=Pacific/Honolulu:20240901T060000
DTEND;TZID=Pacific/Honolulu:20240901T140000
DTSTAMP:20260425T002904
CREATED:20240603T220324Z
LAST-MODIFIED:20240901T234823Z
UID:10000274-1725170400-1725199200@kauaiconnect.com
SUMMARY:The 15th Annual Kauai Marathon and Half Marathon
DESCRIPTION:The Kauai Marathon and Half Marathon are one of the most beautiful destination races in the world today. Taking place on September 1\, 2024 this race is a great way to combine a unique experience and a get-away that only Kauai can offer. Participants pass hula dancers and Taiko drum troupes along the course while viewing striking mountain views. Each runner concludes his or her journey along one of the most beautiful oceanfront finish lines in road racing. Sign-up today at http://www.thekauaimarathon.com. Funding provided by Hawai‘i Tourism Authority through the Community Enrichment Program.
URL:https://kauaiconnect.com/event/the-15th-annual-kauai-marathon-and-half-marathon/
LOCATION:Grand Hyatt Kauai Resort and Spa\, 1571 Poipu Road\, Koloa\, HI\, 96756\, United States
CATEGORIES:Celebration,Featured Events,Island Happenings
ATTACH;FMTTYPE=image/jpeg:https://kauaiconnect.com/wp-content/uploads/TKM-2022-Da-Kine-Images-6194-copy-diGMH4.tmp_.jpg
ORGANIZER;CN="The Kauai Marathon":MAILTO:info@thekauaimarathon.com
GEO:21.8760234;-159.4395694
X-APPLE-STRUCTURED-LOCATION;VALUE=URI;X-ADDRESS=Grand Hyatt Kauai Resort and Spa 1571 Poipu Road Koloa HI 96756 United States;X-APPLE-RADIUS=500;X-TITLE=1571 Poipu Road:geo:-159.4395694,21.8760234
END:VEVENT
BEGIN:VEVENT
DTSTART;TZID=Pacific/Honolulu:20240907T090000
DTEND;TZID=Pacific/Honolulu:20240907T140000
DTSTAMP:20260425T002904
CREATED:20240805T225007Z
LAST-MODIFIED:20240907T011824Z
UID:10000518-1725699600-1725717600@kauaiconnect.com
SUMMARY:Barks & Buys Market at Kaua’i Humane Society
DESCRIPTION:Join us for a day of treasure hunting and supporting furry friends in need! Kaua’i Humane Society invites you to our Barks & Buys Market on Saturday\, September 7th\, from 9 am to 2 pm. \nWhether you’re hunting for hidden gems\, selling small business items\, or decluttering pre-loved goods\, all are welcome to buy and sell at this outdoor event held on the KHS grounds. \nLooking to Sell Some Stuff?: Reserve your 10 ft x 10 ft selling space for just $25. All vendors can choose to borrow up to 2 KHS chairs and the first 14 sign-ups will receive a KHS table to use during the event. \nSign up to be a vendor here: https://kauaihumane.org/event/market/ \nDonating Proceeds to KHS? We want to recognize you! 📢 \nWhether you’re a business\, organization\, or a group of friends/family donating profits\, when you donate a portion of your proceeds to help our animals we want to say thank you! \nAs a token of appreciation\, all donors will receive a shoutout on our social media pages and our post-event email newsletter sent to our supporters. \nYes\, there will be shelter dogs! \nIf you prefer not to be spotlighted\, all attendees and sellers can still enjoy the company and gratitude of our shelter dogs\, who will be walking the event with a volunteer. 🎉🐶 We ask that attendees do not bring their pets to this event for the safety of all people and animals. \nContact Info: email nicole@kauaihumane.org. \nDon’t miss out on the chance to make a difference while finding great deals.
URL:https://kauaiconnect.com/event/barks-buys-market-at-kauai-humane-society/
LOCATION:Kauai Humane Society\, Puhi\, HI\, United States
CATEGORIES:Celebration,Featured Events
ATTACH;FMTTYPE=image/png:https://kauaiconnect.com/wp-content/uploads/KHS-Market-Sept-7-Presentation-1-KUuVnq.tmp_.png
ORGANIZER;CN="Kauai Humane Society":MAILTO:support@kauaihumane.org
GEO:21.9669593;-159.3957205
END:VEVENT
END:VCALENDAR