BEGIN:VCALENDAR
VERSION:2.0
PRODID:-//Kauaʻi Connect - ECPv6.15.20//NONSGML v1.0//EN
CALSCALE:GREGORIAN
METHOD:PUBLISH
X-ORIGINAL-URL:https://kauaiconnect.com
X-WR-CALDESC:Events for Kauaʻi Connect
REFRESH-INTERVAL;VALUE=DURATION:PT1H
X-Robots-Tag:noindex
X-PUBLISHED-TTL:PT1H
BEGIN:VTIMEZONE
TZID:Pacific/Honolulu
BEGIN:STANDARD
TZOFFSETFROM:-1000
TZOFFSETTO:-1000
TZNAME:HST
DTSTART:20230101T000000
END:STANDARD
END:VTIMEZONE
BEGIN:VEVENT
DTSTART;TZID=Pacific/Honolulu:20240803T090000
DTEND;TZID=Pacific/Honolulu:20240803T213000
DTSTAMP:20260422T155328
CREATED:20240521T204402Z
LAST-MODIFIED:20240803T224905Z
UID:10000120-1722675600-1722720600@kauaiconnect.com
SUMMARY:22nd Annual Heiva i Kauai International Tahitian Dance & Fireknife Competition
DESCRIPTION:In 2024\, Heiva I Kauai celebrates the 22nd anniversary of a unique\, exciting and colorful Tahitian dance and drumming competition. This annual event provides a venue for performers of all ages to present their talent\, skill and cultural knowledge to an audience of more than 2\,500 attendees daily! On Saturday and Sunday\, August 3 and 4\, from 9am to 5pm\, come and enjoy this community-sponsored\, family-centered celebration of Tahitian culture at the Kapa`a Beach Park (4-1464 Kuhio Highway). Participants from Hawai`i\, the Mainland\, Taiwan and Japan\, with a range in age from toddler to elder\, perform solo and group competition and exhibition dances portraying legends and stories of Tahiti. Event admission is $8 at the door. Children aged 12 and under are admitted free. \nAfter opening ceremonies\, solo competition is held on Saturday\, starting with the youngest age groups and continuing through adults\, until the championship dance-offs in the afternoon. Solo categories include traditional otea vahine and tane\, for junior\, senior and master (age 26+) divisions. Group categories include otea\, aparima\, ahupurotu and drumming. Heiva I Kaua`i offers an amateur/youth group category for contestants under age 19. Group competition is scheduled for Sunday. \nOn Saturday evening we will be joined by iSiva FireKnife Crew as they will be hosting their “PO AFI” Samoan Fireknife competition open to all ages. Gates open at 6:00pm; competition and awards to follow. Admission $5 at the gate. Children 12 and under FREE. (admission is separate from Hevia I Kaua’i). For rules\, application\, and information\, email: isivafireknifecrew@gmail.com or visit them under the cultural tent at the Heiva. \nVendors offer an extensive array of Tahitian and other Pacific Island gifts\, jewelry\, art\, woodwork and clothing. Food vendors sell a variety of ethnic foods. Artists provide demonstrations of Polynesian crafts. \nHeiva I Kaua`i is grateful for support from the Hawaii Tourism Authority\, Kauai Visitors Bureau and the Kapa`a business community. This event is ADA accessible. Persons in need of auxiliary aid to take part\, please call the number below at least 7 days before the event. For information call 808-822-9447.
URL:https://kauaiconnect.com/event/22nd-annual-heiva-i-kauai-international-tahitian-dance-fireknife-competition/
LOCATION:Kapaa Beach Park\, Niu St\, Kapaa\, HI\, 96746\, United States
CATEGORIES:Celebration,Featured Events,Island Happenings
ATTACH;FMTTYPE=image/jpeg:https://kauaiconnect.com/wp-content/uploads/heiva-scaled-hDjlkq.tmp_.jpg
ORGANIZER;CN="Greg Askew":MAILTO:GregAskew2@gmail.com
GEO:22.0765472;-159.3172754
X-APPLE-STRUCTURED-LOCATION;VALUE=URI;X-ADDRESS=Kapaa Beach Park Niu St Kapaa HI 96746 United States;X-APPLE-RADIUS=500;X-TITLE=Niu St:geo:-159.3172754,22.0765472
END:VEVENT
BEGIN:VEVENT
DTSTART;TZID=Pacific/Honolulu:20240804T070000
DTEND;TZID=Pacific/Honolulu:20240804T150000
DTSTAMP:20260422T155328
CREATED:20240524T212107Z
LAST-MODIFIED:20240804T225103Z
UID:10000251-1722754800-1722783600@kauaiconnect.com
SUMMARY:17th Annual Never Forget Sandy G Golf Tournament
DESCRIPTION:Aloha! Please join YWCA of Kauaʻi in making a meaningful impact through our upcoming 17th Annual Never Forget Sandy G. Golf Tournament on Sunday\, August 4th. We’re determined to make this year’s tournament the most unforgettable\, enjoyable\, and impactful yet\, and we’d love for you to be a part of it.  \nIn addition to inviting you to participate in the tournament itself\, weʻre excited to share that golfer registration is now open. Whether you’re a seasoned player or just starting out\, we welcome you to join us for a day of camaraderie and community support on the greens. \nAs we strive for a hole-in-one in terms of fundraising\, we’re reaching out to sponsors and donors like you to help us make this event a resounding success. Your support can make a significant difference in our mission to eliminate family violence in all its forms\, providing treatment to those affected and offering the necessary skills for individuals to lead productive and caring lives. \nEvery dollar raised will directly benefit these initiatives and make a meaningful difference in the lives of countless individuals within our community. Your generous sponsorship or donated item would play a vital role in helping us achieve our fundraising goals. \nBy contributing to this event\, you’ll be directly supporting efforts such as providing safe shelter for those in crisis\, supporting the 24/7 hotline\, and offering counseling to survivors of sexual assault/abuse and intimate partner violence. Your support offers hope to individuals and families facing challenging circumstances. \nWe understand the significance of each contribution and want to express our gratitude in meaningful ways. As a sponsor\, your support will be acknowledged and appreciated throughout the event\, with your organization’s name recognized among attendees\, including fellow golf enthusiasts and community members passionate about making a positive difference. \nWhile we offer various sponsorship options\, our primary focus is ensuring that your contribution aligns with your values and aspirations. We’re open to discussing how we can tailor the sponsorship package to meet your specific preferences and objectives. \nAdditionally\, any golf items\, equipment\, or experiences you’re willing to donate will be used in the silent auction portion of the event\, directly contributing to our cause. \nThank you for considering our request to join us in this meaningful endeavor. Together\, we can make a difference in the lives of those who need it most. \nFeel free to contact our event coordinator\, Mj Akuna at (808) 245-5959 or mj@ywcakauai.org if you have any questions.
URL:https://kauaiconnect.com/event/17th-annual-never-forget-sandy-g-golf-tournament/
LOCATION:Ocean Course Hokuala\, 3351 Ho'Olaulea Way\, Lihue\, HI\, 96766
CATEGORIES:Celebration,Featured Events,Island Happenings
ATTACH;FMTTYPE=image/png:https://kauaiconnect.com/wp-content/uploads/POSTER-NFSG-2024-8.5-x-11-in-QXAE73.tmp_.png
ORGANIZER;CN="YWCA":MAILTO:jamie@ywcakauai.org
GEO:21.9700323;-159.3531674
X-APPLE-STRUCTURED-LOCATION;VALUE=URI;X-ADDRESS=Ocean Course Hokuala 3351 Ho'Olaulea Way Lihue HI 96766;X-APPLE-RADIUS=500;X-TITLE=3351 Ho'Olaulea Way:geo:-159.3531674,21.9700323
END:VEVENT
BEGIN:VEVENT
DTSTART;TZID=Pacific/Honolulu:20240804T090000
DTEND;TZID=Pacific/Honolulu:20240804T170000
DTSTAMP:20260422T155328
CREATED:20240521T204403Z
LAST-MODIFIED:20240804T225103Z
UID:10000121-1722762000-1722790800@kauaiconnect.com
SUMMARY:22nd Annual Heiva i Kauai International Tahitian Dance & Fireknife Competition
DESCRIPTION:In 2024\, Heiva I Kauai celebrates the 22nd anniversary of a unique\, exciting and colorful Tahitian dance and drumming competition. This annual event provides a venue for performers of all ages to present their talent\, skill and cultural knowledge to an audience of more than 2\,500 attendees daily! On Saturday and Sunday\, August 3 and 4\, from 9am to 5pm\, come and enjoy this community-sponsored\, family-centered celebration of Tahitian culture at the Kapa`a Beach Park (4-1464 Kuhio Highway). Participants from Hawai`i\, the Mainland\, Taiwan and Japan\, with a range in age from toddler to elder\, perform solo and group competition and exhibition dances portraying legends and stories of Tahiti. Event admission is $8 at the door. Children aged 12 and under are admitted free. \nAfter opening ceremonies\, solo competition is held on Saturday\, starting with the youngest age groups and continuing through adults\, until the championship dance-offs in the afternoon. Solo categories include traditional otea vahine and tane\, for junior\, senior and master (age 26+) divisions. Group categories include otea\, aparima\, ahupurotu and drumming. Heiva I Kaua`i offers an amateur/youth group category for contestants under age 19. Group competition is scheduled for Sunday. \nOn Saturday evening we will be joined by iSiva FireKnife Crew as they will be hosting their “PO AFI” Samoan Fireknife competition open to all ages. Gates open at 6:00pm; competition and awards to follow. Admission $5 at the gate. Children 12 and under FREE. (admission is separate from Hevia I Kaua’i). For rules\, application\, and information\, email: isivafireknifecrew@gmail.com or visit them under the cultural tent at the Heiva. \nVendors offer an extensive array of Tahitian and other Pacific Island gifts\, jewelry\, art\, woodwork and clothing. Food vendors sell a variety of ethnic foods. Artists provide demonstrations of Polynesian crafts. \nHeiva I Kaua`i is grateful for support from the Hawaii Tourism Authority\, Kauai Visitors Bureau and the Kapa`a business community. This event is ADA accessible. Persons in need of auxiliary aid to take part\, please call the number below at least 7 days before the event. For information call 808-822-9447.
URL:https://kauaiconnect.com/event/22nd-annual-heiva-i-kauai-international-tahitian-dance-fireknife-competition-2/
LOCATION:Kapaa Beach Park\, Niu St\, Kapaa\, HI\, 96746\, United States
CATEGORIES:Celebration,Featured Events,Island Happenings
ATTACH;FMTTYPE=image/jpeg:https://kauaiconnect.com/wp-content/uploads/heiva-scaled-hDjlkq.tmp_.jpg
ORGANIZER;CN="Greg Askew":MAILTO:GregAskew2@gmail.com
GEO:22.0765472;-159.3172754
X-APPLE-STRUCTURED-LOCATION;VALUE=URI;X-ADDRESS=Kapaa Beach Park Niu St Kapaa HI 96746 United States;X-APPLE-RADIUS=500;X-TITLE=Niu St:geo:-159.3172754,22.0765472
END:VEVENT
END:VCALENDAR